Felt | Verdi |
AlreadyApplied | True |
Aperture | 11.0 |
ApertureValue | 11.0 |
Artist | BARBRO-SKOGSET |
AutoLateralCA | 1 |
BitsPerSample | 8 |
Blacks2012 | -40 |
BlueHue | 0 |
BlueSaturation | 0 |
By-line | BARBRO-SKOGSET |
CameraProfile | Embedded |
CircleOfConfusion | 0.020 mm |
Clarity2012 | +27 |
ColorComponents | 3 |
ColorMode | RGB |
ColorNoiseReduction | 25 |
ColorNoiseReductionDetail | 50 |
ColorSpace | Uncalibrated |
ColorTemperature | 5150 |
ColorTransform | YCbCr |
Contrast | Normal |
Contrast2012 | +28 |
ConvertToGrayscale | False |
Copyright | BARBRO.SKOGSET |
CopyrightNotice | BARBRO.SKOGSET |
CreateDate | 2014:07:13 04:34:38 |
Creator | BARBRO-SKOGSET |
CreatorTool | PENTAX K-3 Ver. 1.10 |
CustomRendered | Normal |
DateCreated (1) | 2014:07:13 |
DateCreated | 2014:07:13 04:34:38 |
DateTimeOriginal | 2014:07:13 04:34:38 |
DefringeGreenAmount | 0 |
DefringeGreenHueHi | 60 |
DefringeGreenHueLo | 40 |
DefringePurpleAmount | 0 |
DefringePurpleHueHi | 70 |
DefringePurpleHueLo | 30 |
ExifImageHeight | 1849 |
ExifImageWidth | 2500 |
Exposure2012 | +0.10 |
ExposureCompensation | -0.7 |
ExposureMode | Manual |
ExposureProgram | Not Defined |
ExposureTime | 1/500 |
Flash | Off, Did not fire |
FNumber | 11.0 |
FocalLength | 170.0 mm |
FocalLength35efl | 170.0 mm (35 mm equivalent: 255.0 mm) |
FocalLengthIn35mmFormat | 255 mm |
Format | image/jpeg |
FOV | 8.1 deg |
GrainAmount | 0 |
GreenHue | 0 |
GreenSaturation | 0 |
HasCrop | False |
HasSettings | True |
Highlights2012 | +45 |
HueAdjustmentAqua | 0 |
HueAdjustmentBlue | 0 |
HueAdjustmentGreen | 0 |
HueAdjustmentMagenta | 0 |
HueAdjustmentOrange | 0 |
HueAdjustmentPurple | 0 |
HueAdjustmentRed | 0 |
HueAdjustmentYellow | 0 |
HyperfocalDistance | 131.16 m |
ICCProfileName | ProPhoto RGB |
ImageHeight | 1849 |
ImageSize | 2500x1849 |
ImageWidth | 2500 |
ISO | 160 |
Lens | smc PENTAX-DA 55-300mm F4-5.8 ED |
LensID (1) | 7 236 |
LensID | smc PENTAX-DA 55-300mm F4-5.8 ED |
LensInfo | 55-300mm f/4-5.8 |
LensManualDistortionAmount | 0 |
LensModel | smc PENTAX-DA 55-300mm F4-5.8 ED |
LensProfileChromaticAberrationScale | 100 |
LensProfileDistortionScale | 100 |
LensProfileEnable | 1 |
LensProfileFilename | PENTAX (smc PENTAX-DA 55-300mm F4-5.8 ED) - RAW.lcp |
LensProfileName | Adobe (smc PENTAX-DA 55-300mm F4-5.8 ED) |
LensProfileSetup | Custom |
LensProfileVignettingScale | 100 |
LightValue | 15.2 |
LuminanceAdjustmentAqua | 0 |
LuminanceAdjustmentBlue | 0 |
LuminanceAdjustmentGreen | 0 |
LuminanceAdjustmentMagenta | 0 |
LuminanceAdjustmentOrange | 0 |
LuminanceAdjustmentPurple | 0 |
LuminanceAdjustmentRed | 0 |
LuminanceAdjustmentYellow | 0 |
LuminanceSmoothing | 0 |
Make | RICOH IMAGING COMPANY, LTD. |
Megapixels | 4.6 |
MeteringMode | Multi-segment |
Model | PENTAX K-3 |
ModifyDate (1) | 2014:07:20 12:39:46+02:00 |
ModifyDate | 2014:07:20 12:39:46 |
Orientation | Horizontal (normal) |
ParametricDarks | 0 |
ParametricHighlights | 0 |
ParametricHighlightSplit | 75 |
ParametricLights | 0 |
ParametricMidtoneSplit | 50 |
ParametricShadows | 0 |
ParametricShadowSplit | 25 |
PerspectiveAspect | 0 |
PerspectiveHorizontal | 0 |
PerspectiveRotate | 0.0 |
PerspectiveScale | 100 |
PerspectiveUpright | 0 |
PerspectiveVertical | 0 |
PhotographicSensitivity | 160 |
PostCropVignetteAmount | 0 |
ProcessVersion | 6.7 |
ProfileDescription | ProPhoto RGB |
Rating | 0 |
RawFileName | _IMG5863.DNG |
RedHue | 0 |
RedSaturation | 0 |
Rights | BARBRO.SKOGSET |
Saturation (1) | +13 |
Saturation | Normal |
SaturationAdjustmentAqua | 0 |
SaturationAdjustmentBlue | 0 |
SaturationAdjustmentGreen | 0 |
SaturationAdjustmentMagenta | 0 |
SaturationAdjustmentOrange | 0 |
SaturationAdjustmentPurple | 0 |
SaturationAdjustmentRed | 0 |
SaturationAdjustmentYellow | 0 |
ScaleFactor35efl | 1.5 |
SceneCaptureType | Standard |
SensingMethod | One-chip color area |
SensitivityType | Standard Output Sensitivity |
Shadows2012 | +81 |
ShadowTint | 0 |
SharpenDetail | 25 |
SharpenEdgeMasking | 0 |
SharpenRadius | +1.0 |
Sharpness (1) | 25 |
Sharpness | Normal |
ShutterSpeed | 1/500 |
ShutterSpeedValue | 1/500 |
Software | Adobe Photoshop CC 2014 (Windows) |
SplitToningBalance | 0 |
SplitToningHighlightHue | 0 |
SplitToningHighlightSaturation | 0 |
SplitToningShadowHue | 0 |
SplitToningShadowSaturation | 0 |
StandardOutputSensitivity | 160 |
SubjectDistanceRange | Distant |
Tint | +12 |
ToneCurveName2012 | Linear |
ToneCurvePV2012 | 0, 0, 255, 255 |
ToneCurvePV2012Blue | 0, 0, 255, 255 |
ToneCurvePV2012Green | 0, 0, 255, 255 |
ToneCurvePV2012Red | 0, 0, 255, 255 |
URL_List | |
Version | 8.0 |
Vibrance | +8 |
VignetteAmount | 0 |
WhiteBalance (1) | Custom |
WhiteBalance | Auto |
Whites2012 | -3 |