Felt | Verdi |
AlreadyApplied | True |
Aperture | 2.0 |
ApertureValue | 2.0 |
ApproximateFocusDistance | 4294967295 |
Artist | Teodor Tomter Liland |
AutoLateralCA | 0 |
AutoWhiteVersion | 134348800 |
BitsPerSample | 8 |
Blacks2012 | 0 |
BlueHue | 0 |
BlueSaturation | 0 |
By-line | Teodor Tomter Liland |
CameraProfile | Embedded |
CircleOfConfusion | 0.030 mm |
Clarity2012 | 0 |
ColorComponents | 3 |
ColorNoiseReduction | 25 |
ColorNoiseReductionDetail | 50 |
ColorNoiseReductionSmoothness | 50 |
ColorTransform | YCbCr |
Contrast | Normal |
Contrast2012 | 0 |
ConvertToGrayscale | False |
CopyrightFlag | True |
CreateDate | 2014:03:12 15:04:32 |
Creator | Teodor Tomter Liland |
CreatorTool | Adobe Photoshop Lightroom 5.0 (Windows) |
CreatorWorkURL | www.teodortomter.no |
CropAngle | 4.44336 |
CropBottom | 0.954629 |
CropConstrainToWarp | 0 |
CropLeft | 0.04188 |
CropRight | 0.95812 |
CropTop | 0.035535 |
CustomRendered | Normal |
DateCreated (1) | 2014:03:12 |
DateCreated | 2014:03:12 15:04:32.001 |
DateTimeOriginal | 2014:03:12 15:04:32 |
DefringeGreenAmount | 0 |
DefringeGreenHueHi | 60 |
DefringeGreenHueLo | 40 |
DefringePurpleAmount | 0 |
DefringePurpleHueHi | 70 |
DefringePurpleHueLo | 30 |
DigitalZoomRatio | 1 |
DOF | inf (20.39 m - inf) |
Exposure2012 | 0.00 |
ExposureCompensation | 0 |
ExposureMode | Manual |
ExposureProgram | Manual |
ExposureTime | 1/1000 |
Flash | Off, Did not fire |
FNumber | 2.0 |
FocalLength | 35.0 mm |
FocalLength35efl | 35.0 mm (35 mm equivalent: 35.0 mm) |
FocalLengthIn35mmFormat | 35 mm |
Format | image/jpeg |
FOV | 54.4 deg |
GainControl | None |
GrainAmount | 0 |
GreenHue | 0 |
GreenSaturation | 0 |
HasCrop | True |
HasExtendedXMP | 7055F85575FDBCF7180270245D1341CF |
HasSettings | True |
Highlights2012 | 0 |
HueAdjustmentAqua | 0 |
HueAdjustmentBlue | 0 |
HueAdjustmentGreen | 0 |
HueAdjustmentMagenta | 0 |
HueAdjustmentOrange | 0 |
HueAdjustmentPurple | 0 |
HueAdjustmentRed | 0 |
HueAdjustmentYellow | 0 |
HyperfocalDistance | 20.39 m |
ImageHeight | 720 |
ImageNumber | 27829 |
ImageSize | 1280x720 |
ImageWidth | 1280 |
IncrementalTemperature | 0 |
IncrementalTint | 0 |
ISO | 100 |
Keywords | Alby, Mercedes, Mercedes Benz SLS AMG, SLS AMG, video |
Lens | 35.0 mm f/1.4 |
LensID (1) | 145 |
LensID | Sigma 35mm F1.4 DG HSM |
LensInfo | 35mm f/1.4 |
LensManualDistortionAmount | 0 |
LensModel | 35.0 mm f/1.4 |
LensProfileEnable | 0 |
LensProfileSetup | LensDefaults |
LightSource | Unknown |
LightValue | 12.0 |
LuminanceAdjustmentAqua | 0 |
LuminanceAdjustmentBlue | 0 |
LuminanceAdjustmentGreen | 0 |
LuminanceAdjustmentMagenta | 0 |
LuminanceAdjustmentOrange | 0 |
LuminanceAdjustmentPurple | 0 |
LuminanceAdjustmentRed | 0 |
LuminanceAdjustmentYellow | 0 |
LuminanceNoiseReductionContrast | 0 |
LuminanceNoiseReductionDetail | 50 |
LuminanceSmoothing | 10 |
Make | NIKON CORPORATION |
Marked | True |
MaxApertureValue | 1.4 |
Megapixels | 0.922 |
MeteringMode | Multi-segment |
Model | NIKON D800 |
ModifyDate (1) | 2015:02:17 22:02:23+01:00 |
ModifyDate | 2015:02:17 22:02:23 |
ObjectName | Mercedes Benz SLS AMG |
PaintCorrectionActive | true |
PaintCorrectionAmount | 1.000000 |
PaintCorrectionBrightness | 0.000000 |
PaintCorrectionClarity2012 (1) | 0.095240 |
PaintCorrectionClarity2012 (6) | 0.166670 |
PaintCorrectionClarity2012 | 0.000000 |
PaintCorrectionContrast2012 (6) | 0.214290 |
PaintCorrectionContrast2012 | 0.000000 |
PaintCorrectionDefringe | 0.000000 |
PaintCorrectionExposure2012 (12) | 1.000000 |
PaintCorrectionExposure2012 (2) | 0.476250 |
PaintCorrectionExposure2012 (3) | 0.738000 |
PaintCorrectionExposure2012 (4) | 0.071500 |
PaintCorrectionExposure2012 (6) | 0.023750 |
PaintCorrectionExposure2012 (8) | 0.119000 |
PaintCorrectionExposure2012 | 0.000000 |
PaintCorrectionHighlights2012 (9) | 1.000000 |
PaintCorrectionHighlights2012 | 0.000000 |
PaintCorrectionHue | 240.000000 |
PaintCorrectionLuminanceNoise (1) | 0.214290 |
PaintCorrectionLuminanceNoise | 0.000000 |
PaintCorrectionMaskCenterWeight (1) | 0.597666 |
PaintCorrectionMaskCenterWeight (11) | 0.049246 |
PaintCorrectionMaskCenterWeight (15) | 0.419401 |
PaintCorrectionMaskCenterWeight (2) | 0.198184 |
PaintCorrectionMaskCenterWeight (29) | 0.240684 |
PaintCorrectionMaskCenterWeight (37) | 0.105656 |
PaintCorrectionMaskCenterWeight | 0.000000 |
PaintCorrectionMaskFlow | 1.000000 |
PaintCorrectionMaskRadius (1) | 0.046457 |
PaintCorrectionMaskRadius (10) | 0.022132 |
PaintCorrectionMaskRadius (11) | 0.055148 |
PaintCorrectionMaskRadius (13) | 0.038926 |
PaintCorrectionMaskRadius (14) | 0.015926 |
PaintCorrectionMaskRadius (15) | 0.008029 |
PaintCorrectionMaskRadius (17) | 0.001996 |
PaintCorrectionMaskRadius (19) | 0.016420 |
PaintCorrectionMaskRadius (2) | 0.035309 |
PaintCorrectionMaskRadius (3) | 0.455200 |
PaintCorrectionMaskRadius (34) | 0.001090 |
PaintCorrectionMaskRadius (37) | 0.006581 |
PaintCorrectionMaskRadius (38) | 0.005849 |
PaintCorrectionMaskRadius (40) | 0.080321 |
PaintCorrectionMaskRadius (41) | 0.056680 |
PaintCorrectionMaskRadius (42) | 0.005313 |
PaintCorrectionMaskRadius (43) | 0.006034 |
PaintCorrectionMaskRadius (44) | 0.021129 |
PaintCorrectionMaskRadius (47) | 0.003318 |
PaintCorrectionMaskRadius (5) | 0.009374 |
PaintCorrectionMaskRadius (52) | 0.001826 |
PaintCorrectionMaskRadius (53) | 0.063216 |
PaintCorrectionMaskRadius (6) | 0.022941 |
PaintCorrectionMaskRadius (7) | 0.011927 |
PaintCorrectionMaskRadius (8) | 0.081644 |
PaintCorrectionMaskRadius (9) | 0.062731 |
PaintCorrectionMaskRadius | 0.095433 |
PaintCorrectionMaskValue (28) | 0.000000 |
PaintCorrectionMaskValue | 1.000000 |
PaintCorrectionMaskWhat | Mask/Paint |
PaintCorrectionMoire | 0.000000 |
PaintCorrectionSaturation (21) | 1.000000 |
PaintCorrectionSaturation | 0.000000 |
PaintCorrectionShadows2012 (6) | 0.047620 |
PaintCorrectionShadows2012 | 0.000000 |
PaintCorrectionSharpness (1) | 0.738100 |
PaintCorrectionSharpness (10) | -0.510000 |
PaintCorrectionSharpness (11) | -0.023810 |
PaintCorrectionSharpness (8) | 0.000000 |
PaintCorrectionSharpness | -1.000000 |
PaintCorrectionTemperature | 0.000000 |
PaintCorrectionTint | 0.000000 |
PaintCorrectionWhat | Correction |
ParametricDarks | 0 |
ParametricHighlights | 0 |
ParametricHighlightSplit | 75 |
ParametricLights | 0 |
ParametricMidtoneSplit | 50 |
ParametricShadows | 0 |
ParametricShadowSplit | 25 |
PerspectiveAspect | 0 |
PerspectiveHorizontal | 0 |
PerspectiveRotate | 0.0 |
PerspectiveScale | 100 |
PerspectiveUpright | 0 |
PerspectiveVertical | 0 |
PostCropVignetteAmount | -38 |
PostCropVignetteFeather | 50 |
PostCropVignetteHighlightContrast | 0 |
PostCropVignetteMidpoint | 50 |
PostCropVignetteRoundness | 0 |
PostCropVignetteStyle | 1 |
ProcessVersion | 6.7 |
ProfileDescription | sRGB IEC61966-2.1 |
Rating | 5 |
RedHue | 0 |
RedSaturation | 0 |
Saturation (1) | +15 |
Saturation | Normal |
SaturationAdjustmentAqua | 0 |
SaturationAdjustmentBlue | -100 |
SaturationAdjustmentGreen | 0 |
SaturationAdjustmentMagenta | 0 |
SaturationAdjustmentOrange | 0 |
SaturationAdjustmentPurple | 0 |
SaturationAdjustmentRed | 0 |
SaturationAdjustmentYellow | 0 |
ScaleFactor35efl | 1.0 |
SceneCaptureType | Standard |
SceneType | Directly photographed |
SensingMethod | One-chip color area |
SensitivityType | Recommended Exposure Index |
SerialNumber | 6094072 |
Shadows2012 | 0 |
ShadowTint | 0 |
SharpenDetail | 25 |
SharpenEdgeMasking | 80 |
SharpenRadius | +1.5 |
Sharpness (1) | 40 |
Sharpness | Normal |
ShutterSpeed | 1/1000 |
ShutterSpeedValue | 1/1000 |
Software | Adobe Photoshop Lightroom 5.0 (Windows) |
SplitToningBalance | 0 |
SplitToningHighlightHue | 0 |
SplitToningHighlightSaturation | 0 |
SplitToningShadowHue | 0 |
SplitToningShadowSaturation | 0 |
Subject | Alby, Mercedes, Mercedes Benz SLS AMG, SLS AMG, video |
SubjectDistanceRange | Unknown |
Title | Mercedes Benz SLS AMG |
ToneCurveName2012 | Linear |
ToneCurvePV2012 | 0, 0, 255, 255 |
ToneCurvePV2012Blue | 0, 0, 255, 255 |
ToneCurvePV2012Green | 0, 0, 255, 255 |
ToneCurvePV2012Red | 0, 0, 255, 255 |
UserComment | teodortomter.no |
Version | 8.2 |
Vibrance | +12 |
VignetteAmount | 0 |
WhiteBalance (1) | As Shot |
WhiteBalance | Auto |
Whites2012 | +19 |