Felt | Verdi |
AlreadyApplied | True |
Aperture | 1.4 |
ApertureValue | 1.4 |
ApproximateFocusDistance | 1.64 |
Artist | Redijus Anikanovas |
AutoLateralCA | 0 |
BitsPerSample | 8 |
Blacks2012 | +15 |
BlueHue | -5 |
BlueSaturation | +15 |
By-line | Redijus Anikanovas |
CameraProfile | Kodak Gold 100 - C |
CircleOfConfusion | 0.031 mm |
Clarity2012 | +5 |
ColorComponents | 3 |
ColorNoiseReduction | 25 |
ColorNoiseReductionDetail | 50 |
ColorTemperature | 5350 |
Contrast2012 | 0 |
ConvertToGrayscale | False |
CreateDate (1) | 2014:08:22 19:39:31.35 |
CreateDate | 2014:08:22 19:39:31 |
Creator | Redijus Anikanovas |
CreatorTool | Adobe Photoshop Lightroom 4.4 (Windows) |
CreatorWorkURL | www.redijus.com |
CropAngle | -0.232734 |
CropBottom | 0.993943 |
CropConstrainToWarp | 0 |
CropHeight | 2430 |
CropLeft | 0.051639 |
CropRight | 0.998318 |
CropTop | 0.055575 |
CropUnit | pixels |
CropWidth | 3645 |
CustomRendered | Normal |
DateCreated (1) | 2014:08:22 19:39:31.35 |
DateCreated | 2014:08:22 |
DateTimeOriginal | 2014:08:22 19:39:31 |
DefringeGreenAmount | 0 |
DefringeGreenHueHi | 60 |
DefringeGreenHueLo | 40 |
DefringePurpleAmount | 0 |
DefringePurpleHueHi | 70 |
DefringePurpleHueLo | 30 |
DOF | 0.03 m (1.62 - 1.66 m) |
Exposure2012 | +0.50 |
ExposureCompensation | 0 |
ExposureMode | Manual |
ExposureProgram | Manual |
ExposureTime | 1/500 |
Firmware | 2.1.2 |
Flash | Off, Did not fire |
FlashCompensation | 0 |
FNumber | 1.4 |
FocalLength | 85.0 mm |
FocalLength35efl | 85.0 mm (35 mm equivalent: 83.0 mm) |
Format | image/jpeg |
FOV | 24.5 deg |
GrainAmount | 0 |
GreenHue | +35 |
GreenSaturation | 0 |
HasCrop | True |
HasSettings | True |
Highlights2012 | -25 |
HueAdjustmentAqua | +10 |
HueAdjustmentBlue | -5 |
HueAdjustmentGreen | +10 |
HueAdjustmentMagenta | +20 |
HueAdjustmentOrange | 0 |
HueAdjustmentPurple | +20 |
HueAdjustmentRed | +10 |
HueAdjustmentYellow | 0 |
HyperfocalDistance | 167.63 m |
ImageHeight | 1536 |
ImageNumber | 0 |
ImageSize | 1024x1536 |
ImageWidth | 1024 |
ISO | 1600 |
Keywords | 2014, august, colour, destination wedding photographer, lina&ignas, lithuania, redijus, redijus photography, vilnius, wedding, wedding photographer, www.redijus.com |
Lens | 85mm |
LensID (1) | 169 |
LensID | Sigma 85mm f/1.4 EX DG HSM |
LensInfo | 85mm f/? |
LensManualDistortionAmount | 0 |
LensModel | 85mm |
LensProfileEnable | 0 |
LensProfileSetup | LensDefaults |
LightValue | 5.9 |
LuminanceAdjustmentAqua | +10 |
LuminanceAdjustmentBlue | -15 |
LuminanceAdjustmentGreen | -5 |
LuminanceAdjustmentMagenta | +20 |
LuminanceAdjustmentOrange | 0 |
LuminanceAdjustmentPurple | +20 |
LuminanceAdjustmentRed | +5 |
LuminanceAdjustmentYellow | +10 |
LuminanceNoiseReductionContrast | 0 |
LuminanceNoiseReductionDetail | 50 |
LuminanceSmoothing | 20 |
Make | Canon |
MaxApertureValue | 1.4 |
Megapixels | 1.6 |
MeteringMode | Partial |
Model | Canon EOS 5D Mark II |
ModifyDate (1) | 2014:09:25 12:52:02+03:00 |
ModifyDate | 2014:09:25 12:52:02 |
PaintCorrectionActive | true |
PaintCorrectionAmount | 1.000000 |
PaintCorrectionBrightness | 0.000000 |
PaintCorrectionClarity2012 | 0.000000 |
PaintCorrectionContrast2012 | 0.000000 |
PaintCorrectionDefringe | 0.000000 |
PaintCorrectionExposure2012 | -0.075000 |
PaintCorrectionHighlights2012 | 0.000000 |
PaintCorrectionHue | 240.000000 |
PaintCorrectionLuminanceNoise | 0.000000 |
PaintCorrectionMaskCenterWeight | 0.186740 |
PaintCorrectionMaskFlow | 1.000000 |
PaintCorrectionMaskRadius (1) | 0.122399 |
PaintCorrectionMaskRadius (3) | 0.115560 |
PaintCorrectionMaskRadius | 0.082116 |
PaintCorrectionMaskValue | 1.000000 |
PaintCorrectionMaskWhat | Mask/Paint |
PaintCorrectionMoire | 0.000000 |
PaintCorrectionSaturation | 0.000000 |
PaintCorrectionShadows2012 | 0.000000 |
PaintCorrectionSharpness | 0.000000 |
PaintCorrectionTemperature | 0.000000 |
PaintCorrectionTint | 0.000000 |
PaintCorrectionWhat | Correction |
ParametricDarks | 0 |
ParametricHighlights | 0 |
ParametricHighlightSplit | 75 |
ParametricLights | 0 |
ParametricMidtoneSplit | 60 |
ParametricShadows | 0 |
ParametricShadowSplit | 14 |
PerspectiveHorizontal | 0 |
PerspectiveRotate | 0.0 |
PerspectiveScale | 100 |
PerspectiveVertical | 0 |
PostCropVignetteAmount | -20 |
PostCropVignetteFeather | 50 |
PostCropVignetteHighlightContrast | 0 |
PostCropVignetteMidpoint | 50 |
PostCropVignetteRoundness | 0 |
PostCropVignetteStyle | 1 |
ProcessVersion | 6.7 |
ProfileDescription | sRGB IEC61966-2.1 |
RedHue | +20 |
RedSaturation | +5 |
Saturation | -15 |
SaturationAdjustmentAqua | -50 |
SaturationAdjustmentBlue | -30 |
SaturationAdjustmentGreen | -50 |
SaturationAdjustmentMagenta | -40 |
SaturationAdjustmentOrange | -15 |
SaturationAdjustmentPurple | -50 |
SaturationAdjustmentRed | -40 |
SaturationAdjustmentYellow | -15 |
ScaleFactor35efl | 1.0 |
SceneCaptureType | Standard |
SerialNumber | 4131916015 |
Shadows2012 | +30 |
ShadowTint | -2 |
SharpenDetail | 25 |
SharpenEdgeMasking | 25 |
SharpenRadius | +1.0 |
Sharpness | 66 |
ShutterSpeed | 1/500 |
ShutterSpeedValue | 1/500 |
Software | PhotoScape |
SplitToningBalance | 0 |
SplitToningHighlightHue | 0 |
SplitToningHighlightSaturation | 0 |
SplitToningShadowHue | 0 |
SplitToningShadowSaturation | 0 |
Subject | 2014, august, colour, destination wedding photographer, lina&ignas, lithuania, redijus, redijus photography, vilnius, wedding, wedding photographer, www.redijus.com |
Tint | +13 |
ToneCurveName2012 | Gold 100 +++ |
ToneCurvePV2012 | 0, 55, 35, 58, 77, 74, 131, 127, 185, 188, 255, 250 |
ToneCurvePV2012Blue | 0, 0, 21, 13, 80, 70, 119, 122, 183, 197, 255, 255 |
ToneCurvePV2012Green | 0, 0, 27, 11, 120, 122, 181, 196, 255, 255 |
ToneCurvePV2012Red | 0, 0, 31, 7, 72, 51, 117, 123, 179, 197, 255, 255 |
Version | 7.4 |
Vibrance | 0 |
VignetteAmount | 0 |
WhiteBalance (1) | As Shot |
WhiteBalance | Auto |
Whites2012 | -45 |