Felt | Verdi |
AlreadyApplied | True |
Aperture | 22.0 |
ApertureValue | 22.0 |
ApproximateFocusDistance | 18.8 |
AutoLateralCA | 0 |
AutoWhiteVersion | 134348800 |
BitsPerSample | 8 |
Blacks2012 | -55 |
BlueHue | 0 |
BlueSaturation | 0 |
CameraProfile | Adobe Standard |
CFAPattern | [Red,Green][Green,Blue] |
CircleOfConfusion | 0.020 mm |
Clarity2012 | +29 |
ColorComponents | 3 |
ColorNoiseReduction | 25 |
ColorNoiseReductionDetail | 50 |
ColorNoiseReductionSmoothness | 50 |
ColorTemperature | 8005 |
ColorTransform | YCbCr |
Contrast | Normal |
Contrast2012 | -86 |
ConvertToGrayscale | False |
CreateDate (1) | 2015:06:18 18:12:43.40 |
CreateDate | 2015:06:18 18:12:43 |
CreatorTool | Adobe Photoshop Lightroom 6.1 (Windows) |
CropAngle | -1.49878 |
CropBottom | 0.906518 |
CropConstrainToWarp | 0 |
CropLeft | 0.069428 |
CropRight | 0.930572 |
CropTop | 0.093482 |
CustomRendered | Normal |
DateCreated (1) | 2015:06:18 18:12:43.40 |
DateCreated | 2015:06:18 |
DateTimeOriginal | 2015:06:18 18:12:43 |
DefringeGreenAmount | 0 |
DefringeGreenHueHi | 60 |
DefringeGreenHueLo | 40 |
DefringePurpleAmount | 0 |
DefringePurpleHueHi | 70 |
DefringePurpleHueLo | 30 |
Dehaze | 0 |
DigitalZoomRatio | 1 |
DOF | 8.04 m (15.60 - 23.65 m) |
Exposure2012 | -2.02 |
ExposureCompensation | 0 |
ExposureMode | Manual |
ExposureProgram | Manual |
ExposureTime | 1 |
Flash | No Flash |
FNumber | 22.0 |
FocalLength | 200.0 mm |
FocalLength35efl | 200.0 mm (35 mm equivalent: 300.0 mm) |
FocalLengthIn35mmFormat | 300 mm |
Format | image/jpeg |
FOV | 6.9 deg |
GainControl | None |
GrainAmount | 0 |
GreenHue | 0 |
GreenSaturation | 0 |
HasCrop | True |
HasExtendedXMP | AC7D7C539ADFA32634DDBE01CCBECA2B |
HasSettings | True |
Highlights2012 | +45 |
HueAdjustmentAqua | 0 |
HueAdjustmentBlue | 0 |
HueAdjustmentGreen | 0 |
HueAdjustmentMagenta | 0 |
HueAdjustmentOrange | 0 |
HueAdjustmentPurple | 0 |
HueAdjustmentRed | 0 |
HueAdjustmentYellow | 0 |
HyperfocalDistance | 90.77 m |
ImageHeight | 2764 |
ImageNumber | 7835 |
ImageSize | 4173x2764 |
ImageWidth | 4173 |
ISO | 100 |
Lens | 18.0-200.0 mm f/3.5-6.3 |
LensID (1) | 144 |
LensID | Sigma 18-200mm F3.5-6.3 II DC OS HSM |
LensInfo | 18-200mm f/3.5-6.3 |
LensManualDistortionAmount | 0 |
LensModel | 18.0-200.0 mm f/3.5-6.3 |
LensProfileEnable | 0 |
LensProfileSetup | LensDefaults |
LightSource | Unknown |
LightValue | 8.9 |
LuminanceAdjustmentAqua | 0 |
LuminanceAdjustmentBlue | 0 |
LuminanceAdjustmentGreen | 0 |
LuminanceAdjustmentMagenta | 0 |
LuminanceAdjustmentOrange | 0 |
LuminanceAdjustmentPurple | 0 |
LuminanceAdjustmentRed | 0 |
LuminanceAdjustmentYellow | 0 |
LuminanceSmoothing | 0 |
Make | NIKON CORPORATION |
MaxApertureValue | 6.3 |
Megapixels | 11.5 |
MeteringMode | Spot |
Model | NIKON D5100 |
ModifyDate (1) | 2015:07:16 14:54:27+02:00 |
ModifyDate | 2015:07:16 14:54:27 |
Orientation | Horizontal (normal) |
PaintCorrectionActive | true |
PaintCorrectionAmount | 1.000000 |
PaintCorrectionBrightness | 0.000000 |
PaintCorrectionClarity2012 (1) | 0.264370 |
PaintCorrectionClarity2012 | 0.000000 |
PaintCorrectionContrast2012 | 0.000000 |
PaintCorrectionDefringe | 0.000000 |
PaintCorrectionExposure2012 (2) | 0.080500 |
PaintCorrectionExposure2012 | 0.000000 |
PaintCorrectionHighlights2012 | 0.000000 |
PaintCorrectionHue | 240.000000 |
PaintCorrectionLocalBlacks2012 | 0.000000 |
PaintCorrectionLocalWhites2012 | 0.000000 |
PaintCorrectionLuminanceNoise | 0.000000 |
PaintCorrectionMaskCenterWeight (181) | 0.102357 |
PaintCorrectionMaskCenterWeight (29) | 1.000000 |
PaintCorrectionMaskCenterWeight (5) | 0.015104 |
PaintCorrectionMaskCenterWeight (9) | 0.458685 |
PaintCorrectionMaskCenterWeight | 0.092470 |
PaintCorrectionMaskFlow (11) | 0.010000 |
PaintCorrectionMaskFlow (184) | 0.789000 |
PaintCorrectionMaskFlow | 1.000000 |
PaintCorrectionMaskRadius (1) | 0.216649 |
PaintCorrectionMaskRadius (100) | 0.002405 |
PaintCorrectionMaskRadius (103) | 0.000904 |
PaintCorrectionMaskRadius (114) | 0.003682 |
PaintCorrectionMaskRadius (119) | 0.004352 |
PaintCorrectionMaskRadius (12) | 0.066735 |
PaintCorrectionMaskRadius (129) | 0.005044 |
PaintCorrectionMaskRadius (130) | 0.002099 |
PaintCorrectionMaskRadius (132) | 0.004014 |
PaintCorrectionMaskRadius (135) | 0.001798 |
PaintCorrectionMaskRadius (14) | 0.118920 |
PaintCorrectionMaskRadius (145) | 0.006867 |
PaintCorrectionMaskRadius (146) | 0.125792 |
PaintCorrectionMaskRadius (148) | 0.086020 |
PaintCorrectionMaskRadius (15) | 0.013418 |
PaintCorrectionMaskRadius (152) | 0.067450 |
PaintCorrectionMaskRadius (155) | 0.011344 |
PaintCorrectionMaskRadius (164) | 0.003033 |
PaintCorrectionMaskRadius (166) | 0.004695 |
PaintCorrectionMaskRadius (17) | 0.008395 |
PaintCorrectionMaskRadius (170) | 0.000763 |
PaintCorrectionMaskRadius (171) | 0.006261 |
PaintCorrectionMaskRadius (174) | 0.005353 |
PaintCorrectionMaskRadius (176) | 0.002004 |
PaintCorrectionMaskRadius (177) | 0.001206 |
PaintCorrectionMaskRadius (179) | 0.004358 |
PaintCorrectionMaskRadius (180) | 0.002336 |
PaintCorrectionMaskRadius (182) | 0.003939 |
PaintCorrectionMaskRadius (185) | 0.005654 |
PaintCorrectionMaskRadius (187) | 0.006725 |
PaintCorrectionMaskRadius (188) | 0.002398 |
PaintCorrectionMaskRadius (189) | 0.011227 |
PaintCorrectionMaskRadius (19) | 0.016058 |
PaintCorrectionMaskRadius (192) | 0.001617 |
PaintCorrectionMaskRadius (195) | 0.004909 |
PaintCorrectionMaskRadius (197) | 0.001238 |
PaintCorrectionMaskRadius (199) | 0.032941 |
PaintCorrectionMaskRadius (2) | 0.162843 |
PaintCorrectionMaskRadius (20) | 0.038449 |
PaintCorrectionMaskRadius (202) | 0.044054 |
PaintCorrectionMaskRadius (208) | 0.002699 |
PaintCorrectionMaskRadius (210) | 0.002007 |
PaintCorrectionMaskRadius (212) | 0.001358 |
PaintCorrectionMaskRadius (216) | 0.004012 |
PaintCorrectionMaskRadius (22) | 0.011885 |
PaintCorrectionMaskRadius (220) | 0.001516 |
PaintCorrectionMaskRadius (222) | 0.003623 |
PaintCorrectionMaskRadius (223) | 0.001841 |
PaintCorrectionMaskRadius (226) | 0.000751 |
PaintCorrectionMaskRadius (23) | 0.002595 |
PaintCorrectionMaskRadius (232) | 0.000899 |
PaintCorrectionMaskRadius (233) | 0.001202 |
PaintCorrectionMaskRadius (234) | 0.006339 |
PaintCorrectionMaskRadius (240) | 0.002176 |
PaintCorrectionMaskRadius (252) | 0.002522 |
PaintCorrectionMaskRadius (255) | 0.003061 |
PaintCorrectionMaskRadius (256) | 0.023312 |
PaintCorrectionMaskRadius (257) | 0.003816 |
PaintCorrectionMaskRadius (260) | 0.003246 |
PaintCorrectionMaskRadius (263) | 0.005757 |
PaintCorrectionMaskRadius (266) | 0.006122 |
PaintCorrectionMaskRadius (267) | 0.003355 |
PaintCorrectionMaskRadius (27) | 0.010585 |
PaintCorrectionMaskRadius (276) | 0.000928 |
PaintCorrectionMaskRadius (280) | 0.001213 |
PaintCorrectionMaskRadius (289) | 0.001503 |
PaintCorrectionMaskRadius (29) | 0.001857 |
PaintCorrectionMaskRadius (290) | 0.009229 |
PaintCorrectionMaskRadius (297) | 0.004696 |
PaintCorrectionMaskRadius (299) | 0.007633 |
PaintCorrectionMaskRadius (3) | 0.035556 |
PaintCorrectionMaskRadius (30) | 0.007365 |
PaintCorrectionMaskRadius (302) | 0.118403 |
PaintCorrectionMaskRadius (304) | 0.006492 |
PaintCorrectionMaskRadius (308) | 0.094960 |
PaintCorrectionMaskRadius (320) | 0.000464 |
PaintCorrectionMaskRadius (332) | 0.002879 |
PaintCorrectionMaskRadius (339) | 0.000187 |
PaintCorrectionMaskRadius (343) | 0.000606 |
PaintCorrectionMaskRadius (349) | 0.001677 |
PaintCorrectionMaskRadius (35) | 0.009619 |
PaintCorrectionMaskRadius (350) | 0.000324 |
PaintCorrectionMaskRadius (4) | 0.008822 |
PaintCorrectionMaskRadius (43) | 0.098888 |
PaintCorrectionMaskRadius (47) | 0.007479 |
PaintCorrectionMaskRadius (50) | 0.011989 |
PaintCorrectionMaskRadius (52) | 0.021647 |
PaintCorrectionMaskRadius (53) | 0.005215 |
PaintCorrectionMaskRadius (54) | 0.092405 |
PaintCorrectionMaskRadius (56) | 0.048476 |
PaintCorrectionMaskRadius (58) | 0.022218 |
PaintCorrectionMaskRadius (59) | 0.139830 |
PaintCorrectionMaskRadius (6) | 0.016458 |
PaintCorrectionMaskRadius (60) | 0.073542 |
PaintCorrectionMaskRadius (7) | 0.029478 |
PaintCorrectionMaskRadius (70) | 0.014058 |
PaintCorrectionMaskRadius (71) | 0.079732 |
PaintCorrectionMaskRadius (72) | 0.049757 |
PaintCorrectionMaskRadius (74) | 0.005398 |
PaintCorrectionMaskRadius (8) | 0.018901 |
PaintCorrectionMaskRadius (82) | 0.015974 |
PaintCorrectionMaskRadius (87) | 0.002716 |
PaintCorrectionMaskRadius (89) | 0.000649 |
PaintCorrectionMaskRadius (9) | 0.074503 |
PaintCorrectionMaskRadius (96) | 0.000133 |
PaintCorrectionMaskRadius | 0.001049 |
PaintCorrectionMaskValue (30) | 0.416000 |
PaintCorrectionMaskValue (56) | 0.000000 |
PaintCorrectionMaskValue | 1.000000 |
PaintCorrectionMaskWhat | Mask/Paint |
PaintCorrectionMoire | 0.000000 |
PaintCorrectionSaturation (3) | -1.000000 |
PaintCorrectionSaturation (7) | -0.954020 |
PaintCorrectionSaturation | 0.000000 |
PaintCorrectionShadows2012 | 0.000000 |
PaintCorrectionSharpness (1) | 0.724140 |
PaintCorrectionSharpness | 0.000000 |
PaintCorrectionTemperature | 0.000000 |
PaintCorrectionTint | 0.000000 |
PaintCorrectionWhat | Correction |
ParametricDarks | 0 |
ParametricHighlights | 0 |
ParametricHighlightSplit | 75 |
ParametricLights | 0 |
ParametricMidtoneSplit | 50 |
ParametricShadows | 0 |
ParametricShadowSplit | 25 |
PerspectiveAspect | 0 |
PerspectiveHorizontal | 0 |
PerspectiveRotate | 0.0 |
PerspectiveScale | 100 |
PerspectiveUpright | 0 |
PerspectiveVertical | 0 |
PostCropVignetteAmount | 0 |
ProcessVersion | 6.7 |
ProfileDescription | sRGB IEC61966-2.1 |
RawFileName | Blue and yellow boat-0005.jpg |
RedHue | 0 |
RedSaturation | 0 |
Saturation (1) | +67 |
Saturation | Normal |
SaturationAdjustmentAqua | -100 |
SaturationAdjustmentBlue | +73 |
SaturationAdjustmentGreen | -100 |
SaturationAdjustmentMagenta | -100 |
SaturationAdjustmentOrange | +9 |
SaturationAdjustmentPurple | +100 |
SaturationAdjustmentRed | +80 |
SaturationAdjustmentYellow | +64 |
ScaleFactor35efl | 1.5 |
SceneCaptureType | Standard |
SceneType | Directly photographed |
SensingMethod | One-chip color area |
SensitivityType | Recommended Exposure Index |
SerialNumber | 6875022 |
Shadows2012 | -57 |
ShadowTint | 0 |
SharpenDetail | 25 |
SharpenEdgeMasking | 0 |
SharpenRadius | +1.0 |
Sharpness (1) | 25 |
Sharpness | Normal |
ShutterSpeed | 1 |
ShutterSpeedValue | 1 |
Software | Adobe Photoshop Lightroom 6.1 (Windows) |
SplitToningBalance | 0 |
SplitToningHighlightHue | 0 |
SplitToningHighlightSaturation | 0 |
SplitToningShadowHue | 0 |
SplitToningShadowSaturation | 0 |
SubjectDistanceRange | Unknown |
Tint | +25 |
ToneCurve | 0, 0, 255, 255 |
ToneCurveBlue | 0, 0, 255, 255 |
ToneCurveGreen | 0, 0, 255, 255 |
ToneCurveName | Linear |
ToneCurveName2012 | Linear |
ToneCurvePV2012 | 0, 0, 255, 255 |
ToneCurvePV2012Blue | 0, 0, 255, 255 |
ToneCurvePV2012Green | 0, 0, 255, 255 |
ToneCurvePV2012Red | 0, 0, 255, 255 |
ToneCurveRed | 0, 0, 255, 255 |
ToneMapStrength | 0 |
Version | 9.1 |
Vibrance | -19 |
VignetteAmount | 0 |
WhiteBalance (1) | Custom |
WhiteBalance | Auto |
Whites2012 | +14 |