Felt | Verdi |
+4747646940 |
AlreadyApplied | True |
Aperture | 3.5 |
ApertureValue | 3.5 |
ApproximateFocusDistance | 1.08 |
Artist | DAN-ROBIN MIDTHUN NIKOLAISEN |
AutoLateralCA | 0 |
AutoWhiteVersion | 134348800 |
BitsPerSample | 8 |
Blacks2012 | +54 |
BlueHue | 0 |
BlueSaturation | 0 |
By-line | DAN-ROBIN MIDTHUN NIKOLAISEN
CameraProfile | Adobe Standard |
CircleOfConfusion | 0.018 mm |
Clarity2012 | +75 |
ColorComponents | 3 |
ColorMode | RGB |
ColorNoiseReduction | 69 |
ColorNoiseReductionDetail | 50 |
ColorNoiseReductionSmoothness | 50 |
ColorSpace | Uncalibrated |
ColorTemperature | 2805 |
ColorTransform | YCbCr |
Contrast2012 | 0 |
ConvertToGrayscale | False |
Copyright | #DAROMIN
CopyrightNotice | #DAROMIN
CreateDate | 2015:09:26 21:20:34 |
Creator | DAN-ROBIN MIDTHUN NIKOLAISEN
CropAngle | 0 |
CropBottom | 1 |
CropConstrainToWarp | 0 |
CropLeft | 0 |
CropRight | 1 |
CropTop | 0.15625 |
CustomRendered | Normal |
dan.nikolaisen@gmail.com
DateCreated (1) | 2015:09:26 |
DateCreated | 2015:09:26 21:20:34.045 |
DateTimeOriginal | 2015:09:26 21:20:34 |
DefringeGreenAmount | 0 |
DefringeGreenHueHi | 60 |
DefringeGreenHueLo | 40 |
DefringePurpleAmount | 0 |
DefringePurpleHueHi | 70 |
DefringePurpleHueLo | 30 |
Dehaze | 0 |
DOF | 0.46 m (0.90 - 1.36 m) |
ExifImageHeight | 3078 |
ExifImageWidth | 5472 |
Exposure2012 | 0.00 |
ExposureCompensation | 0 |
ExposureMode | Manual |
ExposureProgram | Manual |
ExposureTime | 20 |
Firmware | 1.1.1 |
Flash | Off, Did not fire |
FlashCompensation | 0 |
FNumber | 3.5 |
FocalLength | 18.0 mm |
FocalLength35efl | 18.0 mm (35 mm equivalent: 30.4 mm) |
Format | image/jpeg |
FOV | 61.2 deg |
GrainAmount | 0 |
GreenHue | 0 |
GreenSaturation | 0 |
HasCrop | True |
HasSettings | True |
Highlights2012 | +82 |
HueAdjustmentAqua | -15 |
HueAdjustmentBlue | 0 |
HueAdjustmentGreen | +100 |
HueAdjustmentMagenta | -100 |
HueAdjustmentOrange | +64 |
HueAdjustmentPurple | -100 |
HueAdjustmentRed | +68 |
HueAdjustmentYellow | -100 |
HyperfocalDistance | 5.21 m |
ICCProfileName | ProPhoto RGB |
ImageHeight | 3078 |
ImageNumber | 0 |
ImageSize | 5472x3078 |
ImageWidth | 5472 |
ISO | 160 |
Label | |
Lens | EF-S18-135mm f/3.5-5.6 IS STM |
LensID (1) | 4142 |
LensID | Canon EF-S 18-135mm f/3.5-5.6 IS STM |
LensInfo | 18-135mm f/? |
LensManualDistortionAmount | 0 |
LensModel | EF-S18-135mm f/3.5-5.6 IS STM |
LensProfileEnable | 0 |
LensProfileSetup | LensDefaults |
LensSerialNumber | 00002aff57 |
LightValue | -1.4 |
LuminanceAdjustmentAqua | -72 |
LuminanceAdjustmentBlue | +47 |
LuminanceAdjustmentGreen | 0 |
LuminanceAdjustmentMagenta | +100 |
LuminanceAdjustmentOrange | -100 |
LuminanceAdjustmentPurple | +100 |
LuminanceAdjustmentRed | -53 |
LuminanceAdjustmentYellow | -81 |
LuminanceSmoothing | 0 |
Make | Canon |
MaxApertureValue | 3.5 |
Megapixels | 16.8 |
MeteringMode | Center-weighted average |
Model | Canon EOS 70D |
ModifyDate (1) | 2016:01:03 16:46:03+01:00 |
ModifyDate | 2016:01:03 16:46:03 |
Orientation | Horizontal (normal) |
ParametricDarks | 0 |
ParametricHighlights | 0 |
ParametricHighlightSplit | 75 |
ParametricLights | 0 |
ParametricMidtoneSplit | 50 |
ParametricShadows | 0 |
ParametricShadowSplit | 25 |
PerspectiveAspect | 0 |
PerspectiveHorizontal | 0 |
PerspectiveRotate | 0.0 |
PerspectiveScale | 100 |
PerspectiveUpright | 0 |
PerspectiveVertical | 0 |
PostCropVignetteAmount | 0 |
ProcessVersion | 6.7 |
ProfileDescription | ProPhoto RGB |
Rating | 0 |
RawFileName | IMG_6446.CR2 |
RecommendedExposureIndex | 160 |
RedHue | 0 |
RedSaturation | 0 |
Rights | #DAROMIN
Saturation | 0 |
SaturationAdjustmentAqua | +43 |
SaturationAdjustmentBlue | -51 |
SaturationAdjustmentGreen | +53 |
SaturationAdjustmentMagenta | -100 |
SaturationAdjustmentOrange | -19 |
SaturationAdjustmentPurple | -100 |
SaturationAdjustmentRed | +36 |
SaturationAdjustmentYellow | +68 |
ScaleFactor35efl | 1.7 |
SceneCaptureType | Standard |
SensitivityType | Recommended Exposure Index |
SerialNumber | 223057006182 |
Shadows2012 | +100 |
ShadowTint | 0 |
SharpenDetail | 48 |
SharpenEdgeMasking | 100 |
SharpenRadius | +2.2 |
Sharpness | 150 |
ShutterSpeed | 20 |
ShutterSpeedValue | 20 |
Software | Adobe Photoshop CC 2015 (Macintosh) |
SplitToningBalance | +31 |
SplitToningHighlightHue | 223 |
SplitToningHighlightSaturation | 39 |
SplitToningShadowHue | 37 |
SplitToningShadowSaturation | 21 |
Tint | -7 |
ToneCurve | 0, 0, 32, 22, 64, 56, 128, 128, 192, 196, 255, 255 |
ToneCurveBlue | 0, 0, 255, 255 |
ToneCurveGreen | 0, 0, 255, 255 |
ToneCurveName | Medium Contrast |
ToneCurveName2012 | Linear |
ToneCurvePV2012 | 0, 0, 255, 255 |
ToneCurvePV2012Blue | 0, 0, 255, 255 |
ToneCurvePV2012Green | 0, 0, 255, 255 |
ToneCurvePV2012Red | 0, 0, 255, 255 |
ToneCurveRed | 0, 0, 255, 255 |
ToneMapStrength | 0 |
URL_List | |
Version | 9.3.1 |
Vibrance | 0 |
VignetteAmount | 0 |
WhiteBalance (1) | Custom |
WhiteBalance | Auto |
Whites2012 | -29 |