Felt | Verdi |
AlreadyApplied | True |
Aperture | 2.8 |
ApertureValue | 2.8 |
ApproximateFocusDistance | 3.99 |
AutoLateralCA | 0 |
AutoWhiteVersion | 134348800 |
BitsPerSample | 8 |
Blacks2012 | -5 |
BlueHue | 0 |
BlueSaturation | 0 |
CameraProfile | Adobe Standard |
CircleOfConfusion | 0.018 mm |
Clarity2012 | -11 |
ColorComponents | 3 |
ColorNoiseReduction | 25 |
ColorNoiseReductionDetail | 50 |
ColorNoiseReductionSmoothness | 50 |
ColorSpace | sRGB |
ColorTemperature | 3950 |
ColorTransform | YCbCr |
Contrast2012 | +35 |
ConvertToGrayscale | False |
CreateDate (1) | 2016:08:30 19:23:37.27 |
CreateDate | 2016:08:30 19:23:37 |
CreatorTool | Adobe Photoshop Lightroom 6.6 (Windows) |
CropAngle | 0.8 |
CropBottom | 1 |
CropConstrainToWarp | 0 |
CropLeft | 0.009118 |
CropRight | 0.979482 |
CropTop | 0 |
CustomRendered | Normal |
DateCreated (1) | 2016:08:30 |
DateCreated | 2016:08:30 19:23:37.27 |
DateTimeOriginal | 2016:08:30 19:23:37 |
DefringeGreenAmount | 0 |
DefringeGreenHueHi | 60 |
DefringeGreenHueLo | 40 |
DefringePurpleAmount | 0 |
DefringePurpleHueHi | 70 |
DefringePurpleHueLo | 30 |
Dehaze | -5 |
DOF | 1.14 m (3.50 - 4.64 m) |
Exposure2012 | 0.00 |
ExposureCompensation | 0 |
ExposureMode | Manual |
ExposureProgram | Manual |
ExposureTime | 1/100 |
Firmware | 1.1.1 |
Flash | Off, Did not fire |
FlashCompensation | 0 |
FNumber | 2.8 |
FocalLength | 38.0 mm |
FocalLength35efl | 38.0 mm (35 mm equivalent: 62.6 mm) |
Format | image/jpeg |
FOV | 32.1 deg |
GradientBasedCorrActive | true |
GradientBasedCorrAmount | 1.000000 |
GradientBasedCorrBrightness | 0.000000 |
GradientBasedCorrClarity2012 | 0.000000 |
GradientBasedCorrContrast2012 | 0.500000 |
GradientBasedCorrDefringe | 0.000000 |
GradientBasedCorrExposure2012 | 0.250000 |
GradientBasedCorrHighlights2012 | 0.000000 |
GradientBasedCorrHue | 233.000000 |
GradientBasedCorrLocalBlacks2012 | 0.000000 |
GradientBasedCorrLocalDehaze | -0.200000 |
GradientBasedCorrLocalWhites2012 | 0.000000 |
GradientBasedCorrLuminanceNoise | 0.000000 |
GradientBasedCorrMaskCenterWeight | 0.537984 |
GradientBasedCorrMaskFlow | 1.000000 |
GradientBasedCorrMaskFullX | 0.561010 |
GradientBasedCorrMaskFullY | 0.995789 |
GradientBasedCorrMaskRadius (1) | 0.035977 |
GradientBasedCorrMaskRadius (2) | 0.018145 |
GradientBasedCorrMaskRadius (4) | 0.045371 |
GradientBasedCorrMaskRadius | 0.031400 |
GradientBasedCorrMaskValue (1) | 1.000000 |
GradientBasedCorrMaskValue | 0.000000 |
GradientBasedCorrMaskWhat (1) | Mask/Gradient |
GradientBasedCorrMaskWhat | Mask/Paint |
GradientBasedCorrMaskZeroX | 0.492663 |
GradientBasedCorrMaskZeroY | 0.279742 |
GradientBasedCorrMoire | 0.000000 |
GradientBasedCorrSaturation | 0.000000 |
GradientBasedCorrShadows2012 | 0.000000 |
GradientBasedCorrSharpness | -1.000000 |
GradientBasedCorrTemperature | 0.100000 |
GradientBasedCorrTint | 0.000000 |
GradientBasedCorrWhat | Correction |
GrainAmount | 0 |
GreenHue | 0 |
GreenSaturation | 0 |
HasCrop | True |
HasExtendedXMP | 2B91372BB49CF19A4A31E339FB1D52E0 |
HasSettings | True |
Highlights2012 | +45 |
HueAdjustmentAqua | 0 |
HueAdjustmentBlue | 0 |
HueAdjustmentGreen | 0 |
HueAdjustmentMagenta | 0 |
HueAdjustmentOrange | 0 |
HueAdjustmentPurple | 0 |
HueAdjustmentRed | 0 |
HueAdjustmentYellow | -11 |
HyperfocalDistance | 28.27 m |
ImageHeight | 5359 |
ImageNumber | 0 |
ImageSize | 3573x5359 |
ImageWidth | 3573 |
ISO | 160 |
Lens | 24-70mm |
LensID (1) | 137 |
LensID | Sigma 24-70mm f/2.8 IF EX DG HSM or Tamron SP 24-70mm f/2.8 Di VC USD |
LensInfo | 24-70mm f/? |
LensManualDistortionAmount | +5 |
LensModel | 24-70mm |
LensProfileChromaticAberrationScale | 100 |
LensProfileDistortionScale | 100 |
LensProfileEnable | 1 |
LensProfileFilename | Canon (Sigma_24-70mm_F2.8_IF_EX_DG_HSM ) - RAW.lcp |
LensProfileName | Adobe (SIGMA 24-70mm F2.8 IF EX DG HSM, Canon) |
LensProfileSetup | LensDefaults |
LensProfileVignettingScale | 100 |
LensSerialNumber | 0000000000 |
LightValue | 8.9 |
LuminanceAdjustmentAqua | 0 |
LuminanceAdjustmentBlue | 0 |
LuminanceAdjustmentGreen | +15 |
LuminanceAdjustmentMagenta | 0 |
LuminanceAdjustmentOrange | 0 |
LuminanceAdjustmentPurple | 0 |
LuminanceAdjustmentRed | 0 |
LuminanceAdjustmentYellow | 0 |
LuminanceNoiseReductionContrast | 0 |
LuminanceNoiseReductionDetail | 19 |
LuminanceSmoothing | 12 |
Make | Canon |
MaxApertureValue | 2.8 |
Megapixels | 19.1 |
MeteringMode | Multi-segment |
Model | Canon EOS 70D |
ModifyDate (1) | 2016:09:13 14:07:50+02:00 |
ModifyDate | 2016:09:13 14:07:50 |
PaintCorrectionActive | true |
PaintCorrectionAmount | 1.000000 |
PaintCorrectionBrightness | 0.000000 |
PaintCorrectionClarity2012 (8) | -0.330000 |
PaintCorrectionClarity2012 | 0.000000 |
PaintCorrectionContrast2012 (12) | 0.210000 |
PaintCorrectionContrast2012 (3) | 1.000000 |
PaintCorrectionContrast2012 | 0.000000 |
PaintCorrectionDefringe | 0.000000 |
PaintCorrectionExposure2012 (1) | 0.275000 |
PaintCorrectionExposure2012 (11) | 0.250000 |
PaintCorrectionExposure2012 (3) | 0.125000 |
PaintCorrectionExposure2012 (4) | 0.100000 |
PaintCorrectionExposure2012 (5) | 0.150000 |
PaintCorrectionExposure2012 (8) | -0.298500 |
PaintCorrectionExposure2012 | 0.000000 |
PaintCorrectionHighlights2012 | 0.000000 |
PaintCorrectionHue | 233.000000 |
PaintCorrectionLocalBlacks2012 (11) | -0.028510 |
PaintCorrectionLocalBlacks2012 (12) | -0.195400 |
PaintCorrectionLocalBlacks2012 (5) | -0.103450 |
PaintCorrectionLocalBlacks2012 | 0.000000 |
PaintCorrectionLocalDehaze (10) | -0.100000 |
PaintCorrectionLocalDehaze (2) | -0.200340 |
PaintCorrectionLocalDehaze (6) | 0.000000 |
PaintCorrectionLocalDehaze | -0.200000 |
PaintCorrectionLocalWhites2012 | 0.000000 |
PaintCorrectionLuminanceNoise | 0.000000 |
PaintCorrectionMaskCenterWeight (10) | 0.390203 |
PaintCorrectionMaskCenterWeight (2) | 0.537984 |
PaintCorrectionMaskCenterWeight (22) | 0.039128 |
PaintCorrectionMaskCenterWeight (32) | 0.066077 |
PaintCorrectionMaskCenterWeight (37) | 0.407493 |
PaintCorrectionMaskCenterWeight | 0.000000 |
PaintCorrectionMaskFlow (22) | 1.000000 |
PaintCorrectionMaskFlow | 0.755000 |
PaintCorrectionMaskRadius (10) | 0.000568 |
PaintCorrectionMaskRadius (11) | 0.008945 |
PaintCorrectionMaskRadius (12) | 0.008990 |
PaintCorrectionMaskRadius (13) | 0.003965 |
PaintCorrectionMaskRadius (14) | 0.001476 |
PaintCorrectionMaskRadius (15) | 0.008959 |
PaintCorrectionMaskRadius (16) | 0.008989 |
PaintCorrectionMaskRadius (17) | 0.014413 |
PaintCorrectionMaskRadius (18) | 0.014297 |
PaintCorrectionMaskRadius (19) | 0.021204 |
PaintCorrectionMaskRadius (2) | 0.031400 |
PaintCorrectionMaskRadius (20) | 0.005063 |
PaintCorrectionMaskRadius (21) | 0.016370 |
PaintCorrectionMaskRadius (22) | 0.015082 |
PaintCorrectionMaskRadius (23) | 0.015067 |
PaintCorrectionMaskRadius (24) | 0.044096 |
PaintCorrectionMaskRadius (25) | 0.001463 |
PaintCorrectionMaskRadius (26) | 0.001464 |
PaintCorrectionMaskRadius (28) | 0.002729 |
PaintCorrectionMaskRadius (29) | 0.005868 |
PaintCorrectionMaskRadius (3) | 0.065115 |
PaintCorrectionMaskRadius (30) | 0.002535 |
PaintCorrectionMaskRadius (31) | 0.002536 |
PaintCorrectionMaskRadius (32) | 0.001208 |
PaintCorrectionMaskRadius (33) | 0.151037 |
PaintCorrectionMaskRadius (34) | 0.149269 |
PaintCorrectionMaskRadius (35) | 0.147763 |
PaintCorrectionMaskRadius (36) | 0.149014 |
PaintCorrectionMaskRadius (37) | 0.058851 |
PaintCorrectionMaskRadius (38) | 0.062660 |
PaintCorrectionMaskRadius (39) | 0.062866 |
PaintCorrectionMaskRadius (4) | 0.022484 |
PaintCorrectionMaskRadius (40) | 0.073471 |
PaintCorrectionMaskRadius (41) | 0.084580 |
PaintCorrectionMaskRadius (42) | 0.084656 |
PaintCorrectionMaskRadius (7) | 0.076252 |
PaintCorrectionMaskRadius (8) | 0.130302 |
PaintCorrectionMaskRadius | 0.083977 |
PaintCorrectionMaskValue (37) | 0.000000 |
PaintCorrectionMaskValue | 0.396000 |
PaintCorrectionMaskWhat | Mask/Paint |
PaintCorrectionMoire | 0.000000 |
PaintCorrectionSaturation (7) | -0.600000 |
PaintCorrectionSaturation | 0.000000 |
PaintCorrectionShadows2012 | 0.000000 |
PaintCorrectionSharpness (1) | -1.000000 |
PaintCorrectionSharpness (3) | 0.000000 |
PaintCorrectionSharpness | -0.678160 |
PaintCorrectionTemperature (1) | 0.300000 |
PaintCorrectionTemperature (3) | 0.348510 |
PaintCorrectionTemperature | 0.000000 |
PaintCorrectionTint | 0.000000 |
PaintCorrectionWhat | Correction |
ParametricDarks | +30 |
ParametricHighlights | 0 |
ParametricHighlightSplit | 75 |
ParametricLights | 0 |
ParametricMidtoneSplit | 50 |
ParametricShadows | +20 |
ParametricShadowSplit | 25 |
PerspectiveAspect | 0 |
PerspectiveHorizontal | 0 |
PerspectiveRotate | 0.0 |
PerspectiveScale | 100 |
PerspectiveUpright | 0 |
PerspectiveVertical | 0 |
PerspectiveX | 0.00 |
PerspectiveY | 0.00 |
PostCropVignetteAmount | -16 |
PostCropVignetteFeather | 50 |
PostCropVignetteHighlightContrast | 0 |
PostCropVignetteMidpoint | 37 |
PostCropVignetteRoundness | 0 |
PostCropVignetteStyle | 1 |
ProcessVersion | 6.7 |
ProfileDescription | sRGB IEC61966-2.1 |
RecommendedExposureIndex | 160 |
RedHue | 0 |
RedSaturation | 0 |
Saturation | 0 |
SaturationAdjustmentAqua | 0 |
SaturationAdjustmentBlue | 0 |
SaturationAdjustmentGreen | +16 |
SaturationAdjustmentMagenta | 0 |
SaturationAdjustmentOrange | -6 |
SaturationAdjustmentPurple | 0 |
SaturationAdjustmentRed | 0 |
SaturationAdjustmentYellow | -25 |
ScaleFactor35efl | 1.6 |
SceneCaptureType | Standard |
SensitivityType | Recommended Exposure Index |
SerialNumber | 073024016447 |
Shadows2012 | 0 |
ShadowTint | 0 |
SharpenDetail | 0 |
SharpenEdgeMasking | 67 |
SharpenRadius | +0.5 |
Sharpness | 98 |
ShutterSpeed | 1/100 |
ShutterSpeedValue | 1/100 |
Software | Adobe Photoshop Lightroom 6.6 (Windows) |
SplitToningBalance | 0 |
SplitToningHighlightHue | 0 |
SplitToningHighlightSaturation | 0 |
SplitToningShadowHue | 0 |
SplitToningShadowSaturation | 0 |
Tint | +10 |
ToneCurve | 0, 0, 255, 255 |
ToneCurveBlue | 0, 0, 255, 255 |
ToneCurveGreen | 0, 0, 255, 255 |
ToneCurveName | Linear |
ToneCurveName2012 | Custom |
ToneCurvePV2012 | 0, 21, 35, 35, 59, 60, 255, 255 |
ToneCurvePV2012Blue | 0, 0, 255, 255 |
ToneCurvePV2012Green | 0, 0, 255, 255 |
ToneCurvePV2012Red | 0, 0, 255, 255 |
ToneCurveRed | 0, 0, 255, 255 |
ToneMapStrength | 0 |
Version | 9.6 |
Vibrance | 0 |
VignetteAmount | 0 |
WhiteBalance (1) | Custom |
WhiteBalance | Auto |
Whites2012 | 0 |