Felt | Verdi |
AlreadyApplied | True |
Aperture | 5.6 |
ApertureValue | 5.6 |
AutoLateralCA | 1 |
AutoWhiteVersion | 134348800 |
BitsPerSample | 8 |
Blacks2012 | -27 |
BlueBalance | 0.663212 |
BlueHue | 0 |
BlueSaturation | 0 |
CameraProfile | Adobe Standard |
CircleOfConfusion | 0.020 mm |
Clarity2012 | +10 |
ColorComponents | 3 |
ColorNoiseReduction | 67 |
ColorNoiseReductionDetail | 95 |
ColorNoiseReductionSmoothness | 88 |
ColorSpace | sRGB |
ColorTemperature | 5750 |
ColorTransform | YCbCr |
Contrast | Normal |
Contrast2012 | +28 |
ConvertToGrayscale | False |
CreateDate | 2017:01:29 12:29:54 |
CreatorTool | Adobe Photoshop Lightroom 6.8 (Macintosh) |
CustomRendered | Normal |
DateCreated (1) | 2017:01:29 |
DateCreated | 2017:01:29 12:29:54 |
DateTimeOriginal | 2017:01:29 12:29:54 |
DefringeGreenAmount | 0 |
DefringeGreenHueHi | 60 |
DefringeGreenHueLo | 40 |
DefringePurpleAmount | 0 |
DefringePurpleHueHi | 70 |
DefringePurpleHueLo | 30 |
Dehaze | 0 |
DigitalZoomRatio | 1 |
DOF | inf (4.34 m - inf) |
Exposure2012 | -0.15 |
ExposureCompensation | 0 |
ExposureMode | Unknown (3 1 0 0) |
ExposureProgram | Manual |
ExposureTime | 1/50 |
FileIndex | 188 |
FilmMode | Standard |
Flash | Off, Did not fire |
FNumber | 5.6 |
FocalLength | 23.0 mm |
FocalLength35efl | 23.0 mm (35 mm equivalent: 34.0 mm) |
FocalLengthIn35mmFormat | 34 mm |
FocusDistance | 65.535 m |
Format | image/jpeg |
FOV | 55.8 deg (69.37 m) |
GPSStatus | Measurement Void |
GrainAmount | 0 |
GreenHue | 0 |
GreenSaturation | 0 |
HasCrop | False |
HasSettings | True |
Highlights2012 | -16 |
HueAdjustmentAqua | 0 |
HueAdjustmentBlue | 0 |
HueAdjustmentGreen | 0 |
HueAdjustmentMagenta | 0 |
HueAdjustmentOrange | 0 |
HueAdjustmentPurple | 0 |
HueAdjustmentRed | 0 |
HueAdjustmentYellow | 0 |
HyperfocalDistance | 4.65 m |
ImageHeight | 3264 |
ImageSize | 4928x3264 |
ImageWidth | 4928 |
InternalSerialNumber | 000000000000 |
ISO | 400 |
Lens | Summicron T 1:2 23 ASPH. |
LensID | Summicron T 1:2 23 ASPH. |
LensInfo | 23mm f/2 |
LensMake | LEICA CAMERA AG |
LensManualDistortionAmount | 0 |
LensModel | Summicron T 1:2 23 ASPH. |
LensProfileChromaticAberrationScale | 100 |
LensProfileDistortionScale | 100 |
LensProfileEnable | 1 |
LensProfileFilename | Leica Camera AG (Leica APO-SUMMICRON-M 50 mm f2 ASPH.) - RAW.lcp |
LensProfileName | Adobe (Leica APO-SUMMICRON-M 50 mm f/2 ASPH.) |
LensProfileSetup | LensDefaults |
LensProfileVignettingScale | 100 |
LensSerialNumber | 4269634 |
LensType | Summicron T 1:2 23 ASPH. |
LightSource | Unknown |
LightValue | 8.6 |
LuminanceAdjustmentAqua | 0 |
LuminanceAdjustmentBlue | -11 |
LuminanceAdjustmentGreen | +44 |
LuminanceAdjustmentMagenta | -26 |
LuminanceAdjustmentOrange | -100 |
LuminanceAdjustmentPurple | -23 |
LuminanceAdjustmentRed | 0 |
LuminanceAdjustmentYellow | 0 |
LuminanceNoiseReductionContrast | 100 |
LuminanceNoiseReductionDetail | 100 |
LuminanceSmoothing | 30 |
Make | LEICA CAMERA AG |
MakerNoteSafety | Safe |
MaxApertureValue | 2.0 |
Megapixels | 16.1 |
MeteringMode | Multi-segment |
Model | LEICA T (Typ 701) |
ModifyDate (1) | 2017:01:29 23:00:48+01:00 |
ModifyDate | 2017:01:29 23:00:48 |
OriginalDirectory | 100LEICA |
OriginalFileName | L1000188.DNG |
PaintCorrectionActive | true |
PaintCorrectionAmount | 1.000000 |
PaintCorrectionBrightness | 0.000000 |
PaintCorrectionClarity2012 | 0.165789 |
PaintCorrectionContrast2012 | 0.556141 |
PaintCorrectionDefringe | 0.000000 |
PaintCorrectionExposure2012 | -0.202943 |
PaintCorrectionHighlights2012 | 0.238917 |
PaintCorrectionHue | 233.000000 |
PaintCorrectionLocalBlacks2012 | 0.000000 |
PaintCorrectionLocalDehaze | 0.000000 |
PaintCorrectionLocalWhites2012 | 0.000000 |
PaintCorrectionLuminanceNoise | 0.000000 |
PaintCorrectionMaskCenterWeight | 0.145530 |
PaintCorrectionMaskFlow | 0.613896 |
PaintCorrectionMaskRadius | 0.079226 |
PaintCorrectionMaskValue | 0.621316 |
PaintCorrectionMaskWhat | Mask/Paint |
PaintCorrectionMoire | 0.000000 |
PaintCorrectionSaturation (1) | -0.229742 |
PaintCorrectionSaturation | 0.000000 |
PaintCorrectionShadows2012 | -0.246548 |
PaintCorrectionSharpness | 0.000000 |
PaintCorrectionTemperature | 0.089361 |
PaintCorrectionTint | 0.000000 |
PaintCorrectionWhat | Correction |
ParametricDarks | 0 |
ParametricHighlights | 0 |
ParametricHighlightSplit | 75 |
ParametricLights | 0 |
ParametricMidtoneSplit | 50 |
ParametricShadows | 0 |
ParametricShadowSplit | 25 |
PerspectiveAspect | 0 |
PerspectiveHorizontal | 0 |
PerspectiveRotate | 0.0 |
PerspectiveScale | 100 |
PerspectiveUpright | 0 |
PerspectiveVertical | 0 |
PerspectiveX | 0.00 |
PerspectiveY | 0.00 |
PostCropVignetteAmount | 0 |
ProcessVersion | 6.7 |
ProfileDescription | sRGB IEC61966-2.1 |
RedBalance | 0.35605 |
RedHue | 0 |
RedSaturation | 0 |
Saturation (1) | 0 |
Saturation | Normal |
SaturationAdjustmentAqua | 0 |
SaturationAdjustmentBlue | -41 |
SaturationAdjustmentGreen | +35 |
SaturationAdjustmentMagenta | -72 |
SaturationAdjustmentOrange | -44 |
SaturationAdjustmentPurple | -86 |
SaturationAdjustmentRed | 0 |
SaturationAdjustmentYellow | 0 |
ScaleFactor35efl | 1.5 |
SceneCaptureType | Landscape |
SensingMethod | One-chip color area |
SensitivityType | Standard Output Sensitivity |
SerialNumber (1) | 4918345 |
SerialNumber | 000004918345 |
Shadows2012 | +29 |
ShadowTint | 0 |
SharpenDetail | 52 |
SharpenEdgeMasking | 54 |
SharpenRadius | +1.0 |
Sharpness (1) | 54 |
Sharpness | Normal |
ShutterSpeed | 1/50 |
ShutterSpeedValue | 1/50 |
Software | Adobe Photoshop Lightroom 6.8 (Macintosh) |
SplitToningBalance | 0 |
SplitToningHighlightHue | 0 |
SplitToningHighlightSaturation | 0 |
SplitToningShadowHue | 0 |
SplitToningShadowSaturation | 0 |
Tint | +29 |
ToneCurve | 0, 0, 255, 255 |
ToneCurveBlue | 0, 0, 255, 255 |
ToneCurveGreen | 0, 0, 255, 255 |
ToneCurveName | Linear |
ToneCurveName2012 | Linear |
ToneCurvePV2012 | 0, 0, 255, 255 |
ToneCurvePV2012Blue | 0, 0, 255, 255 |
ToneCurvePV2012Green | 0, 0, 255, 255 |
ToneCurvePV2012Red | 0, 0, 255, 255 |
ToneCurveRed | 0, 0, 255, 255 |
ToneMapStrength | 0 |
Version | 9.8 |
Vibrance | 0 |
VignetteAmount | 0 |
WB_RGBLevels | 0.3560500695 1 0.6632124352 |
WhiteBalance (1) | As Shot |
WhiteBalance | Auto |
Whites2012 | 0 |