Felt | Verdi |
AlreadyApplied | True |
Aperture | 2.2 |
ApertureValue | 2.2 |
AutoLateralCA | 1 |
AutoWhiteVersion | 134348800 |
BitsPerSample | 8 |
Blacks2012 | -10 |
BlueBalance | 0.551724 |
BlueHue | 0 |
BlueSaturation | 0 |
CameraProfile | Adobe Standard |
CircleOfConfusion | 0.020 mm |
Clarity2012 | +16 |
ColorComponents | 3 |
ColorNoiseReduction | 61 |
ColorNoiseReductionDetail | 91 |
ColorNoiseReductionSmoothness | 82 |
ColorSpace | sRGB |
ColorTemperature | 4750 |
ColorTransform | YCbCr |
Contrast | Normal |
Contrast2012 | +20 |
ConvertToGrayscale | False |
CreateDate | 2017:01:29 12:45:10 |
CreatorTool | Adobe Photoshop Lightroom 6.8 (Macintosh) |
CustomRendered | Normal |
DateCreated (1) | 2017:01:29 |
DateCreated | 2017:01:29 12:45:10 |
DateTimeOriginal | 2017:01:29 12:45:10 |
DefringeGreenAmount | 0 |
DefringeGreenHueHi | 60 |
DefringeGreenHueLo | 40 |
DefringePurpleAmount | 0 |
DefringePurpleHueHi | 70 |
DefringePurpleHueLo | 30 |
Dehaze | 0 |
DigitalZoomRatio | 1 |
DOF | 0.49 m (1.48 - 1.97 m) |
Exposure2012 | +0.45 |
ExposureCompensation | 0 |
ExposureMode | Unknown (3 1 0 0) |
ExposureProgram | Manual |
ExposureTime | 1/60 |
FileIndex | 196 |
FilmMode | Standard |
Flash | Off, Did not fire |
FNumber | 2.2 |
FocalLength | 23.0 mm |
FocalLength35efl | 23.0 mm (35 mm equivalent: 34.0 mm) |
FocalLengthIn35mmFormat | 34 mm |
FocusDistance | 1.689 m |
Format | image/jpeg |
FOV | 55.1 deg (1.76 m) |
GPSStatus | Measurement Void |
GrainAmount | 0 |
GreenHue | 0 |
GreenSaturation | 0 |
HasCrop | False |
HasSettings | True |
Highlights2012 | +41 |
HueAdjustmentAqua | 0 |
HueAdjustmentBlue | 0 |
HueAdjustmentGreen | 0 |
HueAdjustmentMagenta | 0 |
HueAdjustmentOrange | 0 |
HueAdjustmentPurple | 0 |
HueAdjustmentRed | 0 |
HueAdjustmentYellow | 0 |
HyperfocalDistance | 11.83 m |
ImageHeight | 4928 |
ImageSize | 3264x4928 |
ImageWidth | 3264 |
InternalSerialNumber | 000000000000 |
ISO | 3200 |
Lens | Summicron T 1:2 23 ASPH. |
LensID | Summicron T 1:2 23 ASPH. |
LensInfo | 23mm f/2 |
LensMake | LEICA CAMERA AG |
LensManualDistortionAmount | 0 |
LensModel | Summicron T 1:2 23 ASPH. |
LensProfileChromaticAberrationScale | 100 |
LensProfileDistortionScale | 100 |
LensProfileEnable | 1 |
LensProfileFilename | Leica Camera AG (Leica APO-SUMMICRON-M 50 mm f2 ASPH.) - RAW.lcp |
LensProfileName | Adobe (Leica APO-SUMMICRON-M 50 mm f/2 ASPH.) |
LensProfileSetup | LensDefaults |
LensProfileVignettingScale | 100 |
LensSerialNumber | 4269634 |
LensType | Summicron T 1:2 23 ASPH. |
LightSource | Unknown |
LightValue | 3.2 |
LuminanceAdjustmentAqua | 0 |
LuminanceAdjustmentBlue | 0 |
LuminanceAdjustmentGreen | 0 |
LuminanceAdjustmentMagenta | 0 |
LuminanceAdjustmentOrange | 0 |
LuminanceAdjustmentPurple | 0 |
LuminanceAdjustmentRed | 0 |
LuminanceAdjustmentYellow | 0 |
LuminanceNoiseReductionContrast | 100 |
LuminanceNoiseReductionDetail | 100 |
LuminanceSmoothing | 35 |
Make | LEICA CAMERA AG |
MakerNoteSafety | Safe |
MaxApertureValue | 2.0 |
Megapixels | 16.1 |
MeteringMode | Multi-segment |
Model | LEICA T (Typ 701) |
ModifyDate (1) | 2017:01:31 21:03:26+01:00 |
ModifyDate | 2017:01:31 21:03:26 |
OriginalDirectory | 100LEICA |
OriginalFileName | L1000196.DNG |
ParametricDarks | 0 |
ParametricHighlights | 0 |
ParametricHighlightSplit | 75 |
ParametricLights | 0 |
ParametricMidtoneSplit | 50 |
ParametricShadows | 0 |
ParametricShadowSplit | 25 |
PerspectiveAspect | 0 |
PerspectiveHorizontal | 0 |
PerspectiveRotate | 0.0 |
PerspectiveScale | 100 |
PerspectiveUpright | 0 |
PerspectiveVertical | 0 |
PerspectiveX | 0.00 |
PerspectiveY | 0.00 |
PostCropVignetteAmount | 0 |
ProcessVersion | 6.7 |
ProfileDescription | sRGB IEC61966-2.1 |
RedBalance | 0.399376 |
RedHue | 0 |
RedSaturation | 0 |
Saturation (1) | -34 |
Saturation | Normal |
SaturationAdjustmentAqua | 0 |
SaturationAdjustmentBlue | 0 |
SaturationAdjustmentGreen | 0 |
SaturationAdjustmentMagenta | 0 |
SaturationAdjustmentOrange | 0 |
SaturationAdjustmentPurple | 0 |
SaturationAdjustmentRed | 0 |
SaturationAdjustmentYellow | 0 |
ScaleFactor35efl | 1.5 |
SceneCaptureType | Landscape |
SensingMethod | One-chip color area |
SensitivityType | Standard Output Sensitivity |
SerialNumber (1) | 4918345 |
SerialNumber | 000004918345 |
Shadows2012 | +33 |
ShadowTint | 0 |
SharpenDetail | 44 |
SharpenEdgeMasking | 43 |
SharpenRadius | +1.0 |
Sharpness (1) | 56 |
Sharpness | Normal |
ShutterSpeed | 1/60 |
ShutterSpeedValue | 1/60 |
Software | Adobe Photoshop Lightroom 6.8 (Macintosh) |
SplitToningBalance | 0 |
SplitToningHighlightHue | 0 |
SplitToningHighlightSaturation | 0 |
SplitToningShadowHue | 0 |
SplitToningShadowSaturation | 0 |
Tint | +34 |
ToneCurve | 0, 0, 255, 255 |
ToneCurveBlue | 0, 0, 255, 255 |
ToneCurveGreen | 0, 0, 255, 255 |
ToneCurveName | Linear |
ToneCurveName2012 | Linear |
ToneCurvePV2012 | 0, 0, 255, 255 |
ToneCurvePV2012Blue | 0, 0, 255, 255 |
ToneCurvePV2012Green | 0, 0, 255, 255 |
ToneCurvePV2012Red | 0, 0, 255, 255 |
ToneCurveRed | 0, 0, 255, 255 |
ToneMapStrength | 0 |
Version | 9.8 |
Vibrance | 0 |
VignetteAmount | 0 |
WB_RGBLevels | 0.399375975 1 0.5517241379 |
WhiteBalance (1) | As Shot |
WhiteBalance | Auto |
Whites2012 | +16 |