Felt | Verdi |
AlreadyApplied | True |
Aperture | 11.0 |
ApertureValue | 11.0 |
ApproximateFocusDistance | 4294967295 |
AutoLateralCA | 1 |
AutoWhiteVersion | 134348800 |
BitsPerSample | 8 |
Blacks2012 | +3 |
BlueHue | 0 |
BlueSaturation | 0 |
CameraProfile | Adobe Standard |
CircGradBasedCorrActive | true |
CircGradBasedCorrAmount | 1.000000 |
CircGradBasedCorrBrightness | 0.000000 |
CircGradBasedCorrClarity2012 (3) | 0.056323 |
CircGradBasedCorrClarity2012 (5) | 0.032885 |
CircGradBasedCorrClarity2012 (6) | 0.044059 |
CircGradBasedCorrClarity2012 | 0.000000 |
CircGradBasedCorrContrast2012 (4) | 0.000000 |
CircGradBasedCorrContrast2012 (5) | 0.049237 |
CircGradBasedCorrContrast2012 (6) | 0.055959 |
CircGradBasedCorrContrast2012 | 0.011355 |
CircGradBasedCorrDefringe | 0.000000 |
CircGradBasedCorrExposure2012 (1) | 0.193132 |
CircGradBasedCorrExposure2012 (2) | 0.162518 |
CircGradBasedCorrExposure2012 (3) | 0.089299 |
CircGradBasedCorrExposure2012 (4) | 0.158521 |
CircGradBasedCorrExposure2012 (5) | -0.029887 |
CircGradBasedCorrExposure2012 (6) | -0.118005 |
CircGradBasedCorrExposure2012 | -0.023710 |
CircGradBasedCorrHighlights2012 | 0.000000 |
CircGradBasedCorrHue | 0.000000 |
CircGradBasedCorrLocalBlacks2012 | 0.000000 |
CircGradBasedCorrLocalDehaze | 0.000000 |
CircGradBasedCorrLocalWhites2012 | 0.000000 |
CircGradBasedCorrLuminanceNoise | 0.000000 |
CircGradBasedCorrMaskAngle (1) | 0.000000 |
CircGradBasedCorrMaskAngle (2) | -8.332240 |
CircGradBasedCorrMaskAngle (3) | 36.180400 |
CircGradBasedCorrMaskAngle (4) | -37.022500 |
CircGradBasedCorrMaskAngle | -17.942300 |
CircGradBasedCorrMaskBottom (1) | 0.522463 |
CircGradBasedCorrMaskBottom (2) | 0.639123 |
CircGradBasedCorrMaskBottom (3) | 1.002220 |
CircGradBasedCorrMaskBottom (4) | 0.489433 |
CircGradBasedCorrMaskBottom (5) | 0.575263 |
CircGradBasedCorrMaskBottom (6) | 0.422857 |
CircGradBasedCorrMaskBottom | 0.483719 |
CircGradBasedCorrMaskFeather | +73 |
CircGradBasedCorrMaskFlipped | true |
CircGradBasedCorrMaskLeft (1) | 0.375553 |
CircGradBasedCorrMaskLeft (2) | 0.593104 |
CircGradBasedCorrMaskLeft (3) | 0.323247 |
CircGradBasedCorrMaskLeft (4) | 0.322195 |
CircGradBasedCorrMaskLeft (5) | -0.108597 |
CircGradBasedCorrMaskLeft (6) | 0.753035 |
CircGradBasedCorrMaskLeft | 0.855477 |
CircGradBasedCorrMaskMidpoint | +50 |
CircGradBasedCorrMaskRight (1) | 0.769888 |
CircGradBasedCorrMaskRight (2) | 0.909499 |
CircGradBasedCorrMaskRight (3) | 0.180692 |
CircGradBasedCorrMaskRight (4) | 0.444065 |
CircGradBasedCorrMaskRight (5) | 0.418029 |
CircGradBasedCorrMaskRight (6) | 1.065960 |
CircGradBasedCorrMaskRight | 1.029150 |
CircGradBasedCorrMaskRoundness | 0 |
CircGradBasedCorrMaskTop (1) | 0.054044 |
CircGradBasedCorrMaskTop (2) | 0.384127 |
CircGradBasedCorrMaskTop (3) | 0.584008 |
CircGradBasedCorrMaskTop (4) | 0.574771 |
CircGradBasedCorrMaskTop (5) | -0.087125 |
CircGradBasedCorrMaskTop (6) | -0.031192 |
CircGradBasedCorrMaskTop | 0.424999 |
CircGradBasedCorrMaskValue | 1.000000 |
CircGradBasedCorrMaskVersion | +2 |
CircGradBasedCorrMaskWhat | Mask/CircularGradient |
CircGradBasedCorrMoire | 0.000000 |
CircGradBasedCorrSaturation | 0.000000 |
CircGradBasedCorrShadows2012 (1) | 0.090116 |
CircGradBasedCorrShadows2012 (2) | 0.073492 |
CircGradBasedCorrShadows2012 (3) | -0.011083 |
CircGradBasedCorrShadows2012 (4) | 0.010992 |
CircGradBasedCorrShadows2012 (6) | -0.127271 |
CircGradBasedCorrShadows2012 | 0.000000 |
CircGradBasedCorrSharpness (3) | 0.021893 |
CircGradBasedCorrSharpness (5) | 0.038427 |
CircGradBasedCorrSharpness (6) | 0.051599 |
CircGradBasedCorrSharpness | 0.000000 |
CircGradBasedCorrTemperature | 0.000000 |
CircGradBasedCorrTint | 0.000000 |
CircGradBasedCorrWhat | Correction |
CircleOfConfusion | 0.030 mm |
Clarity2012 | +5 |
ColorComponents | 3 |
ColorNoiseReduction | 17 |
ColorNoiseReductionDetail | 50 |
ColorNoiseReductionSmoothness | 50 |
ColorSpace | sRGB |
ColorTemperature | 5800 |
ColorTransform | YCbCr |
Contrast2012 | +8 |
ConvertToGrayscale | False |
CreateDate (1) | 2017:09:04 11:59:04.41 |
CreateDate | 2017:09:04 11:59:04 |
CreatorTool | Adobe Photoshop Lightroom 6.12 (Macintosh) |
CustomRendered | Normal |
DateCreated (1) | 2017:09:04 |
DateCreated | 2017:09:04 11:59:04.41 |
DateTimeOriginal | 2017:09:04 11:59:04 |
DefringeGreenAmount | 0 |
DefringeGreenHueHi | 60 |
DefringeGreenHueLo | 40 |
DefringePurpleAmount | 0 |
DefringePurpleHueHi | 70 |
DefringePurpleHueLo | 30 |
Dehaze | 0 |
DistortionCorrectionAlreadyApplied | True |
DOF | inf (2.05 m - inf) |
Exposure2012 | +0.10 |
ExposureCompensation | 0 |
ExposureMode | Manual |
ExposureProgram | Manual |
ExposureTime | 1/160 |
Firmware | 1.1.6 |
Flash | Off, Did not fire |
FlashCompensation | 0 |
FNumber | 11.0 |
FocalLength | 26.0 mm |
FocalLength35efl | 26.0 mm (35 mm equivalent: 26.0 mm) |
Format | image/jpeg |
FOV | 69.4 deg |
GrainAmount | 0 |
GreenHue | 0 |
GreenSaturation | 0 |
HasCrop | False |
HasSettings | True |
Highlights2012 | -20 |
HueAdjustmentAqua | 0 |
HueAdjustmentBlue | 0 |
HueAdjustmentGreen | 0 |
HueAdjustmentMagenta | 0 |
HueAdjustmentOrange | 0 |
HueAdjustmentPurple | 0 |
HueAdjustmentRed | 0 |
HueAdjustmentYellow | 0 |
HyperfocalDistance | 2.05 m |
ImageHeight | 3648 |
ImageNumber | 0 |
ImageSize | 5472x3648 |
ImageWidth | 5472 |
ISO | 100 |
Keywords | Gynnildvannet |
LateralChromaticAberrationCorrectionAlreadyApplied | True |
Lens | EF24-70mm f/2.8L II USM |
LensID (1) | 495 |
LensID | Canon EF 24-70mm f/2.8L II USM |
LensInfo | 24-70mm f/? |
LensManualDistortionAmount | 0 |
LensModel | EF24-70mm f/2.8L II USM |
LensProfileChromaticAberrationScale | 100 |
LensProfileDistortionScale | 100 |
LensProfileEnable | 1 |
LensProfileFilename | Canon EOS 5D Mark II (Canon EF 24-70mm f2.8 L II USM) - RAW.lcp |
LensProfileName | Adobe (Canon EF 24-70mm f/2.8 L II USM) |
LensProfileSetup | LensDefaults |
LensProfileVignettingScale | 100 |
LensSerialNumber | 3630000901 |
LightValue | 14.2 |
LuminanceAdjustmentAqua | 0 |
LuminanceAdjustmentBlue | -8 |
LuminanceAdjustmentGreen | +5 |
LuminanceAdjustmentMagenta | +2 |
LuminanceAdjustmentOrange | +8 |
LuminanceAdjustmentPurple | +7 |
LuminanceAdjustmentRed | +9 |
LuminanceAdjustmentYellow | +16 |
LuminanceNoiseReductionContrast | 12 |
LuminanceNoiseReductionDetail | 50 |
LuminanceSmoothing | 14 |
Make | Canon |
MaxApertureValue | 2.8 |
Megapixels | 20.0 |
MeteringMode | Multi-segment |
Model | Canon EOS 6D |
ModifyDate (1) | 2017:09:05 17:35:04+02:00 |
ModifyDate | 2017:09:05 17:35:04 |
ParametricDarks | +3 |
ParametricHighlights | -3 |
ParametricHighlightSplit | 75 |
ParametricLights | +7 |
ParametricMidtoneSplit | 50 |
ParametricShadows | +1 |
ParametricShadowSplit | 25 |
PerspectiveAspect | 0 |
PerspectiveHorizontal | 0 |
PerspectiveRotate | 0.0 |
PerspectiveScale | 100 |
PerspectiveUpright | 1 |
PerspectiveVertical | 0 |
PerspectiveX | 0.00 |
PerspectiveY | 0.00 |
PostCropVignetteAmount | 0 |
ProcessVersion | 6.7 |
ProfileDescription | sRGB IEC61966-2.1 |
RecommendedExposureIndex | 100 |
RedHue | 0 |
RedSaturation | 0 |
Saturation | +7 |
SaturationAdjustmentAqua | +3 |
SaturationAdjustmentBlue | +13 |
SaturationAdjustmentGreen | +8 |
SaturationAdjustmentMagenta | +5 |
SaturationAdjustmentOrange | +8 |
SaturationAdjustmentPurple | +6 |
SaturationAdjustmentRed | +8 |
SaturationAdjustmentYellow | +7 |
ScaleFactor35efl | 1.0 |
SceneCaptureType | Standard |
SensitivityType | Recommended Exposure Index |
SerialNumber | 373051003880 |
Shadows2012 | +5 |
ShadowTint | 0 |
SharpenDetail | 16 |
SharpenEdgeMasking | 0 |
SharpenRadius | +1.0 |
Sharpness | 96 |
ShutterSpeed | 1/160 |
ShutterSpeedValue | 1/160 |
Software | Adobe Photoshop Lightroom 6.12 (Macintosh) |
SplitToningBalance | 0 |
SplitToningHighlightHue | 0 |
SplitToningHighlightSaturation | 0 |
SplitToningShadowHue | 0 |
SplitToningShadowSaturation | 0 |
Subject | Gynnildvannet |
Tint | +6 |
ToneCurve | 0, 0, 255, 255 |
ToneCurveBlue | 0, 0, 255, 255 |
ToneCurveGreen | 0, 0, 255, 255 |
ToneCurveName | Linear |
ToneCurveName2012 | Custom |
ToneCurvePV2012 | 0, 0, 83, 79, 144, 147, 192, 190, 255, 255 |
ToneCurvePV2012Blue | 0, 0, 255, 255 |
ToneCurvePV2012Green | 0, 0, 255, 255 |
ToneCurvePV2012Red | 0, 0, 255, 255 |
ToneCurveRed | 0, 0, 255, 255 |
ToneMapStrength | 0 |
Version | 9.12 |
Vibrance | +7 |
VignetteAmount | 0 |
VignetteCorrectionAlreadyApplied | True |
WhiteBalance (1) | As Shot |
WhiteBalance | Auto |
Whites2012 | +8 |