Felt | Verdi |
AlreadyApplied | True |
Aperture | 14.0 |
ApertureValue | 14.0 |
ApproximateFocusDistance | 4294967295 |
Artist | Trond K Wiik |
AuthorsPosition | Photography |
AutoLateralCA | 0 |
BitsPerSample | 8 |
Blacks2012 | -41 |
BlueHue | 0 |
BlueSaturation | 0 |
By-line | Trond K Wiik |
By-lineTitle | Photography |
CameraProfile | Embedded |
CircGradBasedCorrActive | true |
CircGradBasedCorrAmount | 1.000000 |
CircGradBasedCorrBrightness | 0.000000 |
CircGradBasedCorrClarity2012 | 0.000000 |
CircGradBasedCorrContrast2012 (1) | 0.667476 |
CircGradBasedCorrContrast2012 | 0.097580 |
CircGradBasedCorrCorrectionRangeMaskColorAmount | 0.500000 |
CircGradBasedCorrCorrectionRangeMaskLumFeather | 0.500000 |
CircGradBasedCorrCorrectionRangeMaskLumMax | 1.000000 |
CircGradBasedCorrCorrectionRangeMaskLumMin | 0.000000 |
CircGradBasedCorrCorrectionRangeMaskType | 0 |
CircGradBasedCorrDefringe | 0.000000 |
CircGradBasedCorrExposure2012 (1) | 0.193644 |
CircGradBasedCorrExposure2012 | 0.230279 |
CircGradBasedCorrHighlights2012 (1) | -0.845002 |
CircGradBasedCorrHighlights2012 | 0.015853 |
CircGradBasedCorrHue | 240.000000 |
CircGradBasedCorrLocalBlacks2012 | 0.000000 |
CircGradBasedCorrLocalDehaze | 0.000000 |
CircGradBasedCorrLocalWhites2012 | 0.000000 |
CircGradBasedCorrLuminanceNoise | 0.000000 |
CircGradBasedCorrMaskAngle (1) | -21.735100 |
CircGradBasedCorrMaskAngle (2) | -1.510840 |
CircGradBasedCorrMaskAngle | 8.836920 |
CircGradBasedCorrMaskBottom (1) | 0.384340 |
CircGradBasedCorrMaskBottom (2) | 0.471092 |
CircGradBasedCorrMaskBottom | 0.492236 |
CircGradBasedCorrMaskFeather | +63 |
CircGradBasedCorrMaskFlipped | true |
CircGradBasedCorrMaskLeft (1) | 0.192607 |
CircGradBasedCorrMaskLeft (2) | 0.139156 |
CircGradBasedCorrMaskLeft | 0.076779 |
CircGradBasedCorrMaskMidpoint | +50 |
CircGradBasedCorrMaskRight (1) | 0.359717 |
CircGradBasedCorrMaskRight (2) | 0.302242 |
CircGradBasedCorrMaskRight | 0.228727 |
CircGradBasedCorrMaskRoundness | 0 |
CircGradBasedCorrMaskTop (1) | 0.406863 |
CircGradBasedCorrMaskTop (2) | 0.375607 |
CircGradBasedCorrMaskTop | 0.339103 |
CircGradBasedCorrMaskValue | 1.000000 |
CircGradBasedCorrMaskVersion | +2 |
CircGradBasedCorrMaskWhat | Mask/CircularGradient |
CircGradBasedCorrMoire | 0.000000 |
CircGradBasedCorrSaturation | 0.000000 |
CircGradBasedCorrShadows2012 | 0.824029 |
CircGradBasedCorrSharpness | 0.000000 |
CircGradBasedCorrTemperature | 0.011150 |
CircGradBasedCorrTint | 0.000000 |
CircGradBasedCorrWhat | Correction |
CircleOfConfusion | 0.030 mm |
Clarity2012 | 0 |
ColorComponents | 3 |
ColorNoiseReduction | 0 |
ColorSpace | sRGB |
ColorTransform | YCbCr |
Contrast | Normal |
Contrast2012 | 0 |
ConvertToGrayscale | False |
Copyright | KAMIZOOM.COM |
CopyrightNotice | KAMIZOOM.COM |
Country | Norway |
Country-PrimaryLocationCode | NO |
Country-PrimaryLocationName | Norway |
CountryCode | NO |
CreateDate | 2017:11:27 13:14:52 |
Creator | Trond K Wiik |
CreatorAddress | Tjødnavegen 19 |
CreatorCity | Straume |
CreatorCountry | Norway |
CreatorPostalCode | 5354 |
CreatorRegion | Bergen |
CreatorTool | Adobe Photoshop Lightroom Classic 7.0 (Macintosh) |
CreatorWorkEmail | norwayinphoto@gmail.com |
CreatorWorkTelephone | 45266227 |
CreatorWorkURL | norwayinphoto.com |
CustomRendered | Normal |
DateCreated (1) | 2017:11:27 |
DateCreated | 2017:11:27 13:14:52.089 |
DateTimeOriginal | 2017:11:27 13:14:52 |
DefringeGreenAmount | 0 |
DefringeGreenHueHi | 60 |
DefringeGreenHueLo | 40 |
DefringePurpleAmount | 0 |
DefringePurpleHueHi | 70 |
DefringePurpleHueLo | 30 |
Dehaze | 0 |
DOF | inf (0.47 m - inf) |
Exposure2012 | 0.00 |
ExposureCompensation | 0 |
ExposureMode | Manual |
ExposureProgram | Manual |
ExposureTime | 1/40 |
Flash | No Flash |
FNumber | 14.0 |
FocalLength | 14.0 mm |
FocalLength35efl | 14.0 mm (35 mm equivalent: 14.0 mm) |
FocalLengthIn35mmFormat | 14 mm |
Format | image/jpeg |
FOV | 104.3 deg |
GainControl | None |
GPSAltitude | 216.0151 m |
GPSDateStamp | 2017:11:27 |
GPSDateTime | 2017:11:27 11:22:53.94Z |
GPSLatitude (1) | 61 deg 31' 33.28" |
GPSLatitude | 61 deg 31' 33.28" N |
GPSLatitudeRef | North |
GPSLongitude (1) | 6 deg 18' 32.92" |
GPSLongitude | 6 deg 18' 32.92" E |
GPSLongitudeRef | East |
GPSMapDatum | WGS-84 |
GPSPosition | 61 deg 31' 33.28" N, 6 deg 18' 32.92" E |
GPSSatellites | 00 |
GPSTimeStamp | 11:22:53.94 |
GPSVersionID | 2.3.0.0 |
GrainAmount | 11 |
GrainFrequency | 50 |
GrainSize | 25 |
GreenHue | 0 |
GreenSaturation | 0 |
HasCrop | False |
HasSettings | True |
Highlights2012 | 0 |
HueAdjustmentAqua | 0 |
HueAdjustmentBlue | 0 |
HueAdjustmentGreen | 0 |
HueAdjustmentMagenta | 0 |
HueAdjustmentOrange | 0 |
HueAdjustmentPurple | 0 |
HueAdjustmentRed | 0 |
HueAdjustmentYellow | 0 |
HyperfocalDistance | 0.47 m |
ImageHeight | 1237 |
ImageNumber | 662 |
ImageSize | 2500x1237 |
ImageWidth | 2500 |
IncrementalTemperature | 0 |
IncrementalTint | 0 |
ISO | 31 |
Keywords | 500px, Frost, Jølster, Lightroom, Norway, Photographer, Photography, Weather, amazing, autumn, beautiful, clouds, colors, dawn, dramatic, evening, frozen, golden hour, ground, høst, idyllic, lake, landscape, mirror, mirrow, moment, moon, moonlight, nikonIAm, norwayinphoto, nydelig, orange, perfect, photooftheday, reflections, rock, rocks, sky, skyline, sol, soloppgang, sun, sunrise, sunset, threes, trees, twilight, vakkert, view, vær, water |
Lens | 14.0 mm f/2.8 |
LensID (1) | 74 |
LensID | Samyang AE 14mm f/2.8 ED AS IF UMC |
LensInfo | 14mm f/2.8-1.4 |
LensManualDistortionAmount | 0 |
LensModel | 14.0 mm f/2.8 |
LensProfileEnable | 0 |
LensProfileSetup | LensDefaults |
LightSource | Unknown |
LightValue | 14.6 |
LuminanceAdjustmentAqua | 0 |
LuminanceAdjustmentBlue | 0 |
LuminanceAdjustmentGreen | 0 |
LuminanceAdjustmentMagenta | 0 |
LuminanceAdjustmentOrange | +13 |
LuminanceAdjustmentPurple | 0 |
LuminanceAdjustmentRed | 0 |
LuminanceAdjustmentYellow | -26 |
LuminanceSmoothing | 0 |
Make | NIKON CORPORATION |
MaxApertureValue | 2.8 |
Megapixels | 3.1 |
MeteringMode | Multi-segment |
Model | NIKON D850 |
ModifyDate (1) | 2017:12:08 21:45:14+01:00 |
ModifyDate | 2017:12:08 21:45:14 |
PaintCorrectionActive | true |
PaintCorrectionAmount | 1.000000 |
PaintCorrectionBrightness | 0.000000 |
PaintCorrectionClarity2012 | 0.000000 |
PaintCorrectionContrast2012 (4) | -1.000000 |
PaintCorrectionContrast2012 | 0.097580 |
PaintCorrectionCorrectionRangeMaskColorAmount | 0.500000 |
PaintCorrectionCorrectionRangeMaskLumFeather | 0.500000 |
PaintCorrectionCorrectionRangeMaskLumMax | 1.000000 |
PaintCorrectionCorrectionRangeMaskLumMin | 0.000000 |
PaintCorrectionCorrectionRangeMaskType | 0 |
PaintCorrectionDefringe | 0.000000 |
PaintCorrectionExposure2012 (1) | 0.205476 |
PaintCorrectionExposure2012 (2) | 0.371283 |
PaintCorrectionExposure2012 (3) | 0.130878 |
PaintCorrectionExposure2012 (4) | 0.004248 |
PaintCorrectionExposure2012 | 0.061400 |
PaintCorrectionHighlights2012 (4) | 0.709383 |
PaintCorrectionHighlights2012 | 0.015853 |
PaintCorrectionHue | 240.000000 |
PaintCorrectionLocalBlacks2012 | 0.000000 |
PaintCorrectionLocalDehaze | 0.000000 |
PaintCorrectionLocalWhites2012 | 0.000000 |
PaintCorrectionLuminanceNoise | 0.000000 |
PaintCorrectionMaskCenterWeight (16) | 0.000000 |
PaintCorrectionMaskCenterWeight | 0.189118 |
PaintCorrectionMaskFlow (16) | 1.000000 |
PaintCorrectionMaskFlow | 0.799735 |
PaintCorrectionMaskRadius (17) | 0.005071 |
PaintCorrectionMaskRadius (7) | 0.014209 |
PaintCorrectionMaskRadius | 0.005954 |
PaintCorrectionMaskValue (17) | 0.000000 |
PaintCorrectionMaskValue | 1.000000 |
PaintCorrectionMaskWhat | Mask/Paint |
PaintCorrectionMoire | 0.000000 |
PaintCorrectionSaturation | 0.000000 |
PaintCorrectionShadows2012 | 0.824029 |
PaintCorrectionSharpness | 0.000000 |
PaintCorrectionTemperature (4) | -0.080590 |
PaintCorrectionTemperature | 0.011150 |
PaintCorrectionTint | 0.000000 |
PaintCorrectionWhat | Correction |
ParametricDarks | 0 |
ParametricHighlights | 0 |
ParametricHighlightSplit | 75 |
ParametricLights | 0 |
ParametricMidtoneSplit | 50 |
ParametricShadows | 0 |
ParametricShadowSplit | 25 |
PerspectiveAspect | 0 |
PerspectiveHorizontal | 0 |
PerspectiveRotate | 0.0 |
PerspectiveScale | 100 |
PerspectiveUpright | 0 |
PerspectiveVertical | 0 |
PerspectiveX | 0.00 |
PerspectiveY | 0.00 |
PostCropVignetteAmount | 0 |
ProcessVersion | 6.7 |
ProfileDescription | sRGB IEC61966-2.1 |
Province-State | Sogn og Fjordane |
RedHue | 0 |
RedSaturation | 0 |
Rights | KAMIZOOM.COM |
Saturation (1) | 0 |
Saturation | Normal |
SaturationAdjustmentAqua | 0 |
SaturationAdjustmentBlue | 0 |
SaturationAdjustmentGreen | 0 |
SaturationAdjustmentMagenta | 0 |
SaturationAdjustmentOrange | 0 |
SaturationAdjustmentPurple | 0 |
SaturationAdjustmentRed | 0 |
SaturationAdjustmentYellow | 0 |
ScaleFactor35efl | 1.0 |
SceneCaptureType | Standard |
SceneType | Directly photographed |
SensingMethod | One-chip color area |
SensitivityType | Recommended Exposure Index |
SerialNumber | 6006207 |
Shadows2012 | 0 |
ShadowTint | 0 |
SharpenDetail | 25 |
SharpenEdgeMasking | 0 |
SharpenRadius | +1.0 |
Sharpness (1) | 0 |
Sharpness | Normal |
ShutterSpeed | 1/40 |
ShutterSpeedValue | 1/40 |
Software | Adobe Photoshop Lightroom Classic 7.0 (Macintosh) |
SplitToningBalance | 0 |
SplitToningHighlightHue | 0 |
SplitToningHighlightSaturation | 0 |
SplitToningShadowHue | 0 |
SplitToningShadowSaturation | 0 |
State | Sogn og Fjordane |
Subject | 500px, Frost, Jølster, Lightroom, Norway, Photographer, Photography, Weather, amazing, autumn, beautiful, clouds, colors, dawn, dramatic, evening, frozen, golden hour, ground, høst, idyllic, lake, landscape, mirror, mirrow, moment, moon, moonlight, nikonIAm, norwayinphoto, nydelig, orange, perfect, photooftheday, reflections, rock, rocks, sky, skyline, sol, soloppgang, sun, sunrise, sunset, threes, trees, twilight, vakkert, view, vær, water |
SubjectDistanceRange | Unknown |
ToneCurve | 0, 0, 255, 255 |
ToneCurveBlue | 0, 0, 255, 255 |
ToneCurveGreen | 0, 0, 255, 255 |
ToneCurveName | Linear |
ToneCurveName2012 | Custom |
ToneCurvePV2012 | 0, 15, 58, 54, 126, 126, 229, 220, 255, 228 |
ToneCurvePV2012Blue | 0, 0, 255, 255 |
ToneCurvePV2012Green | 0, 0, 255, 255 |
ToneCurvePV2012Red | 0, 0, 255, 255 |
ToneCurveRed | 0, 0, 255, 255 |
Version | 10.0 |
Vibrance | +34 |
VignetteAmount | 0 |
WhiteBalance (1) | As Shot |
WhiteBalance | Auto |
Whites2012 | 0 |