Felt | Verdi |
AlreadyApplied | True |
Aperture | 7.1 |
ApertureValue | 7.1 |
ApproximateFocusDistance | 7.5 |
AutoLateralCA | 1 |
AutoWhiteVersion | 134348800 |
BitsPerSample | 8 |
Blacks2012 | -5 |
BlueHue | 0 |
BlueSaturation | 0 |
CameraProfile | Camera Neutral |
CFAPattern | [Red,Green][Green,Blue] |
CircGradBasedCorrActive | true |
CircGradBasedCorrAmount | 1.000000 |
CircGradBasedCorrBrightness | 0.000000 |
CircGradBasedCorrClarity2012 | 0.103450 |
CircGradBasedCorrContrast2012 | 0.310340 |
CircGradBasedCorrDefringe | 0.000000 |
CircGradBasedCorrExposure2012 | -0.103500 |
CircGradBasedCorrHighlights2012 | 0.034480 |
CircGradBasedCorrHue | 240.000000 |
CircGradBasedCorrLocalBlacks2012 | 0.000000 |
CircGradBasedCorrLocalDehaze | 0.000000 |
CircGradBasedCorrLocalWhites2012 | 0.000000 |
CircGradBasedCorrLuminanceNoise | 0.000000 |
CircGradBasedCorrMaskAngle | 43.785800 |
CircGradBasedCorrMaskBottom | 0.995235 |
CircGradBasedCorrMaskFeather | +57 |
CircGradBasedCorrMaskFlipped | false |
CircGradBasedCorrMaskLeft | 0.482838 |
CircGradBasedCorrMaskMidpoint | +50 |
CircGradBasedCorrMaskRight | 0.464373 |
CircGradBasedCorrMaskRoundness | 0 |
CircGradBasedCorrMaskTop | 0.097256 |
CircGradBasedCorrMaskValue | 1.000000 |
CircGradBasedCorrMaskVersion | +2 |
CircGradBasedCorrMaskWhat | Mask/CircularGradient |
CircGradBasedCorrMoire | 0.000000 |
CircGradBasedCorrSaturation (1) | 0.264370 |
CircGradBasedCorrSaturation | 0.000000 |
CircGradBasedCorrShadows2012 | 0.172410 |
CircGradBasedCorrSharpness | 0.000000 |
CircGradBasedCorrTemperature | 0.000000 |
CircGradBasedCorrTint | 0.000000 |
CircGradBasedCorrWhat | Correction |
CircleOfConfusion | 0.020 mm |
Clarity2012 | +19 |
ColorComponents | 3 |
ColorNoiseReduction | 50 |
ColorNoiseReductionDetail | 50 |
ColorNoiseReductionSmoothness | 50 |
ColorSpace | sRGB |
ColorTemperature | 7238 |
ColorTransform | YCbCr |
Contrast | Normal |
Contrast2012 | +31 |
ConvertToGrayscale | False |
CreateDate (1) | 2018:03:03 14:19:36.51 |
CreateDate | 2018:03:03 14:19:36 |
CreatorTool | Adobe Photoshop Lightroom 6.14 (Windows) |
CropAngle | 0 |
CropBottom | 0.988281 |
CropConstrainToWarp | 0 |
CropLeft | 0.052084 |
CropRight | 0.947917 |
CropTop | 0.074219 |
CustomRendered | Normal |
DateCreated (1) | 2018:03:03 |
DateCreated | 2018:03:03 14:19:36.51 |
DateTimeOriginal | 2018:03:03 14:19:36 |
DefringeGreenAmount | 0 |
DefringeGreenHueHi | 60 |
DefringeGreenHueLo | 40 |
DefringePurpleAmount | 0 |
DefringePurpleHueHi | 70 |
DefringePurpleHueLo | 30 |
Dehaze | 0 |
DistortionCorrectionAlreadyApplied | True |
DOF | 0.17 m (7.42 - 7.59 m) |
Exposure2012 | +1.05 |
ExposureCompensation | 0 |
ExposureMode | Manual |
ExposureProgram | Manual |
ExposureTime | 1/800 |
Flash | Off, Did not fire |
FNumber | 7.1 |
FocalLength | 300.0 mm |
FocalLength35efl | 300.0 mm (35 mm equivalent: 450.0 mm) |
FocalLengthIn35mmFormat | 450 mm |
Format | image/jpeg |
FOV | 4.6 deg |
GainControl | None |
GrainAmount | 0 |
GreenHue | 0 |
GreenSaturation | 0 |
HasCrop | True |
HasSettings | True |
Highlights2012 | -60 |
HueAdjustmentAqua | 0 |
HueAdjustmentBlue | 0 |
HueAdjustmentGreen | 0 |
HueAdjustmentMagenta | 0 |
HueAdjustmentOrange | 0 |
HueAdjustmentPurple | 0 |
HueAdjustmentRed | 0 |
HueAdjustmentYellow | 0 |
HyperfocalDistance | 632.83 m |
ImageHeight | 3393 |
ImageNumber | 372 |
ImageSize | 4988x3393 |
ImageWidth | 4988 |
ISO | 100 |
LateralChromaticAberrationCorrectionAlreadyApplied | True |
Lens | 70.0-300.0 mm f/4.5-6.3 |
LensID (1) | 163 |
LensID | AF-P DX Nikkor 70-300mm f/4.5-6.3G ED or AF-P DX Nikkor 70-300mm f/4.5-6.3G ED VR |
LensInfo | 70-300mm f/4.5-6.3 |
LensManualDistortionAmount | 0 |
LensModel | 70.0-300.0 mm f/4.5-6.3 |
LensProfileChromaticAberrationScale | 100 |
LensProfileDistortionScale | 100 |
LensProfileEnable | 1 |
LensProfileFilename | NIKON D3300 (Nikon AF-P NIKKOR 70-300mm f4.5-6.3G ED VR) - RAW.lcp |
LensProfileName | Adobe (Nikon AF-P NIKKOR 70-300mm f/4.5-6.3G ED VR) |
LensProfileSetup | LensDefaults |
LensProfileVignettingScale | 100 |
LightSource | Unknown |
LightValue | 15.3 |
LuminanceAdjustmentAqua | 0 |
LuminanceAdjustmentBlue | 0 |
LuminanceAdjustmentGreen | 0 |
LuminanceAdjustmentMagenta | 0 |
LuminanceAdjustmentOrange | 0 |
LuminanceAdjustmentPurple | 0 |
LuminanceAdjustmentRed | 0 |
LuminanceAdjustmentYellow | 0 |
LuminanceNoiseReductionContrast | 100 |
LuminanceNoiseReductionDetail | 100 |
LuminanceSmoothing | 21 |
Make | NIKON CORPORATION |
MaxApertureValue | 6.3 |
Megapixels | 16.9 |
MeteringMode | Multi-segment |
Model | NIKON D7500 |
ModifyDate (1) | 2018:03:05 18:48:14+01:00 |
ModifyDate | 2018:03:05 18:48:14 |
ParametricDarks | 0 |
ParametricHighlights | 0 |
ParametricHighlightSplit | 75 |
ParametricLights | 0 |
ParametricMidtoneSplit | 50 |
ParametricShadows | 0 |
ParametricShadowSplit | 25 |
PerspectiveAspect | 0 |
PerspectiveHorizontal | 0 |
PerspectiveRotate | 0.0 |
PerspectiveScale | 100 |
PerspectiveUpright | 0 |
PerspectiveVertical | 0 |
PerspectiveX | 0.00 |
PerspectiveY | 0.00 |
PostCropVignetteAmount | 0 |
ProcessVersion | 6.7 |
ProfileDescription | sRGB IEC61966-2.1 |
RecommendedExposureIndex | 100 |
RedHue | 0 |
RedSaturation | 0 |
Saturation (1) | 0 |
Saturation | Normal |
SaturationAdjustmentAqua | 0 |
SaturationAdjustmentBlue | 0 |
SaturationAdjustmentGreen | 0 |
SaturationAdjustmentMagenta | 0 |
SaturationAdjustmentOrange | 0 |
SaturationAdjustmentPurple | 0 |
SaturationAdjustmentRed | 0 |
SaturationAdjustmentYellow | 0 |
ScaleFactor35efl | 1.5 |
SceneCaptureType | Standard |
SceneType | Directly photographed |
SensingMethod | One-chip color area |
SensitivityType | Recommended Exposure Index |
SerialNumber | 6022668 |
Shadows2012 | +100 |
ShadowTint | 0 |
SharpenDetail | 51 |
SharpenEdgeMasking | 52 |
SharpenRadius | +1.0 |
Sharpness (1) | 59 |
Sharpness | Normal |
ShutterSpeed | 1/800 |
ShutterSpeedValue | 1/800 |
Software | Adobe Photoshop Lightroom 6.14 (Windows) |
SplitToningBalance | 0 |
SplitToningHighlightHue | 0 |
SplitToningHighlightSaturation | 0 |
SplitToningShadowHue | 0 |
SplitToningShadowSaturation | 0 |
SubjectDistanceRange | Unknown |
Tint | -4 |
ToneCurve | 0, 0, 255, 255 |
ToneCurveBlue | 0, 0, 255, 255 |
ToneCurveGreen | 0, 0, 255, 255 |
ToneCurveName | Linear |
ToneCurveName2012 | Linear |
ToneCurvePV2012 | 0, 0, 255, 255 |
ToneCurvePV2012Blue | 0, 0, 255, 255 |
ToneCurvePV2012Green | 0, 0, 255, 255 |
ToneCurvePV2012Red | 0, 0, 255, 255 |
ToneCurveRed | 0, 0, 255, 255 |
ToneMapStrength | 0 |
Version | 10.1 |
Vibrance | +24 |
VignetteAmount | 0 |
VignetteCorrectionAlreadyApplied | True |
WhiteBalance (1) | Custom |
WhiteBalance | Auto |
Whites2012 | +48 |