Felt | Verdi |
AlreadyApplied | True |
Aperture | 5.0 |
ApertureValue | 5.0 |
ApproximateFocusDistance | 4294967295 |
AutoLateralCA | 1 |
BitsPerSample | 8 |
Blacks2012 | -15 |
BlueHue | 0 |
BlueSaturation | 0 |
CameraProfile | Adobe Standard |
CFAPattern | [Red,Green][Green,Blue] |
CircleOfConfusion | 0.020 mm |
Clarity2012 | 0 |
ColorComponents | 3 |
ColorNoiseReduction | 25 |
ColorNoiseReductionDetail | 50 |
ColorNoiseReductionSmoothness | 50 |
ColorSpace | sRGB |
ColorTemperature | 5200 |
ColorTransform | YCbCr |
Contrast | Normal |
Contrast2012 | -12 |
ConvertToGrayscale | True |
CreateDate (1) | 2018:02:27 14:41:26.900+01:00 |
CreateDate | 2018:02:27 14:41:26 |
CreatorTool | Adobe Lightroom CC 1.2 (Macintosh) |
CustomRendered | Normal |
DateCreated (1) | 2018:02:27 |
DateCreated | 2018:02:27 14:41:26.900+01:00 |
DateTimeOriginal | 2018:02:27 14:41:26 |
Dehaze | 0 |
DigitalZoomRatio | 1 |
DistortionCorrectionAlreadyApplied | True |
DOF | inf (24.96 m - inf) |
Exposure2012 | +0.10 |
ExposureCompensation | +2/3 |
ExposureMode | Auto |
ExposureProgram | Program AE |
ExposureTime | 1/100 |
Flash | Off, Did not fire |
FNumber | 5.0 |
FocalLength | 50.0 mm |
FocalLength35efl | 50.0 mm (35 mm equivalent: 75.0 mm) |
FocalLengthIn35mmFormat | 75 mm |
Format | image/jpeg |
FOV | 27.0 deg |
GainControl | None |
GrainAmount | 0 |
GrayMixerAqua | -17 |
GrayMixerBlue | +10 |
GrayMixerGreen | -27 |
GrayMixerMagenta | +3 |
GrayMixerOrange | -19 |
GrayMixerPurple | +15 |
GrayMixerRed | -10 |
GrayMixerYellow | -23 |
GreenHue | 0 |
GreenSaturation | 0 |
HasCrop | False |
HasSettings | True |
Highlights2012 | -65 |
HyperfocalDistance | 24.96 m |
ImageHeight | 4928 |
ImageNumber | 8675 |
ImageSize | 3264x4928 |
ImageWidth | 3264 |
ISO | 100 |
LateralChromaticAberrationCorrectionAlreadyApplied | True |
Lens | 50.0 mm f/1.8 |
LensID (1) | 118 |
LensID | AF Nikkor 50mm f/1.8D |
LensInfo | 50mm f/1.8 |
LensManualDistortionAmount | 0 |
LensModel | 50.0 mm f/1.8 |
LensProfileChromaticAberrationScale | 100 |
LensProfileDistortionScale | 100 |
LensProfileEnable | 1 |
LensProfileFilename | NIKON D3X (Nikon FX 50mm f1.8 D) - RAW.lcp |
LensProfileName | Adobe (Nikon AF NIKKOR 50mm f/1.8D) |
LensProfileSetup | LensDefaults |
LensProfileVignettingScale | 100 |
LightSource | Unknown |
LightValue | 11.3 |
LuminanceSmoothing | 0 |
Make | NIKON CORPORATION |
MaxApertureValue | 1.7 |
Megapixels | 16.1 |
MeteringMode | Spot |
Model | NIKON D7000 |
ModifyDate (1) | 2018:03:08 18:09:26+01:00 |
ModifyDate | 2018:03:08 18:09:26 |
ParametricDarks | 0 |
ParametricHighlights | 0 |
ParametricHighlightSplit | 75 |
ParametricLights | 0 |
ParametricMidtoneSplit | 50 |
ParametricShadows | 0 |
ParametricShadowSplit | 25 |
PerspectiveAspect | 0 |
PerspectiveHorizontal | 0 |
PerspectiveRotate | 0.0 |
PerspectiveScale | 100 |
PerspectiveUpright | 0 |
PerspectiveVertical | 0 |
PerspectiveX | 0.00 |
PerspectiveY | 0.00 |
PostCropVignetteAmount | 0 |
ProcessVersion | 10.0 |
ProfileDescription | sRGB IEC61966-2.1 |
RedHue | 0 |
RedSaturation | 0 |
Saturation | Normal |
ScaleFactor35efl | 1.5 |
SceneCaptureType | Standard |
SceneType | Directly photographed |
SensingMethod | One-chip color area |
SensitivityType | Recommended Exposure Index |
SerialNumber | 6478773 |
Shadows2012 | +41 |
ShadowTint | 0 |
SharpenDetail | 25 |
SharpenEdgeMasking | 0 |
SharpenRadius | +1.0 |
Sharpness (1) | 25 |
Sharpness | Normal |
ShutterSpeed | 1/100 |
ShutterSpeedValue | 1/100 |
Software | Adobe Lightroom CC 1.2 (Macintosh) |
SplitToningBalance | 0 |
SplitToningHighlightHue | 0 |
SplitToningHighlightSaturation | 0 |
SplitToningShadowHue | 0 |
SplitToningShadowSaturation | 0 |
SubjectDistanceRange | Unknown |
Tint | +11 |
ToneCurve | 0, 0, 255, 255 |
ToneCurveBlue | 0, 0, 255, 255 |
ToneCurveGreen | 0, 0, 255, 255 |
ToneCurveName | Linear |
ToneCurveName2012 | Custom |
ToneCurvePV2012 | 0, 0, 49, 25, 97, 81, 157, 147, 190, 224, 255, 255 |
ToneCurvePV2012Blue | 0, 0, 255, 255 |
ToneCurvePV2012Green | 0, 0, 255, 255 |
ToneCurvePV2012Red | 0, 0, 255, 255 |
ToneCurveRed | 0, 0, 255, 255 |
Version | 10.2 |
VignetteAmount | 0 |
VignetteCorrectionAlreadyApplied | True |
WhiteBalance (1) | As Shot |
WhiteBalance | Manual |
Whites2012 | +7 |