Felt | Verdi |
AlreadyApplied | True |
AutoLateralCA | 1 |
AutoWhiteVersion | 134348800 |
BitsPerSample | 8 |
Blacks2012 | -5 |
BlueHue | 0 |
BlueSaturation | 0 |
BrightnessValue | 1.68515625 |
CameraProfile | Camera Landscape |
CircleOfConfusion | 0.023 mm |
Clarity2012 | +17 |
ColorComponents | 3 |
ColorNoiseReduction | 58 |
ColorNoiseReductionDetail | 50 |
ColorNoiseReductionSmoothness | 50 |
ColorSpace | sRGB |
ColorTemperature | 5850 |
ColorTransform | YCbCr |
Contrast | Normal |
Contrast2012 | +24 |
ConvertToGrayscale | True |
CreateDate | 2018:09:30 17:02:27 |
CreatorTool | Adobe Photoshop Lightroom 6.14 (Windows) |
CropAngle | 0 |
CropBottom | 0.957031 |
CropConstrainToWarp | 0 |
CropLeft | 0.213542 |
CropRight | 0.973958 |
CropTop | 0.195312 |
CustomRendered | Normal |
DateCreated (1) | 2018:09:30 |
DateCreated | 2018:09:30 17:02:27 |
DateTimeOriginal | 2018:09:30 17:02:27 |
Dehaze | 0 |
DigitalZoomRatio | 1 |
Exposure2012 | +0.12 |
ExposureCompensation | 0 |
ExposureMode | Manual |
ExposureProgram | Manual |
ExposureTime | 1/800 |
Flash | Off, Did not fire |
Format | image/jpeg |
GradientBasedCorrActive | true |
GradientBasedCorrAmount | 1.000000 |
GradientBasedCorrBrightness | 0.000000 |
GradientBasedCorrClarity2012 | 0.218390 |
GradientBasedCorrContrast2012 | 0.724140 |
GradientBasedCorrDefringe | 0.000000 |
GradientBasedCorrExposure2012 | 0.011500 |
GradientBasedCorrHighlights2012 | 0.000000 |
GradientBasedCorrHue | 240.000000 |
GradientBasedCorrLocalBlacks2012 | 0.000000 |
GradientBasedCorrLocalDehaze | 0.000000 |
GradientBasedCorrLocalWhites2012 | 0.000000 |
GradientBasedCorrLuminanceNoise | 0.000000 |
GradientBasedCorrMaskFullX | 0.536323 |
GradientBasedCorrMaskFullY | 0.979303 |
GradientBasedCorrMaskValue | 1.000000 |
GradientBasedCorrMaskWhat | Mask/Gradient |
GradientBasedCorrMaskZeroX | 0.535333 |
GradientBasedCorrMaskZeroY | 0.688276 |
GradientBasedCorrMoire | 0.000000 |
GradientBasedCorrSaturation | 0.000000 |
GradientBasedCorrShadows2012 | 0.126440 |
GradientBasedCorrSharpness | 0.000000 |
GradientBasedCorrTemperature | 0.000000 |
GradientBasedCorrTint | 0.000000 |
GradientBasedCorrWhat | Correction |
GrainAmount | 0 |
GrayMixerAqua | -19 |
GrayMixerBlue | +7 |
GrayMixerGreen | -25 |
GrayMixerMagenta | +5 |
GrayMixerOrange | -15 |
GrayMixerPurple | +14 |
GrayMixerRed | -6 |
GrayMixerYellow | -19 |
GreenHue | 0 |
GreenSaturation | 0 |
HasCrop | True |
HasSettings | True |
Highlights2012 | +33 |
ImageHeight | 3047 |
ImageSize | 4562x3047 |
ImageWidth | 4562 |
ISO | 800 |
LateralChromaticAberrationCorrectionAlreadyApplied | True |
Lens | ---- |
LensManualDistortionAmount | 0 |
LensModel | ---- |
LensProfileEnable | 1 |
LensProfileSetup | LensDefaults |
LightSource | Unknown |
LuminanceNoiseReductionContrast | 64 |
LuminanceNoiseReductionDetail | 82 |
LuminanceSmoothing | 30 |
Make | SONY |
MaxApertureValue | 1.0 |
Megapixels | 13.9 |
MeteringMode | Multi-segment |
Model | ILCE-7 |
ModifyDate (1) | 2018:10:06 19:12:03+02:00 |
ModifyDate | 2018:10:06 19:12:03 |
ParametricDarks | 0 |
ParametricHighlights | 0 |
ParametricHighlightSplit | 75 |
ParametricLights | 0 |
ParametricMidtoneSplit | 50 |
ParametricShadows | 0 |
ParametricShadowSplit | 25 |
PerspectiveAspect | 0 |
PerspectiveHorizontal | 0 |
PerspectiveRotate | 0.0 |
PerspectiveScale | 100 |
PerspectiveUpright | 0 |
PerspectiveVertical | 0 |
PerspectiveX | 0.00 |
PerspectiveY | 0.00 |
PostCropVignetteAmount | 0 |
ProcessVersion | 6.7 |
ProfileDescription | sRGB IEC61966-2.1 |
RecommendedExposureIndex | 800 |
RedHue | 0 |
RedSaturation | 0 |
Saturation | Normal |
ScaleFactor35efl | 1.3 |
SceneCaptureType | Standard |
SceneType | Directly photographed |
SensitivityType | Recommended Exposure Index |
Shadows2012 | +69 |
ShadowTint | 0 |
SharpenDetail | 46 |
SharpenEdgeMasking | 46 |
SharpenRadius | +1.0 |
Sharpness (1) | 86 |
Sharpness | Normal |
ShutterSpeed | 1/800 |
ShutterSpeedValue | 1/800 |
Software | Adobe Photoshop Lightroom 6.14 (Windows) |
SplitToningBalance | 0 |
SplitToningHighlightHue | 0 |
SplitToningHighlightSaturation | 0 |
SplitToningShadowHue | 0 |
SplitToningShadowSaturation | 0 |
Tint | +13 |
ToneCurve | 0, 0, 255, 255 |
ToneCurveBlue | 0, 0, 255, 255 |
ToneCurveGreen | 0, 0, 255, 255 |
ToneCurveName | Linear |
ToneCurveName2012 | Linear |
ToneCurvePV2012 | 0, 0, 255, 255 |
ToneCurvePV2012Blue | 0, 0, 255, 255 |
ToneCurvePV2012Green | 0, 0, 255, 255 |
ToneCurvePV2012Red | 0, 0, 255, 255 |
ToneCurveRed | 0, 0, 255, 255 |
ToneMapStrength | 0 |
Version | 10.1 |
VignetteAmount | 0 |
WhiteBalance | Auto |
Whites2012 | +48 |