Felt | Verdi |
AlreadyApplied | True |
Aperture | 5.6 |
ApertureValue | 5.6 |
AutoLateralCA | 0 |
BitsPerSample (1) | 8 8 8 |
BitsPerSample | 8 |
Blacks2012 | -14 |
BlueHue | 0 |
BlueSaturation | 0 |
BrightnessValue | 2.696875 |
CameraProfile | Adobe Standard |
CircGradBasedCorrActive | true |
CircGradBasedCorrAmount | 1.000000 |
CircGradBasedCorrBrightness | 0.000000 |
CircGradBasedCorrClarity2012 | 0.000000 |
CircGradBasedCorrContrast2012 | 0.000000 |
CircGradBasedCorrCorrectionRangeMaskDepthMax | 1.000000 |
CircGradBasedCorrCorrectionRangeMaskDepthMin | 0.000000 |
CircGradBasedCorrCorrectionRangeMaskLumMax | 1.000000 |
CircGradBasedCorrCorrectionRangeMaskLumMin | 0.000000 |
CircGradBasedCorrCorrectionRangeMaskType | 0 |
CircGradBasedCorrCorrectionRangeMaskVersion | +2 |
CircGradBasedCorrDefringe | 0.000000 |
CircGradBasedCorrExposure2012 (1) | -0.750000 |
CircGradBasedCorrExposure2012 (10) | 0.125000 |
CircGradBasedCorrExposure2012 (11) | 0.625000 |
CircGradBasedCorrExposure2012 (12) | 0.187500 |
CircGradBasedCorrExposure2012 (2) | 0.250000 |
CircGradBasedCorrExposure2012 (5) | 0.312500 |
CircGradBasedCorrExposure2012 (6) | 0.500000 |
CircGradBasedCorrExposure2012 (7) | 0.375000 |
CircGradBasedCorrExposure2012 | 0.062500 |
CircGradBasedCorrHighlights2012 (5) | 0.750000 |
CircGradBasedCorrHighlights2012 (6) | 0.500000 |
CircGradBasedCorrHighlights2012 | 0.000000 |
CircGradBasedCorrHue | 240.000000 |
CircGradBasedCorrLocalBlacks2012 | 0.000000 |
CircGradBasedCorrLocalDehaze | 0.000000 |
CircGradBasedCorrLocalTexture | 0.000000 |
CircGradBasedCorrLocalWhites2012 | 0.000000 |
CircGradBasedCorrLuminanceNoise | 0.000000 |
CircGradBasedCorrMaskAngle (1) | 39.614600 |
CircGradBasedCorrMaskAngle (10) | 0.000000 |
CircGradBasedCorrMaskAngle (11) | -29.474300 |
CircGradBasedCorrMaskAngle (12) | 17.893600 |
CircGradBasedCorrMaskAngle (13) | 38.091800 |
CircGradBasedCorrMaskAngle (2) | -28.969500 |
CircGradBasedCorrMaskAngle (3) | -30.608900 |
CircGradBasedCorrMaskAngle (4) | -19.238100 |
CircGradBasedCorrMaskAngle (5) | -28.896400 |
CircGradBasedCorrMaskAngle (6) | 7.455830 |
CircGradBasedCorrMaskAngle (7) | -26.755800 |
CircGradBasedCorrMaskAngle (8) | -16.723500 |
CircGradBasedCorrMaskAngle (9) | -17.410000 |
CircGradBasedCorrMaskAngle | -8.546800 |
CircGradBasedCorrMaskBottom (1) | 1.261600 |
CircGradBasedCorrMaskBottom (10) | 0.459771 |
CircGradBasedCorrMaskBottom (11) | 0.531347 |
CircGradBasedCorrMaskBottom (12) | 0.492608 |
CircGradBasedCorrMaskBottom (13) | 0.656887 |
CircGradBasedCorrMaskBottom (2) | 0.505200 |
CircGradBasedCorrMaskBottom (3) | 0.327326 |
CircGradBasedCorrMaskBottom (4) | 0.806219 |
CircGradBasedCorrMaskBottom (5) | 0.615200 |
CircGradBasedCorrMaskBottom (6) | 1.001590 |
CircGradBasedCorrMaskBottom (7) | 0.133342 |
CircGradBasedCorrMaskBottom (8) | 0.279069 |
CircGradBasedCorrMaskBottom (9) | 0.297087 |
CircGradBasedCorrMaskBottom | 0.445460 |
CircGradBasedCorrMaskFeather (11) | +100 |
CircGradBasedCorrMaskFeather | +50 |
CircGradBasedCorrMaskFlipped (1) | false |
CircGradBasedCorrMaskFlipped | true |
CircGradBasedCorrMaskLeft (1) | 0.384389 |
CircGradBasedCorrMaskLeft (10) | 0.366190 |
CircGradBasedCorrMaskLeft (11) | 0.378407 |
CircGradBasedCorrMaskLeft (12) | 0.381038 |
CircGradBasedCorrMaskLeft (13) | 0.209680 |
CircGradBasedCorrMaskLeft (2) | 0.189222 |
CircGradBasedCorrMaskLeft (3) | 0.458483 |
CircGradBasedCorrMaskLeft (4) | 0.347712 |
CircGradBasedCorrMaskLeft (5) | 0.489311 |
CircGradBasedCorrMaskLeft (6) | 0.177537 |
CircGradBasedCorrMaskLeft (7) | 0.462930 |
CircGradBasedCorrMaskLeft (8) | 0.493393 |
CircGradBasedCorrMaskLeft (9) | 0.452426 |
CircGradBasedCorrMaskLeft | 0.405116 |
CircGradBasedCorrMaskMidpoint | +50 |
CircGradBasedCorrMaskRight (1) | 0.660122 |
CircGradBasedCorrMaskRight (10) | 0.599119 |
CircGradBasedCorrMaskRight (11) | 0.541009 |
CircGradBasedCorrMaskRight (12) | 0.392520 |
CircGradBasedCorrMaskRight (13) | 0.352330 |
CircGradBasedCorrMaskRight (2) | 0.761621 |
CircGradBasedCorrMaskRight (3) | 0.983302 |
CircGradBasedCorrMaskRight (4) | 0.740172 |
CircGradBasedCorrMaskRight (5) | 0.983967 |
CircGradBasedCorrMaskRight (6) | 0.531203 |
CircGradBasedCorrMaskRight (7) | 0.828314 |
CircGradBasedCorrMaskRight (8) | 0.508815 |
CircGradBasedCorrMaskRight (9) | 0.471736 |
CircGradBasedCorrMaskRight | 0.552469 |
CircGradBasedCorrMaskRoundness | 0 |
CircGradBasedCorrMaskTop (1) | -0.235447 |
CircGradBasedCorrMaskTop (10) | 0.193568 |
CircGradBasedCorrMaskTop (11) | 0.623208 |
CircGradBasedCorrMaskTop (12) | -0.177679 |
CircGradBasedCorrMaskTop (13) | 0.247018 |
CircGradBasedCorrMaskTop (2) | 0.304596 |
CircGradBasedCorrMaskTop (3) | 0.415920 |
CircGradBasedCorrMaskTop (4) | 0.788071 |
CircGradBasedCorrMaskTop (5) | 0.701470 |
CircGradBasedCorrMaskTop (6) | 0.589723 |
CircGradBasedCorrMaskTop (7) | 0.038424 |
CircGradBasedCorrMaskTop (8) | 0.276423 |
CircGradBasedCorrMaskTop (9) | 0.295253 |
CircGradBasedCorrMaskTop | 0.239612 |
CircGradBasedCorrMaskValue | 1.000000 |
CircGradBasedCorrMaskVersion | +2 |
CircGradBasedCorrMaskWhat | Mask/CircularGradient |
CircGradBasedCorrMoire | 0.000000 |
CircGradBasedCorrSaturation (21) | 0.500000 |
CircGradBasedCorrSaturation | 0.000000 |
CircGradBasedCorrShadows2012 (2) | 0.000000 |
CircGradBasedCorrShadows2012 | 0.500000 |
CircGradBasedCorrSharpness | 0.000000 |
CircGradBasedCorrTemperature | 0.000000 |
CircGradBasedCorrTint | 0.000000 |
CircGradBasedCorrWhat | Correction |
CircleOfConfusion | 0.030 mm |
Clarity2012 | +20 |
ColorComponents | 3 |
ColorMode | RGB |
ColorNoiseReduction | 25 |
ColorNoiseReductionDetail | 50 |
ColorNoiseReductionSmoothness | 50 |
ColorSpace | sRGB |
ColorTemperature | 5500 |
ColorTransform | YCbCr |
Contrast | Normal |
Contrast2012 | 0 |
ConvertToGrayscale | False |
CreateDate | 2019:06:16 20:05:54 |
CropAngle | 0 |
CropBottom | 1 |
CropConstrainToWarp | 0 |
CropLeft | 0.214817 |
CropRight | 0.881819 |
CropTop | 0 |
CustomRendered | Normal |
DateCreated (1) | 2019:06:16 |
DateCreated | 2019:06:16 20:05:54+02:00 |
DateTimeOriginal | 2019:06:16 20:05:54 |
DefringeGreenAmount | 0 |
DefringeGreenHueHi | 60 |
DefringeGreenHueLo | 40 |
DefringePurpleAmount | 0 |
DefringePurpleHueHi | 70 |
DefringePurpleHueLo | 30 |
Dehaze | 0 |
DigitalZoomRatio | 1 |
ExifImageHeight | 5304 |
ExifImageWidth | 5304 |
Exposure2012 | +1.25 |
ExposureCompensation | 0 |
ExposureMode | Manual |
ExposureProgram | Manual |
ExposureTime | 1/200 |
Flash | Off, Did not fire |
FNumber | 5.6 |
FocalLength | 85.0 mm |
FocalLength35efl | 85.0 mm (35 mm equivalent: 85.0 mm) |
FocalLengthIn35mmFormat | 85 mm |
Format | image/jpeg |
FOV | 23.9 deg |
GradientBasedCorrActive | true |
GradientBasedCorrAmount | 1.000000 |
GradientBasedCorrBrightness | 0.000000 |
GradientBasedCorrClarity2012 | 0.000000 |
GradientBasedCorrContrast2012 | 0.000000 |
GradientBasedCorrCorrectionRangeMaskDepthMax | 1.000000 |
GradientBasedCorrCorrectionRangeMaskDepthMin | 0.000000 |
GradientBasedCorrCorrectionRangeMaskLumMax | 1.000000 |
GradientBasedCorrCorrectionRangeMaskLumMin | 0.000000 |
GradientBasedCorrCorrectionRangeMaskType | 0 |
GradientBasedCorrCorrectionRangeMaskVersion | +2 |
GradientBasedCorrDefringe | 0.000000 |
GradientBasedCorrExposure2012 | 0.125000 |
GradientBasedCorrHighlights2012 | 0.000000 |
GradientBasedCorrHue | 240.000000 |
GradientBasedCorrLocalBlacks2012 | 0.000000 |
GradientBasedCorrLocalDehaze | 0.000000 |
GradientBasedCorrLocalTexture | 0.000000 |
GradientBasedCorrLocalWhites2012 | 0.000000 |
GradientBasedCorrLuminanceNoise | 0.000000 |
GradientBasedCorrMaskFullX | 0.170961 |
GradientBasedCorrMaskFullY | 0.024135 |
GradientBasedCorrMaskValue | 1.000000 |
GradientBasedCorrMaskWhat | Mask/Gradient |
GradientBasedCorrMaskZeroX | 0.435794 |
GradientBasedCorrMaskZeroY | 0.495294 |
GradientBasedCorrMoire | 0.000000 |
GradientBasedCorrSaturation | 0.000000 |
GradientBasedCorrShadows2012 | 0.000000 |
GradientBasedCorrSharpness | 0.000000 |
GradientBasedCorrTemperature | 0.000000 |
GradientBasedCorrTint | 0.000000 |
GradientBasedCorrWhat | Correction |
GrainAmount | 0 |
GreenHue | 0 |
GreenSaturation | 0 |
HasCrop | True |
HasSettings | True |
Highlights2012 | 0 |
HueAdjustmentAqua | 0 |
HueAdjustmentBlue | 0 |
HueAdjustmentGreen | 0 |
HueAdjustmentMagenta | 0 |
HueAdjustmentOrange | 0 |
HueAdjustmentPurple | 0 |
HueAdjustmentRed | 0 |
HueAdjustmentYellow | 0 |
HyperfocalDistance | 42.94 m |
ICCProfileName | sRGB IEC61966-2.1 |
ImageHeight | 5304 |
ImageSize | 5304x5304 |
ImageWidth | 5304 |
ISO | 640 |
Lens | EF85/1.8 USM |
LensID (1) | 61339 |
LensID | Canon EF 85mm f/1.8 USM |
LensInfo | 85mm f/1.8 |
LensManualDistortionAmount | 0 |
LensModel | EF85/1.8 USM |
LensProfileEnable | 0 |
LensProfileSetup | LensDefaults |
LightSource | Unknown |
LightValue | 9.9 |
LookAmount | 1.000000 |
LookGroup | Profiles |
LookName | Adobe Color |
LookParametersCameraProfile | Adobe Standard |
LookParametersConvertToGrayscale | False |
LookParametersLookTable | E1095149FDB39D7A057BAB208837E2E1 |
LookParametersProcessVersion | 11.0 |
LookParametersToneCurvePV2012 | 0, 0, 22, 16, 40, 35, 127, 127, 224, 230, 240, 246, 255, 255 |
LookParametersToneCurvePV2012Blue | 0, 0, 255, 255 |
LookParametersToneCurvePV2012Green | 0, 0, 255, 255 |
LookParametersToneCurvePV2012Red | 0, 0, 255, 255 |
LookParametersVersion | 11.3 |
LookSupportsAmount | false |
LookSupportsMonochrome | false |
LookSupportsOutputReferred | false |
LuminanceAdjustmentAqua | 0 |
LuminanceAdjustmentBlue | 0 |
LuminanceAdjustmentGreen | 0 |
LuminanceAdjustmentMagenta | 0 |
LuminanceAdjustmentOrange | 0 |
LuminanceAdjustmentPurple | 0 |
LuminanceAdjustmentRed | 0 |
LuminanceAdjustmentYellow | 0 |
LuminanceNoiseReductionContrast | 0 |
LuminanceNoiseReductionDetail | 50 |
LuminanceSmoothing | 10 |
Make | SONY |
MaxApertureValue | 1.8 |
Megapixels | 28.1 |
MeteringMode | Multi-segment |
Model | ILCE-7RM3 |
ModifyDate (1) | 2019:06:04 21:41:43+02:00 |
ModifyDate | 2019:06:04 21:41:43 |
Orientation | Horizontal (normal) |
OverrideLookVignette | False |
PaintCorrectionActive | true |
PaintCorrectionAmount | 1.000000 |
PaintCorrectionBrightness | 0.000000 |
PaintCorrectionClarity2012 | 0.000000 |
PaintCorrectionContrast2012 | 0.000000 |
PaintCorrectionCorrectionRangeMaskColorAmount | 0.500000 |
PaintCorrectionCorrectionRangeMaskDepthFeather | 0.500000 |
PaintCorrectionCorrectionRangeMaskDepthMax | 1.000000 |
PaintCorrectionCorrectionRangeMaskDepthMin | 0.000000 |
PaintCorrectionCorrectionRangeMaskLumFeather | 0.500000 |
PaintCorrectionCorrectionRangeMaskLumMax | 1.000000 |
PaintCorrectionCorrectionRangeMaskLumMin | 0.000000 |
PaintCorrectionCorrectionRangeMaskType | 0 |
PaintCorrectionCorrectionRangeMaskVersion | +2 |
PaintCorrectionDefringe | 0.000000 |
PaintCorrectionExposure2012 | 0.875000 |
PaintCorrectionHighlights2012 | 0.000000 |
PaintCorrectionHue | 240.000000 |
PaintCorrectionLocalBlacks2012 | 0.000000 |
PaintCorrectionLocalDehaze | 0.000000 |
PaintCorrectionLocalTexture | 0.000000 |
PaintCorrectionLocalWhites2012 | 0.000000 |
PaintCorrectionLuminanceNoise | 0.000000 |
PaintCorrectionMaskCenterWeight (17) | 0.225657 |
PaintCorrectionMaskCenterWeight | 0.000000 |
PaintCorrectionMaskFlow (17) | 0.572504 |
PaintCorrectionMaskFlow (7) | 1.000000 |
PaintCorrectionMaskFlow | 0.500000 |
PaintCorrectionMaskRadius (17) | 0.008604 |
PaintCorrectionMaskRadius (18) | 0.013320 |
PaintCorrectionMaskRadius (7) | 0.027586 |
PaintCorrectionMaskRadius (9) | 0.054347 |
PaintCorrectionMaskRadius | 0.053282 |
PaintCorrectionMaskValue (7) | 0.000000 |
PaintCorrectionMaskValue | 1.000000 |
PaintCorrectionMaskWhat | Mask/Paint |
PaintCorrectionMoire | 0.000000 |
PaintCorrectionSaturation (1) | 0.500000 |
PaintCorrectionSaturation | 0.000000 |
PaintCorrectionShadows2012 | 0.000000 |
PaintCorrectionSharpness | 0.000000 |
PaintCorrectionTemperature | 0.441043 |
PaintCorrectionTint | -1.000000 |
PaintCorrectionWhat | Correction |
ParametricDarks | 0 |
ParametricHighlights | 0 |
ParametricHighlightSplit | 75 |
ParametricLights | 0 |
ParametricMidtoneSplit | 50 |
ParametricShadows | 0 |
ParametricShadowSplit | 25 |
PerspectiveAspect | 0 |
PerspectiveHorizontal | 0 |
PerspectiveRotate | 0.0 |
PerspectiveScale | 100 |
PerspectiveUpright | 0 |
PerspectiveVertical | 0 |
PerspectiveX | 0.00 |
PerspectiveY | 0.00 |
PhotometricInterpretation | RGB |
PostCropVignetteAmount | 0 |
PreservedFileName | DSC07890.ARW |
ProcessVersion | 11.0 |
ProfileDescription | sRGB IEC61966-2.1 |
RawFileName | DSC07890.ARW |
RecommendedExposureIndex | 640 |
RedHue | 0 |
RedSaturation | 0 |
SamplesPerPixel | 3 |
Saturation (1) | +10 |
Saturation | Normal |
SaturationAdjustmentAqua | 0 |
SaturationAdjustmentBlue | 0 |
SaturationAdjustmentGreen | 0 |
SaturationAdjustmentMagenta | 0 |
SaturationAdjustmentOrange | 0 |
SaturationAdjustmentPurple | 0 |
SaturationAdjustmentRed | 0 |
SaturationAdjustmentYellow | 0 |
ScaleFactor35efl | 1.0 |
SceneCaptureType | Standard |
SceneType | Directly photographed |
SensitivityType | Recommended Exposure Index |
Shadows2012 | +100 |
ShadowTint | 0 |
SharpenDetail | 25 |
SharpenEdgeMasking | 0 |
SharpenRadius | +1.0 |
Sharpness (1) | 60 |
Sharpness | Normal |
ShutterSpeed | 1/200 |
ShutterSpeedValue | 1/200 |
Software | Adobe Photoshop CC 2019 (Macintosh) |
SplitToningBalance | 0 |
SplitToningHighlightHue | 0 |
SplitToningHighlightSaturation | 0 |
SplitToningShadowHue | 0 |
SplitToningShadowSaturation | 0 |
Texture | +20 |
Tint | +10 |
ToneCurve | 0, 0, 255, 255 |
ToneCurveBlue | 0, 0, 255, 255 |
ToneCurveGreen | 0, 0, 255, 255 |
ToneCurveName | Linear |
ToneCurveName2012 | Custom |
ToneCurvePV2012 | 0, 21, 64, 50, 128, 94, 175, 140, 219, 191, 255, 236 |
ToneCurvePV2012Blue | 0, 0, 255, 255 |
ToneCurvePV2012Green | 0, 0, 255, 255 |
ToneCurvePV2012Red | 0, 0, 255, 255 |
ToneCurveRed | 0, 0, 255, 255 |
ToneMapStrength | 0 |
URL_List | |
Version | 11.3 |
Vibrance | +20 |
VignetteAmount | 0 |
WhiteBalance (1) | Daylight |
WhiteBalance | Auto |
Whites2012 | +10 |