Felt | Verdi |
AlreadyApplied | True |
Aperture | 4.0 |
ApertureValue | 4.0 |
AutoLateralCA | 0 |
BitsPerSample | 8 |
Blacks2012 | 0 |
BlueHue | 0 |
BlueSaturation | 0 |
CameraProfile | Embedded |
CircleOfConfusion | 0.007 mm |
Clarity2012 | 0 |
ColorComponents | 3 |
ColorNoiseReduction | 0 |
ColorSpace | sRGB |
ColorTransform | YCbCr |
Contrast2012 | 0 |
ConvertToGrayscale | False |
CreateDate (1) | 2020:02:22 18:22:27.57 |
CreateDate | 2020:02:22 18:22:27 |
CreatorTool | Adobe Lightroom 5.2.0 (iOS) |
CropAngle | 0 |
CropBottom | 1 |
CropConstrainToWarp | 0 |
CropLeft | 0 |
CropRight | 1 |
CropTop | 0 |
CustomRendered | Normal |
DateCreated (1) | 2020:02:22 18:22:27.57 |
DateCreated | 2020:02:22 |
DateTimeOriginal | 2020:02:22 18:22:27 |
DefringeGreenAmount | 0 |
DefringeGreenHueHi | 60 |
DefringeGreenHueLo | 40 |
DefringePurpleAmount | 0 |
DefringePurpleHueHi | 70 |
DefringePurpleHueLo | 30 |
Dehaze | 0 |
ExifImageHeight | 2048 |
ExifImageWidth | 1639 |
Exposure2012 | 0.00 |
ExposureCompensation | 0 |
ExposureMode | Manual |
ExposureProgram | Manual |
ExposureTime | 1/125 |
Firmware | 1.0.2 |
Flash | Off, Did not fire |
FlashCompensation | 0 |
FNumber | 4.0 |
FocalLength | 23.0 mm |
FocalLength35efl | 23.0 mm (35 mm equivalent: 92.5 mm) |
Format | image/jpeg |
FOV | 22.0 deg |
GrainAmount | 0 |
GreenHue | 0 |
GreenSaturation | 0 |
HasCrop | True |
HasExtendedXMP | A66E23782FE2CCACEBCCE0E4344DA51D |
HasSettings | True |
Highlights2012 | 0 |
HueAdjustmentAqua | 0 |
HueAdjustmentBlue | 0 |
HueAdjustmentGreen | 0 |
HueAdjustmentMagenta | 0 |
HueAdjustmentOrange | 0 |
HueAdjustmentPurple | 0 |
HueAdjustmentRed | 0 |
HueAdjustmentYellow | 0 |
HyperfocalDistance | 17.71 m |
ImageHeight | 2048 |
ImageNumber | 0 |
ImageSize | 1639x2048 |
ImageWidth | 1639 |
IncrementalTemperature | 0 |
IncrementalTint | 0 |
ISO | 12800 |
Lens | 17-70mm |
LensID (2) | 137 |
LensID | Sigma 17-70mm f/2.8-4 DC Macro OS HSM | C |
LensInfo (1) | 17-70mm f/? |
LensInfo | 17-70mm f/0 |
LensManualDistortionAmount | 0 |
LensModel | 17-70mm |
LensProfileEnable | 0 |
LensProfileSetup | LensDefaults |
LensSerialNumber | 0000000000 |
LightValue | 4.0 |
LuminanceAdjustmentAqua | 0 |
LuminanceAdjustmentBlue | 0 |
LuminanceAdjustmentGreen | 0 |
LuminanceAdjustmentMagenta | 0 |
LuminanceAdjustmentOrange | 0 |
LuminanceAdjustmentPurple | 0 |
LuminanceAdjustmentRed | 0 |
LuminanceAdjustmentYellow | 0 |
LuminanceSmoothing | 0 |
Make | Canon |
MaxApertureValue | 3.1 |
Megapixels | 3.4 |
MeteringMode | Center-weighted average |
Model | Canon EOS 7D Mark II |
ModifyDate (1) | 2020:02:23 02:00:12+01:00 |
ModifyDate | 2020:02:23 02:00:12 |
OverrideLookVignette | False |
PaintCorrectionActive | true |
PaintCorrectionAmount | 1.000000 |
PaintCorrectionBrightness | 0.000000 |
PaintCorrectionClarity | 0.000000 |
PaintCorrectionClarity2012 (1) | 0.290262 |
PaintCorrectionClarity2012 (2) | 0.071161 |
PaintCorrectionClarity2012 (3) | 0.146067 |
PaintCorrectionClarity2012 | 0.000000 |
PaintCorrectionContrast | 0.000000 |
PaintCorrectionContrast2012 | 0.000000 |
PaintCorrectionCorrectionRangeMaskColorAmount | 0.500000 |
PaintCorrectionCorrectionRangeMaskDepthFeather | 0.500000 |
PaintCorrectionCorrectionRangeMaskDepthMax | 1.000000 |
PaintCorrectionCorrectionRangeMaskDepthMin | 0.000000 |
PaintCorrectionCorrectionRangeMaskLumFeather | 0.500000 |
PaintCorrectionCorrectionRangeMaskLumMax | 1.000000 |
PaintCorrectionCorrectionRangeMaskLumMin | 0.000000 |
PaintCorrectionCorrectionRangeMaskType | 0 |
PaintCorrectionCorrectionRangeMaskVersion | +2 |
PaintCorrectionDefringe | 0.000000 |
PaintCorrectionExposure | 0.000000 |
PaintCorrectionExposure2012 (3) | 0.000000 |
PaintCorrectionExposure2012 | -0.168579 |
PaintCorrectionHighlights2012 (3) | 0.000000 |
PaintCorrectionHighlights2012 | -0.672030 |
PaintCorrectionHue | 0.000000 |
PaintCorrectionLocalBlacks2012 | 0.000000 |
PaintCorrectionLocalDehaze | 0.000000 |
PaintCorrectionLocalTexture | 0.000000 |
PaintCorrectionLocalWhites2012 | 0.000000 |
PaintCorrectionLuminanceNoise | 0.000000 |
PaintCorrectionMaskCenterWeight | 0.336172 |
PaintCorrectionMaskFlow | 0.684027 |
PaintCorrectionMaskRadius (1) | 0.018105 |
PaintCorrectionMaskRadius (11) | 0.047357 |
PaintCorrectionMaskRadius (12) | 0.017203 |
PaintCorrectionMaskRadius (13) | 0.027812 |
PaintCorrectionMaskRadius (14) | 0.051720 |
PaintCorrectionMaskRadius (15) | 0.017380 |
PaintCorrectionMaskRadius (16) | 0.022994 |
PaintCorrectionMaskRadius (18) | 0.010562 |
PaintCorrectionMaskRadius (19) | 0.017158 |
PaintCorrectionMaskRadius (2) | 0.018758 |
PaintCorrectionMaskRadius (20) | 0.012829 |
PaintCorrectionMaskRadius (21) | 0.014799 |
PaintCorrectionMaskRadius (23) | 0.020571 |
PaintCorrectionMaskRadius (24) | 0.019945 |
PaintCorrectionMaskRadius (25) | 0.020808 |
PaintCorrectionMaskRadius (26) | 0.017702 |
PaintCorrectionMaskRadius (27) | 0.011433 |
PaintCorrectionMaskRadius (28) | 0.011698 |
PaintCorrectionMaskRadius (29) | 0.017551 |
PaintCorrectionMaskRadius (3) | 0.056671 |
PaintCorrectionMaskRadius (30) | 0.012369 |
PaintCorrectionMaskRadius (31) | 0.036025 |
PaintCorrectionMaskRadius (32) | 0.044993 |
PaintCorrectionMaskRadius (33) | 0.009943 |
PaintCorrectionMaskRadius (34) | 0.011711 |
PaintCorrectionMaskRadius (36) | 0.014610 |
PaintCorrectionMaskRadius (37) | 0.016104 |
PaintCorrectionMaskRadius (38) | 0.012435 |
PaintCorrectionMaskRadius (39) | 0.017372 |
PaintCorrectionMaskRadius (4) | 0.011321 |
PaintCorrectionMaskRadius (40) | 0.011155 |
PaintCorrectionMaskRadius (41) | 0.011990 |
PaintCorrectionMaskRadius (42) | 0.006749 |
PaintCorrectionMaskRadius (43) | 0.011621 |
PaintCorrectionMaskRadius (44) | 0.021173 |
PaintCorrectionMaskRadius (5) | 0.016250 |
PaintCorrectionMaskRadius (6) | 0.010408 |
PaintCorrectionMaskRadius (8) | 0.023768 |
PaintCorrectionMaskRadius (9) | 0.036713 |
PaintCorrectionMaskRadius | 0.017488 |
PaintCorrectionMaskValue (11) | 0.000000 |
PaintCorrectionMaskValue | 1.000000 |
PaintCorrectionMaskWhat | Mask/Paint |
PaintCorrectionMoire | 0.000000 |
PaintCorrectionSaturation | 0.000000 |
PaintCorrectionShadows2012 (1) | 0.394361 |
PaintCorrectionShadows2012 (2) | 0.583743 |
PaintCorrectionShadows2012 | 0.000000 |
PaintCorrectionSharpness (1) | 0.037453 |
PaintCorrectionSharpness | 0.000000 |
PaintCorrectionTemperature | 0.000000 |
PaintCorrectionTint | 0.000000 |
PaintCorrectionWhat | Correction |
ParametricDarks | 0 |
ParametricHighlights | 0 |
ParametricHighlightSplit | 75 |
ParametricLights | 0 |
ParametricMidtoneSplit | 50 |
ParametricShadows | 0 |
ParametricShadowSplit | 25 |
PerspectiveAspect | 0 |
PerspectiveHorizontal | 0 |
PerspectiveRotate | 0.0 |
PerspectiveScale | 100 |
PerspectiveUpright | 0 |
PerspectiveVertical | 0 |
PerspectiveX | 0.00 |
PerspectiveY | 0.00 |
PostCropVignetteAmount | 0 |
ProcessVersion | 11.0 |
ProfileDescription | sRGB IEC61966-2.1 |
RecommendedExposureIndex | 12800 |
RedHue | 0 |
RedSaturation | 0 |
Saturation | 0 |
SaturationAdjustmentAqua | 0 |
SaturationAdjustmentBlue | 0 |
SaturationAdjustmentGreen | 0 |
SaturationAdjustmentMagenta | 0 |
SaturationAdjustmentOrange | 0 |
SaturationAdjustmentPurple | 0 |
SaturationAdjustmentRed | 0 |
SaturationAdjustmentYellow | 0 |
ScaleFactor35efl | 4.0 |
SceneCaptureType | Standard |
SensitivityType | Recommended Exposure Index |
SerialNumber | 063021007969 |
Shadows2012 | 0 |
ShadowTint | 0 |
SharpenDetail | 25 |
SharpenEdgeMasking | 0 |
SharpenRadius | +1.0 |
Sharpness | 0 |
ShutterSpeed | 1/125 |
ShutterSpeedValue | 1/125 |
Software | Adobe Lightroom 5.2.0 (iOS) |
SplitToningBalance | 0 |
SplitToningHighlightHue | 0 |
SplitToningHighlightSaturation | 0 |
SplitToningShadowHue | 0 |
SplitToningShadowSaturation | 0 |
Texture | 0 |
ToneCurve | 0, 0, 255, 255 |
ToneCurveBlue | 0, 0, 255, 255 |
ToneCurveGreen | 0, 0, 255, 255 |
ToneCurveName | Linear |
ToneCurveName2012 | Linear |
ToneCurvePV2012 | 0, 0, 255, 255 |
ToneCurvePV2012Blue | 0, 0, 255, 255 |
ToneCurvePV2012Green | 0, 0, 255, 255 |
ToneCurvePV2012Red | 0, 0, 255, 255 |
ToneCurveRed | 0, 0, 255, 255 |
ToneMapStrength | 0 |
Version | 12.2 |
Vibrance | 0 |
VignetteAmount | 0 |
WhiteBalance (1) | As Shot |
WhiteBalance | Auto |
Whites2012 | 0 |