Felt | Verdi |
2020-09-03T12:20:22+02:00 File test1.psd saved
2020-09-07T13:06:44+02:00 File test1.psd opened
2020-09-07T13:10:46+02:00 File test1.jpg saved
2020-09-07T13:19:32+02:00 File _test162E35458BD139EFC3FB607F46212C5E6.psb saved
2020-09-07T13:29:34+02:00 File _test162E35458BD139EFC3FB607F46212C5E6.psb saved
2020-09-07T13:54:43+02:00 File test1.psd saved
2020-09-07T13:59:44+02:00 File _test162E35458BD139EFC3FB607F46212C5E6.psb saved
2020-09-07T14:04:58+02:00 File test1.psd saved
2020-09-07T14:07:13+02:00 File test1.psd saved
2020-09-08T15:12:16+02:00 File test1.psd opened
2020-09-08T15:22:16+02:00 File _test162E35458BD139EFC3FB607F46212C5E6.psb saved
2020-09-08T15:32:16+02:00 File _test162E35458BD139EFC3FB607F46212C5E6.psb saved
2020-09-08T15:42:16+02:00 File _test162E35458BD139EFC3FB607F46212C5E6.psb saved
2020-09-08T15:43:27+02:00 File test1ES.jpg saved
2020-09-08T15:52:16+02:00 File _test162E35458BD139EFC3FB607F46212C5E6.psb saved
2020-09-08T15:55:58+02:00 File test1.psd saved
2020-09-09T12:06:57+02:00 File test1.psd opened
2020-09-09T12:58:08+02:00 File _test162E35458BD139EFC3FB607F46212C5E6.psb saved
2020-09-09T13:34+02:00 File _test162E35458BD139EFC3FB607F46212C5E6.psb saved
2020-09-09T13:51:15+02:00 File _test162E35458BD139EFC3FB607F46212C5E6.psb saved
2020-09-09T13:51:56+02:00 File test1.psd saved
2020-09-09T13:52:26+02:00 File test2.jpg saved
2020-09-09T13:58:06+02:00 File test3.jpg saved
2020-09-09T14:01:15+02:00 File _test162E35458BD139EFC3FB607F46212C5E6.psb saved
2020-09-09T14:11:57+02:00 File _test162E35458BD139EFC3FB607F46212C5E6.psb saved
2020-09-09T14:42:02+02:00 File _test162E35458BD139EFC3FB607F46212C5E6.psb saved
2020-09-09T14:52:02+02:00 File _test162E35458BD139EFC3FB607F46212C5E6.psb saved
2020-09-09T14:56:08+02:00 File test1.psd saved
2020-09-09T14:57:48+02:00 File test14.jpg saved
2020-09-13T16:46:32+02:00 File test14.jpg opened
2020-09-13T16:56:32+02:00 File _test141D7F4C4F4FD7256E98415D008F384A28.psb saved
2020-09-13T17:06:32+02:00 File _test141D7F4C4F4FD7256E98415D008F384A28.psb saved
2020-09-13T17:07:55+02:00 File test14.psd saved
2020-09-13T17:08:29+02:00 File EmilieSofile01.jpg saved
AlreadyApplied | True |
Aperture | 8.0 |
ApertureValue | 8.0 |
ApproximateFocusDistance | 1.21 |
Artist | OYVIND LUDVIGSEN |
AutoLateralCA | 1 |
BitsPerSample (1) | 8 8 8 |
BitsPerSample | 8 |
Blacks2012 | -19 |
BlueHue | 0 |
BlueSaturation | +18 |
By-line | OYVIND LUDVIGSEN |
CameraProfile | Adobe Standard |
CircleOfConfusion | 0.027 mm |
Clarity2012 | 0 |
ColorComponents | 3 |
ColorMode | RGB |
ColorNoiseReduction | 25 |
ColorNoiseReductionDetail | 50 |
ColorNoiseReductionSmoothness | 50 |
ColorSpace | Uncalibrated |
ColorTemperature | 6450 |
ColorTransform | YCbCr |
Contrast2012 | +7 |
ConvertToGrayscale | False |
CreateDate | 2020:08:30 11:14:42 |
Creator | OYVIND LUDVIGSEN |
CreatorTool | Adobe Photoshop 21.2 (Macintosh) |
CropAngle | 0 |
CropBottom | 1 |
CropConstrainToWarp | 0 |
CropHeight | 1 |
CropLeft | 0 |
CropRight | 1 |
CropTop | 0 |
CropUnit | Unknown (3) |
CropWidth | 0.667 |
CustomRendered | Normal |
DateCreated (1) | 2020:08:30 |
DateCreated | 2020:08:30 11:14:42.028+01:00 |
DateTimeOriginal | 2020:08:30 11:14:42 |
DefringeGreenAmount | 0 |
DefringeGreenHueHi | 56 |
DefringeGreenHueLo | 0 |
DefringePurpleAmount | 0 |
DefringePurpleHueHi | 70 |
DefringePurpleHueLo | 30 |
Dehaze | 0 |
DistortionCorrectionAlreadyApplied | True |
DOF | 0.52 m (1.00 - 1.52 m) |
ExifImageHeight | 5612 |
ExifImageWidth | 4457 |
Exposure2012 | +1.30 |
ExposureCompensation | 0 |
ExposureMode | Manual |
ExposureProgram | Manual |
ExposureTime | 1/200 |
Firmware | 1.2.1 |
Flash | Off, Did not fire |
FlashCompensation | 0 |
FNumber | 8.0 |
FocalLength | 35.0 mm |
FocalLength35efl | 35.0 mm (35 mm equivalent: 39.4 mm) |
Format | image/jpeg |
FOV | 49.1 deg |
GrainAmount | 0 |
GreenHue | 0 |
GreenSaturation | 0 |
HasCrop | True |
HasSettings | True |
Highlights2012 | -75 |
HueAdjustmentAqua | -8 |
HueAdjustmentBlue | -89 |
HueAdjustmentGreen | -100 |
HueAdjustmentMagenta | -100 |
HueAdjustmentOrange | -6 |
HueAdjustmentPurple | +100 |
HueAdjustmentRed | +44 |
HueAdjustmentYellow | -100 |
HyperfocalDistance | 5.74 m |
ICCProfileName | Adobe RGB (1998) |
ImageHeight | 5612 |
ImageNumber | 0 |
ImageSize | 4457x5612 |
ImageWidth | 4457 |
ISO | 100 |
LateralChromaticAberrationCorrectionAlreadyApplied | True |
Lens | EF16-35mm f/2.8L III USM |
LensID (1) | 751 |
LensID | Canon EF 16-35mm f/2.8L III USM |
LensInfo | 16-35mm f/? |
LensManualDistortionAmount | 0 |
LensModel | EF16-35mm f/2.8L III USM |
LensProfileChromaticAberrationScale | 100 |
LensProfileDistortionScale | 100 |
LensProfileEnable | 1 |
LensProfileFilename | Canon (Canon EF 16-35mm f2.8L III USM) - RAW.lcp |
LensProfileIsEmbedded | False |
LensProfileName | Adobe (Canon EF 16-35mm f/2.8L III USM) |
LensProfileSetup | LensDefaults |
LensProfileVignettingScale | 100 |
LensSerialNumber | 4810005952 |
LightValue | 13.6 |
LookAmount | 1.000000 |
LookCopyright | © 2018 Adobe Systems, Inc. |
LookGroup | Profiles |
LookName | Adobe Color |
LookParametersCameraProfile | Adobe Standard |
LookParametersConvertToGrayscale | False |
LookParametersLookTable | E1095149FDB39D7A057BAB208837E2E1 |
LookParametersProcessVersion | 11.0 |
LookParametersToneCurvePV2012 | 0, 0, 22, 16, 40, 35, 127, 127, 224, 230, 240, 246, 255, 255 |
LookParametersToneCurvePV2012Blue | 0, 0, 255, 255 |
LookParametersToneCurvePV2012Green | 0, 0, 255, 255 |
LookParametersToneCurvePV2012Red | 0, 0, 255, 255 |
LookParametersVersion | 12.4 |
LookSupportsAmount | false |
LookSupportsMonochrome | false |
LookSupportsOutputReferred | false |
LuminanceAdjustmentAqua | 0 |
LuminanceAdjustmentBlue | 0 |
LuminanceAdjustmentGreen | 0 |
LuminanceAdjustmentMagenta | 0 |
LuminanceAdjustmentOrange | 0 |
LuminanceAdjustmentPurple | 0 |
LuminanceAdjustmentRed | 0 |
LuminanceAdjustmentYellow | 0 |
LuminanceSmoothing | 0 |
Make | Canon |
MaxApertureValue | 2.8 |
Megapixels | 25.0 |
MeteringMode | Spot |
Model | Canon EOS 5D Mark IV |
ModifyDate (1) | 2020:09:13 17:08:29+02:00 |
ModifyDate | 2020:09:13 17:08:29 |
Orientation | Horizontal (normal) |
OverrideLookVignette | False |
ParametricDarks | 0 |
ParametricHighlights | 0 |
ParametricHighlightSplit | 75 |
ParametricLights | 0 |
ParametricMidtoneSplit | 50 |
ParametricShadows | 0 |
ParametricShadowSplit | 25 |
PerspectiveAspect | 0 |
PerspectiveHorizontal | 0 |
PerspectiveRotate | 0.0 |
PerspectiveScale | 100 |
PerspectiveUpright | 0 |
PerspectiveVertical | 0 |
PerspectiveX | 0.00 |
PerspectiveY | 0.00 |
PhotometricInterpretation | RGB |
PostCropVignetteAmount | 0 |
ProcessVersion | 11.0 |
ProfileDescription | Adobe RGB (1998) |
Rating | 0 |
RecommendedExposureIndex | 100 |
RedHue | 0 |
RedSaturation | -76 |
SamplesPerPixel | 3 |
Saturation | +2 |
SaturationAdjustmentAqua | 0 |
SaturationAdjustmentBlue | 0 |
SaturationAdjustmentGreen | 0 |
SaturationAdjustmentMagenta | 0 |
SaturationAdjustmentOrange | 0 |
SaturationAdjustmentPurple | 0 |
SaturationAdjustmentRed | 0 |
SaturationAdjustmentYellow | 0 |
ScaleFactor35efl | 1.1 |
SceneCaptureType | Standard |
SensitivityType | Recommended Exposure Index |
SerialNumber | 103055002496 |
Shadows2012 | +41 |
ShadowTint | 0 |
SharpenDetail | 25 |
SharpenEdgeMasking | 0 |
SharpenRadius | +1.0 |
Sharpness | 92 |
ShutterSpeed | 1/200 |
ShutterSpeedValue | 1/200 |
Software | Adobe Photoshop 21.2 (Macintosh) |
SplitToningBalance | 0 |
SplitToningHighlightHue | 0 |
SplitToningHighlightSaturation | 0 |
SplitToningShadowHue | 0 |
SplitToningShadowSaturation | 0 |
Texture | 0 |
Tint | -6 |
ToneCurve | 0, 0, 32, 22, 64, 56, 128, 128, 192, 196, 255, 255 |
ToneCurveBlue | 0, 0, 255, 255 |
ToneCurveGreen | 0, 0, 255, 255 |
ToneCurveName | Medium Contrast |
ToneCurveName2012 | Linear |
ToneCurvePV2012 | 0, 0, 255, 255 |
ToneCurvePV2012Blue | 0, 0, 255, 255 |
ToneCurvePV2012Green | 0, 0, 255, 255 |
ToneCurvePV2012Red | 0, 0, 255, 255 |
ToneCurveRed | 0, 0, 255, 255 |
ToneMapStrength | 0 |
URL_List | |
Version | 12.4 |
Vibrance | +15 |
VignetteAmount | 0 |
VignetteCorrectionAlreadyApplied | True |
WhiteBalance (1) | As Shot |
WhiteBalance | Auto |
Whites2012 | +50 |