Felt | Verdi |
2020-09-11T15:54:31+02:00 File _6X6A8122C9E8F84C055F7D86102A0DBE9EB442B3.psb saved
2020-09-11T16:04:31+02:00 File _6X6A8122C9E8F84C055F7D86102A0DBE9EB442B3.psb saved
2020-09-11T16:25:55+02:00 File _6X6A8122C9E8F84C055F7D86102A0DBE9EB442B3.psb saved
2020-09-11T16:42:40+02:00 File _6X6A8122C9E8F84C055F7D86102A0DBE9EB442B3.psb saved
2020-09-11T16:52:40+02:00 File _6X6A8122C9E8F84C055F7D86102A0DBE9EB442B3.psb saved
2020-09-11T17:02:40+02:00 File _6X6A8122C9E8F84C055F7D86102A0DBE9EB442B3.psb saved
2020-09-11T17:12:40+02:00 File _6X6A8122C9E8F84C055F7D86102A0DBE9EB442B3.psb saved
2020-09-11T17:22:40+02:00 File _6X6A8122C9E8F84C055F7D86102A0DBE9EB442B3.psb saved
2020-09-11T17:42:43+02:00 File _6X6A8122C9E8F84C055F7D86102A0DBE9EB442B3.psb saved
2020-09-11T17:46:23+02:00 File 6X6A8122-Edit.psd saved
2020-09-11T17:48:56+02:00 File test_ES2.jpg saved
AlreadyApplied | True |
Aperture | 8.0 |
ApertureValue | 8.0 |
ApproximateFocusDistance | 1.03 |
Artist | OYVIND LUDVIGSEN |
AutoLateralCA | 1 |
BitsPerSample | 8 |
Blacks2012 | -40 |
BlueHue | 0 |
BlueSaturation | 0 |
By-line | OYVIND LUDVIGSEN |
CameraProfile | Adobe Standard |
CircleOfConfusion | 0.022 mm |
Clarity2012 | +5 |
ColorComponents | 3 |
ColorMode | RGB |
ColorNoiseReduction | 0 |
ColorSpace | Uncalibrated |
ColorTemperature | 6650 |
ColorTransform | YCbCr |
Contrast2012 | +22 |
ConvertToGrayscale | False |
CreateDate | 2020:08:30 11:29:45 |
Creator | OYVIND LUDVIGSEN |
CropAngle | 0 |
CropBottom | 1 |
CropConstrainToWarp | 0 |
CropLeft | 0.190412 |
CropRight | 0.780229 |
CropTop | 0 |
CustomRendered | Normal |
DateCreated (1) | 2020:08:30 |
DateCreated | 2020:08:30 11:29:45.072+01:00 |
DateTimeOriginal | 2020:08:30 11:29:45 |
DefringeGreenAmount | 0 |
DefringeGreenHueHi | 60 |
DefringeGreenHueLo | 40 |
DefringePurpleAmount | 0 |
DefringePurpleHueHi | 70 |
DefringePurpleHueLo | 30 |
Dehaze | -11 |
DistortionCorrectionAlreadyApplied | True |
DOF | 0.30 m (0.90 - 1.20 m) |
ExifImageHeight | 3964 |
ExifImageWidth | 4480 |
Exposure2012 | +0.15 |
ExposureCompensation | 0 |
ExposureMode | Manual |
ExposureProgram | Manual |
ExposureTime | 1/200 |
Firmware | 1.2.1 |
Flash | Off, Did not fire |
FlashCompensation | 0 |
FNumber | 8.0 |
FocalLength | 35.0 mm |
FocalLength35efl | 35.0 mm (35 mm equivalent: 47.3 mm) |
Format | image/jpeg |
FOV | 41.7 deg |
GrainAmount | 0 |
GreenHue | 0 |
GreenSaturation | 0 |
HasCrop | True |
HasSettings | True |
Highlights2012 | -17 |
HueAdjustmentAqua | +100 |
HueAdjustmentBlue | +48 |
HueAdjustmentGreen | 0 |
HueAdjustmentMagenta | 0 |
HueAdjustmentOrange | 0 |
HueAdjustmentPurple | 0 |
HueAdjustmentRed | +1 |
HueAdjustmentYellow | 0 |
HyperfocalDistance | 6.88 m |
ICCProfileName | Adobe RGB (1998) |
ImageHeight | 3964 |
ImageNumber | 0 |
ImageSize | 4480x3964 |
ImageWidth | 4480 |
ISO | 100 |
Label | |
LateralChromaticAberrationCorrectionAlreadyApplied | True |
Lens | EF16-35mm f/2.8L III USM |
LensID (1) | 751 |
LensID | Canon EF 16-35mm f/2.8L III USM |
LensInfo | 16-35mm f/? |
LensManualDistortionAmount | 0 |
LensModel | EF16-35mm f/2.8L III USM |
LensProfileChromaticAberrationScale | 100 |
LensProfileDistortionScale | 100 |
LensProfileEnable | 1 |
LensProfileFilename | Canon (Canon EF 16-35mm f2.8L III USM) - RAW.lcp |
LensProfileIsEmbedded | False |
LensProfileName | Adobe (Canon EF 16-35mm f/2.8L III USM) |
LensProfileSetup | LensDefaults |
LensProfileVignettingScale | 100 |
LensSerialNumber | 4810005952 |
LightValue | 13.6 |
LookAmount | 1.000000 |
LookGroup | Profiles |
LookName | Adobe Portrait |
LookParametersCameraProfile | Adobe Standard |
LookParametersConvertToGrayscale | False |
LookParametersLookTable | E5A76DBB8B3F132A04C01AF45DC2EF1B |
LookParametersProcessVersion | 11.0 |
LookParametersToneCurvePV2012 | 0, 0, 66, 64, 190, 192, 255, 255 |
LookParametersVersion | 12.4 |
LookSupportsAmount | false |
LookSupportsMonochrome | false |
LookSupportsOutputReferred | false |
LuminanceAdjustmentAqua | -84 |
LuminanceAdjustmentBlue | +54 |
LuminanceAdjustmentGreen | +9 |
LuminanceAdjustmentMagenta | 0 |
LuminanceAdjustmentOrange | +14 |
LuminanceAdjustmentPurple | 0 |
LuminanceAdjustmentRed | +100 |
LuminanceAdjustmentYellow | -100 |
LuminanceSmoothing | 0 |
Make | Canon |
MaxApertureValue | 2.8 |
Megapixels | 17.8 |
MeteringMode | Spot |
Model | Canon EOS 5D Mark IV |
ModifyDate (1) | 2020:09:11 17:48:56+02:00 |
ModifyDate | 2020:09:11 17:48:56 |
Orientation | Horizontal (normal) |
OverrideLookVignette | False |
ParametricDarks | 0 |
ParametricHighlights | 0 |
ParametricHighlightSplit | 75 |
ParametricLights | 0 |
ParametricMidtoneSplit | 50 |
ParametricShadows | 0 |
ParametricShadowSplit | 25 |
PerspectiveAspect | 0 |
PerspectiveHorizontal | 0 |
PerspectiveRotate | 0.0 |
PerspectiveScale | 100 |
PerspectiveUpright | 0 |
PerspectiveVertical | 0 |
PerspectiveX | 0.00 |
PerspectiveY | 0.00 |
PostCropVignetteAmount | 0 |
PreservedFileName | 6X6A8122.CR2 |
ProcessVersion | 11.0 |
ProfileDescription | Adobe RGB (1998) |
Rating | 0 |
RecommendedExposureIndex | 100 |
RedHue | 0 |
RedSaturation | 0 |
Saturation | +2 |
SaturationAdjustmentAqua | -49 |
SaturationAdjustmentBlue | +55 |
SaturationAdjustmentGreen | -8 |
SaturationAdjustmentMagenta | 0 |
SaturationAdjustmentOrange | -100 |
SaturationAdjustmentPurple | 0 |
SaturationAdjustmentRed | +87 |
SaturationAdjustmentYellow | -38 |
ScaleFactor35efl | 1.4 |
SceneCaptureType | Standard |
SensitivityType | Recommended Exposure Index |
SerialNumber | 103055002496 |
Shadows2012 | +64 |
ShadowTint | 0 |
SharpenDetail | 58 |
SharpenEdgeMasking | 0 |
SharpenRadius | +0.8 |
Sharpness | 30 |
ShutterSpeed | 1/200 |
ShutterSpeedValue | 1/200 |
Software | Adobe Photoshop 21.2 (Macintosh) |
SplitToningBalance | -100 |
SplitToningHighlightHue | 0 |
SplitToningHighlightSaturation | 3 |
SplitToningShadowHue | 0 |
SplitToningShadowSaturation | 0 |
Texture | -100 |
Tint | -22 |
ToneCurve | 0, 0, 32, 22, 64, 56, 128, 128, 192, 196, 255, 255 |
ToneCurveBlue | 0, 0, 255, 255 |
ToneCurveGreen | 0, 0, 255, 255 |
ToneCurveName | Medium Contrast |
ToneCurveName2012 | Linear |
ToneCurvePV2012 | 0, 0, 255, 255 |
ToneCurvePV2012Blue | 0, 0, 255, 255 |
ToneCurvePV2012Green | 0, 0, 255, 255 |
ToneCurvePV2012Red | 0, 0, 255, 255 |
ToneCurveRed | 0, 0, 255, 255 |
ToneMapStrength | 0 |
URL_List | |
Version | 12.4 |
Vibrance | -20 |
VignetteAmount | 0 |
VignetteCorrectionAlreadyApplied | True |
WhiteBalance (1) | Custom |
WhiteBalance | Auto |
Whites2012 | +50 |