Felt | Verdi |
AlreadyApplied | True |
Aperture | 9.0 |
ApertureValue | 9.0 |
ApproximateFocusDistance | 4294967295 |
AutoLateralCA | 1 |
BitsPerSample | 8 |
Blacks2012 | -14 |
BlueHue | 0 |
BlueSaturation | 0 |
CameraProfile | Adobe Standard |
CFAPattern | [Red,Green][Green,Blue] |
CircGradBasedCorrActive | true |
CircGradBasedCorrAmount | 1.000000 |
CircGradBasedCorrBrightness | 0.000000 |
CircGradBasedCorrClarity2012 | 0.000000 |
CircGradBasedCorrContrast2012 (1) | 0.070000 |
CircGradBasedCorrContrast2012 (6) | 0.111110 |
CircGradBasedCorrContrast2012 | 0.094020 |
CircGradBasedCorrCorrectionRangeMaskColorAmount | 0.500000 |
CircGradBasedCorrCorrectionRangeMaskDepthFeather | 0.500000 |
CircGradBasedCorrCorrectionRangeMaskDepthMax | 1.000000 |
CircGradBasedCorrCorrectionRangeMaskDepthMin | 0.000000 |
CircGradBasedCorrCorrectionRangeMaskLumFeather | 0.500000 |
CircGradBasedCorrCorrectionRangeMaskLumMax | 1.000000 |
CircGradBasedCorrCorrectionRangeMaskLumMin | 0.000000 |
CircGradBasedCorrCorrectionRangeMaskType | 0 |
CircGradBasedCorrCorrectionRangeMaskVersion | +2 |
CircGradBasedCorrDefringe | 0.000000 |
CircGradBasedCorrExposure2012 (4) | 0.025000 |
CircGradBasedCorrExposure2012 (5) | 0.075000 |
CircGradBasedCorrExposure2012 | 0.050000 |
CircGradBasedCorrHighlights2012 | 0.000000 |
CircGradBasedCorrHue | 0.000000 |
CircGradBasedCorrLocalBlacks2012 (1) | -0.008550 |
CircGradBasedCorrLocalBlacks2012 (2) | -0.025640 |
CircGradBasedCorrLocalBlacks2012 | 0.000000 |
CircGradBasedCorrLocalDehaze | 0.000000 |
CircGradBasedCorrLocalHue | 0.000000 |
CircGradBasedCorrLocalTexture (1) | 0.179490 |
CircGradBasedCorrLocalTexture (2) | 0.145300 |
CircGradBasedCorrLocalTexture (5) | 0.094020 |
CircGradBasedCorrLocalTexture | 0.040000 |
CircGradBasedCorrLocalWhites2012 (1) | 0.145300 |
CircGradBasedCorrLocalWhites2012 (2) | 0.076920 |
CircGradBasedCorrLocalWhites2012 (3) | 0.050000 |
CircGradBasedCorrLocalWhites2012 (5) | 0.094020 |
CircGradBasedCorrLocalWhites2012 (6) | 0.111110 |
CircGradBasedCorrLocalWhites2012 | 0.213680 |
CircGradBasedCorrLuminanceNoise (1) | 0.030000 |
CircGradBasedCorrLuminanceNoise (5) | 0.059830 |
CircGradBasedCorrLuminanceNoise | 0.076920 |
CircGradBasedCorrMaskAngle (4) | 0.000000 |
CircGradBasedCorrMaskAngle (6) | 41.970400 |
CircGradBasedCorrMaskAngle | -14.431000 |
CircGradBasedCorrMaskBottom (1) | 0.618504 |
CircGradBasedCorrMaskBottom (2) | 0.521509 |
CircGradBasedCorrMaskBottom (3) | 0.453730 |
CircGradBasedCorrMaskBottom (4) | 1.020100 |
CircGradBasedCorrMaskBottom (5) | 0.681332 |
CircGradBasedCorrMaskBottom (6) | 1.022630 |
CircGradBasedCorrMaskBottom | 0.519718 |
CircGradBasedCorrMaskFeather | +50 |
CircGradBasedCorrMaskFlipped | true |
CircGradBasedCorrMaskLeft (1) | 0.191282 |
CircGradBasedCorrMaskLeft (2) | 0.437930 |
CircGradBasedCorrMaskLeft (3) | 0.010446 |
CircGradBasedCorrMaskLeft (4) | 0.275341 |
CircGradBasedCorrMaskLeft (5) | -0.015327 |
CircGradBasedCorrMaskLeft (6) | 0.752607 |
CircGradBasedCorrMaskLeft | 0.882273 |
CircGradBasedCorrMaskMidpoint | +50 |
CircGradBasedCorrMaskRight (1) | 0.528410 |
CircGradBasedCorrMaskRight (2) | 0.823966 |
CircGradBasedCorrMaskRight (3) | 0.358355 |
CircGradBasedCorrMaskRight (4) | 0.634489 |
CircGradBasedCorrMaskRight (5) | 0.120376 |
CircGradBasedCorrMaskRight (6) | 0.728392 |
CircGradBasedCorrMaskRight | 0.999106 |
CircGradBasedCorrMaskRoundness | 0 |
CircGradBasedCorrMaskTop (1) | 0.434656 |
CircGradBasedCorrMaskTop (2) | 0.388951 |
CircGradBasedCorrMaskTop (3) | 0.183295 |
CircGradBasedCorrMaskTop (4) | 0.753518 |
CircGradBasedCorrMaskTop (5) | 0.510824 |
CircGradBasedCorrMaskTop (6) | 0.652397 |
CircGradBasedCorrMaskTop | 0.411717 |
CircGradBasedCorrMaskValue | 1.000000 |
CircGradBasedCorrMaskVersion | +2 |
CircGradBasedCorrMaskWhat | Mask/CircularGradient |
CircGradBasedCorrMoire | 0.000000 |
CircGradBasedCorrSaturation (1) | 0.162390 |
CircGradBasedCorrSaturation (3) | 0.094020 |
CircGradBasedCorrSaturation (9) | 0.111110 |
CircGradBasedCorrSaturation | 0.000000 |
CircGradBasedCorrShadows2012 (1) | 0.000000 |
CircGradBasedCorrShadows2012 (5) | 0.145300 |
CircGradBasedCorrShadows2012 (6) | 0.111110 |
CircGradBasedCorrShadows2012 | 0.094020 |
CircGradBasedCorrSharpness | 0.000000 |
CircGradBasedCorrTemperature | 0.000000 |
CircGradBasedCorrTint | 0.000000 |
CircGradBasedCorrWhat | Correction |
CircleOfConfusion | 0.020 mm |
Clarity2012 | -20 |
ColorComponents | 3 |
ColorNoiseReduction | 25 |
ColorNoiseReductionDetail | 50 |
ColorNoiseReductionSmoothness | 50 |
ColorSpace | sRGB |
ColorTemperature | 5150 |
ColorTransform | YCbCr |
Contrast | Normal |
Contrast2012 | -24 |
ConvertToGrayscale | False |
CreateDate (1) | 2020:08:20 17:24:59.56 |
CreateDate | 2020:08:20 17:24:59 |
CreatorTool | Adobe Photoshop Lightroom Classic 9.4 (Windows) |
CropAngle | 0 |
CropBottom | 0.997147 |
CropConstrainToWarp | 0 |
CropLeft | 0 |
CropRight | 0.994297 |
CropTop | 0.019971 |
CustomRendered | Normal |
DateCreated (1) | 2020:08:20 |
DateCreated | 2020:08:20 17:24:59.56 |
DateTimeOriginal | 2020:08:20 17:24:59 |
DefringeGreenAmount | 0 |
DefringeGreenHueHi | 60 |
DefringeGreenHueLo | 40 |
DefringePurpleAmount | 0 |
DefringePurpleHueHi | 70 |
DefringePurpleHueLo | 30 |
Dehaze | +15 |
DigitalZoomRatio | 1 |
DistortionCorrectionAlreadyApplied | True |
DOF | inf (6.73 m - inf) |
Exposure2012 | +0.20 |
ExposureCompensation | 0 |
ExposureMode | Manual |
ExposureProgram | Manual |
ExposureTime | 1/320 |
Flash | Off, Did not fire |
FNumber | 9.0 |
FocalLength | 35.0 mm |
FocalLength35efl | 35.0 mm (35 mm equivalent: 52.0 mm) |
FocalLengthIn35mmFormat | 52 mm |
Format | image/jpeg |
FOV | 38.2 deg |
GainControl | None |
GrainAmount | 0 |
GreenHue | 0 |
GreenSaturation | 0 |
HasCrop | True |
HasSettings | True |
Highlights2012 | -90 |
HueAdjustmentAqua | 0 |
HueAdjustmentBlue | 0 |
HueAdjustmentGreen | -27 |
HueAdjustmentMagenta | 0 |
HueAdjustmentOrange | -20 |
HueAdjustmentPurple | 0 |
HueAdjustmentRed | 0 |
HueAdjustmentYellow | -47 |
HyperfocalDistance | 6.73 m |
ImageHeight | 1200 |
ImageNumber | 35441 |
ImageSize | 1832x1200 |
ImageWidth | 1832 |
ISO | 100 |
LateralChromaticAberrationCorrectionAlreadyApplied | True |
Lens | 18.0-35.0 mm f/1.8 |
LensID (1) | 139 |
LensID | Sigma 18-35mm F1.8 DC HSM |
LensInfo | 18-35mm f/1.8 |
LensManualDistortionAmount | 0 |
LensModel | 18.0-35.0 mm f/1.8 |
LensProfileChromaticAberrationScale | 100 |
LensProfileDistortionScale | 100 |
LensProfileEnable | 1 |
LensProfileFilename | NIKON CORPORATION (SIGMA 18-35mm F1.8 DC HSM A013) - RAW.lcp |
LensProfileIsEmbedded | False |
LensProfileName | Adobe (SIGMA 18-35mm F1.8 DC HSM A013, NIKON CORPORATION) |
LensProfileSetup | LensDefaults |
LensProfileVignettingScale | 100 |
LightSource | Unknown |
LightValue | 14.7 |
LookName | |
LuminanceAdjustmentAqua | 0 |
LuminanceAdjustmentBlue | 0 |
LuminanceAdjustmentGreen | 0 |
LuminanceAdjustmentMagenta | 0 |
LuminanceAdjustmentOrange | +12 |
LuminanceAdjustmentPurple | 0 |
LuminanceAdjustmentRed | 0 |
LuminanceAdjustmentYellow | 0 |
LuminanceNoiseReductionContrast | 5 |
LuminanceNoiseReductionDetail | 50 |
LuminanceSmoothing | 10 |
Make | NIKON CORPORATION |
MaxApertureValue | 1.7 |
Megapixels | 2.2 |
MeteringMode | Multi-segment |
Model | NIKON D7200 |
ModifyDate (1) | 2020:10:09 03:55:35+02:00 |
ModifyDate | 2020:10:09 03:55:35 |
OverrideLookVignette | True |
ParametricDarks | 0 |
ParametricHighlights | 0 |
ParametricHighlightSplit | 75 |
ParametricLights | 0 |
ParametricMidtoneSplit | 50 |
ParametricShadows | 0 |
ParametricShadowSplit | 25 |
PerspectiveAspect | 0 |
PerspectiveHorizontal | 0 |
PerspectiveRotate | 0.0 |
PerspectiveScale | 100 |
PerspectiveUpright | 0 |
PerspectiveVertical | 0 |
PerspectiveX | 0.00 |
PerspectiveY | 0.00 |
PostCropVignetteAmount | -9 |
PostCropVignetteFeather | 50 |
PostCropVignetteHighlightContrast | 0 |
PostCropVignetteMidpoint | 47 |
PostCropVignetteRoundness | 0 |
PostCropVignetteStyle | 1 |
PreservedFileName | DSC_9795.NEF |
ProcessVersion | 11.0 |
ProfileDescription | sRGB IEC61966-2.1 |
RawFileName | DSC_9795.NEF |
RedHue | 0 |
RedSaturation | 0 |
Saturation (1) | +20 |
Saturation | Normal |
SaturationAdjustmentAqua | 0 |
SaturationAdjustmentBlue | 0 |
SaturationAdjustmentGreen | +36 |
SaturationAdjustmentMagenta | 0 |
SaturationAdjustmentOrange | +28 |
SaturationAdjustmentPurple | 0 |
SaturationAdjustmentRed | +7 |
SaturationAdjustmentYellow | +30 |
ScaleFactor35efl | 1.5 |
SceneCaptureType | Standard |
SceneType | Directly photographed |
SensingMethod | One-chip color area |
SensitivityType | Recommended Exposure Index |
SerialNumber | 4452707 |
Shadows2012 | +75 |
ShadowTint | 0 |
SharpenDetail | 33 |
SharpenEdgeMasking | 25 |
SharpenRadius | +0.8 |
Sharpness (1) | 63 |
Sharpness | Normal |
ShutterSpeed | 1/320 |
ShutterSpeedValue | 1/320 |
Software | Adobe Photoshop Lightroom Classic 9.4 (Windows) |
SplitToningBalance | 0 |
SplitToningHighlightHue | 31 |
SplitToningHighlightSaturation | 14 |
SplitToningShadowHue | 44 |
SplitToningShadowSaturation | 1 |
SubjectDistanceRange | Unknown |
Texture | +20 |
Tint | +3 |
ToneCurve | 0, 0, 255, 255 |
ToneCurveBlue | 0, 0, 255, 255 |
ToneCurveGreen | 0, 0, 255, 255 |
ToneCurveName | Linear |
ToneCurveName2012 | Linear |
ToneCurvePV2012 | 0, 0, 255, 255 |
ToneCurvePV2012Blue | 0, 0, 255, 255 |
ToneCurvePV2012Green | 0, 0, 255, 255 |
ToneCurvePV2012Red | 0, 0, 255, 255 |
ToneCurveRed | 0, 0, 255, 255 |
ToneMapStrength | 0 |
Version | 12.4 |
Vibrance | +39 |
VignetteAmount | 0 |
VignetteCorrectionAlreadyApplied | True |
WhiteBalance (1) | As Shot |
WhiteBalance | Auto |
Whites2012 | +72 |