Felt | Verdi |
AlreadyApplied | True |
Aperture | 10.0 |
ApertureValue | 10.0 |
ApproximateFocusDistance | 4294967295 |
AutoLateralCA | 1 |
BitsPerSample | 8 |
Blacks2012 | -11 |
BlueHue | 0 |
BlueSaturation | 0 |
CameraProfile | Adobe Standard |
CFAPattern | [Red,Green][Green,Blue] |
CircGradBasedCorrActive | true |
CircGradBasedCorrAmount | 1.000000 |
CircGradBasedCorrBrightness | 0.000000 |
CircGradBasedCorrClarity2012 | 0.000000 |
CircGradBasedCorrContrast2012 (10) | 0.142860 |
CircGradBasedCorrContrast2012 (11) | 0.109240 |
CircGradBasedCorrContrast2012 (2) | 0.111110 |
CircGradBasedCorrContrast2012 (4) | 0.145300 |
CircGradBasedCorrContrast2012 (6) | 0.076920 |
CircGradBasedCorrContrast2012 (7) | 0.000000 |
CircGradBasedCorrContrast2012 (8) | 0.094020 |
CircGradBasedCorrContrast2012 | 0.159660 |
CircGradBasedCorrCorrectionRangeMaskColorAmount | 0.500000 |
CircGradBasedCorrCorrectionRangeMaskDepthFeather | 0.500000 |
CircGradBasedCorrCorrectionRangeMaskDepthMax | 1.000000 |
CircGradBasedCorrCorrectionRangeMaskDepthMin | 0.000000 |
CircGradBasedCorrCorrectionRangeMaskLumFeather | 0.500000 |
CircGradBasedCorrCorrectionRangeMaskLumMax | 1.000000 |
CircGradBasedCorrCorrectionRangeMaskLumMin | 0.000000 |
CircGradBasedCorrCorrectionRangeMaskType | 0 |
CircGradBasedCorrCorrectionRangeMaskVersion | +2 |
CircGradBasedCorrDefringe | 0.000000 |
CircGradBasedCorrExposure2012 (10) | 0.025000 |
CircGradBasedCorrExposure2012 (3) | 0.075000 |
CircGradBasedCorrExposure2012 (7) | -0.024750 |
CircGradBasedCorrExposure2012 (9) | 0.000000 |
CircGradBasedCorrExposure2012 | 0.050000 |
CircGradBasedCorrHighlights2012 (6) | -0.880340 |
CircGradBasedCorrHighlights2012 (7) | -0.760680 |
CircGradBasedCorrHighlights2012 (9) | -0.546220 |
CircGradBasedCorrHighlights2012 | 0.000000 |
CircGradBasedCorrHue | 0.000000 |
CircGradBasedCorrLocalBlacks2012 (10) | -0.029970 |
CircGradBasedCorrLocalBlacks2012 (2) | 0.000000 |
CircGradBasedCorrLocalBlacks2012 (9) | -0.008400 |
CircGradBasedCorrLocalBlacks2012 | -0.019980 |
CircGradBasedCorrLocalDehaze | 0.000000 |
CircGradBasedCorrLocalHue | 0.000000 |
CircGradBasedCorrLocalTexture (1) | 0.145300 |
CircGradBasedCorrLocalTexture (10) | 0.193280 |
CircGradBasedCorrLocalTexture (11) | 0.176470 |
CircGradBasedCorrLocalTexture (5) | 0.000000 |
CircGradBasedCorrLocalTexture (7) | 0.111110 |
CircGradBasedCorrLocalTexture (9) | 0.210080 |
CircGradBasedCorrLocalTexture | 0.162390 |
CircGradBasedCorrLocalWhites2012 (10) | 0.042020 |
CircGradBasedCorrLocalWhites2012 (2) | 0.000000 |
CircGradBasedCorrLocalWhites2012 (4) | 0.025640 |
CircGradBasedCorrLocalWhites2012 (5) | -0.019980 |
CircGradBasedCorrLocalWhites2012 | 0.050000 |
CircGradBasedCorrLuminanceNoise (10) | 0.060000 |
CircGradBasedCorrLuminanceNoise (11) | 0.092440 |
CircGradBasedCorrLuminanceNoise (2) | 0.111110 |
CircGradBasedCorrLuminanceNoise (4) | 0.094020 |
CircGradBasedCorrLuminanceNoise (6) | 0.059830 |
CircGradBasedCorrLuminanceNoise (7) | 0.000000 |
CircGradBasedCorrLuminanceNoise (8) | 0.076920 |
CircGradBasedCorrLuminanceNoise | 0.075630 |
CircGradBasedCorrMaskAngle (10) | 26.227900 |
CircGradBasedCorrMaskAngle (11) | -16.465900 |
CircGradBasedCorrMaskAngle (2) | -20.492600 |
CircGradBasedCorrMaskAngle (3) | -39.585600 |
CircGradBasedCorrMaskAngle (4) | -44.744500 |
CircGradBasedCorrMaskAngle (6) | 15.098500 |
CircGradBasedCorrMaskAngle (8) | -41.058700 |
CircGradBasedCorrMaskAngle | 1.126000 |
CircGradBasedCorrMaskBottom (1) | 0.641608 |
CircGradBasedCorrMaskBottom (10) | 0.908484 |
CircGradBasedCorrMaskBottom (11) | 0.654285 |
CircGradBasedCorrMaskBottom (2) | 0.336826 |
CircGradBasedCorrMaskBottom (3) | 0.310519 |
CircGradBasedCorrMaskBottom (4) | 0.571245 |
CircGradBasedCorrMaskBottom (5) | 0.756529 |
CircGradBasedCorrMaskBottom (6) | 0.098082 |
CircGradBasedCorrMaskBottom (7) | 0.098094 |
CircGradBasedCorrMaskBottom (8) | 0.569419 |
CircGradBasedCorrMaskBottom (9) | 0.455460 |
CircGradBasedCorrMaskBottom | 0.198910 |
CircGradBasedCorrMaskFeather | +50 |
CircGradBasedCorrMaskFlipped | true |
CircGradBasedCorrMaskLeft (1) | 0.047103 |
CircGradBasedCorrMaskLeft (10) | 0.228345 |
CircGradBasedCorrMaskLeft (11) | 0.501947 |
CircGradBasedCorrMaskLeft (2) | 0.041202 |
CircGradBasedCorrMaskLeft (3) | 0.087085 |
CircGradBasedCorrMaskLeft (4) | 0.195417 |
CircGradBasedCorrMaskLeft (5) | 0.594078 |
CircGradBasedCorrMaskLeft (6) | 0.165941 |
CircGradBasedCorrMaskLeft (7) | 0.333902 |
CircGradBasedCorrMaskLeft (8) | 0.838199 |
CircGradBasedCorrMaskLeft (9) | 0.342521 |
CircGradBasedCorrMaskLeft | 0.455358 |
CircGradBasedCorrMaskMidpoint | +50 |
CircGradBasedCorrMaskRight (1) | 0.134839 |
CircGradBasedCorrMaskRight (10) | 0.204503 |
CircGradBasedCorrMaskRight (11) | 0.590582 |
CircGradBasedCorrMaskRight (2) | 0.130378 |
CircGradBasedCorrMaskRight (3) | 0.199439 |
CircGradBasedCorrMaskRight (4) | 0.554001 |
CircGradBasedCorrMaskRight (5) | 0.794181 |
CircGradBasedCorrMaskRight (6) | 0.247137 |
CircGradBasedCorrMaskRight (7) | 0.378412 |
CircGradBasedCorrMaskRight (8) | 1.027760 |
CircGradBasedCorrMaskRight (9) | 0.380031 |
CircGradBasedCorrMaskRight | 0.573017 |
CircGradBasedCorrMaskRoundness | 0 |
CircGradBasedCorrMaskTop (1) | 0.367745 |
CircGradBasedCorrMaskTop (10) | 0.634580 |
CircGradBasedCorrMaskTop (11) | 0.437824 |
CircGradBasedCorrMaskTop (2) | 0.200883 |
CircGradBasedCorrMaskTop (3) | 0.237329 |
CircGradBasedCorrMaskTop (4) | 0.755563 |
CircGradBasedCorrMaskTop (5) | 0.261344 |
CircGradBasedCorrMaskTop (6) | 0.004150 |
CircGradBasedCorrMaskTop (7) | 0.058961 |
CircGradBasedCorrMaskTop (8) | 0.500375 |
CircGradBasedCorrMaskTop (9) | 0.382931 |
CircGradBasedCorrMaskTop | 0.154513 |
CircGradBasedCorrMaskValue | 1.000000 |
CircGradBasedCorrMaskVersion | +2 |
CircGradBasedCorrMaskWhat | Mask/CircularGradient |
CircGradBasedCorrMoire | 0.000000 |
CircGradBasedCorrSaturation (1) | 0.076920 |
CircGradBasedCorrSaturation (19) | 0.090000 |
CircGradBasedCorrSaturation (21) | 0.058820 |
CircGradBasedCorrSaturation (23) | 0.109240 |
CircGradBasedCorrSaturation (7) | 0.094020 |
CircGradBasedCorrSaturation | 0.000000 |
CircGradBasedCorrShadows2012 (10) | 0.176470 |
CircGradBasedCorrShadows2012 (11) | 0.243700 |
CircGradBasedCorrShadows2012 (2) | 0.401710 |
CircGradBasedCorrShadows2012 (3) | 0.418800 |
CircGradBasedCorrShadows2012 (4) | 0.247860 |
CircGradBasedCorrShadows2012 (5) | 0.367520 |
CircGradBasedCorrShadows2012 (6) | 0.000000 |
CircGradBasedCorrShadows2012 (8) | 0.299150 |
CircGradBasedCorrShadows2012 | 0.210080 |
CircGradBasedCorrSharpness | 0.000000 |
CircGradBasedCorrTemperature | 0.000000 |
CircGradBasedCorrTint | 0.000000 |
CircGradBasedCorrWhat | Correction |
CircleOfConfusion | 0.020 mm |
Clarity2012 | -10 |
ColorComponents | 3 |
ColorGradeBlending | 100 |
ColorGradeGlobalHue | 0 |
ColorGradeGlobalLum | 0 |
ColorGradeGlobalSat | 0 |
ColorGradeHighlightLum | 0 |
ColorGradeMidtoneHue | 244 |
ColorGradeMidtoneLum | +32 |
ColorGradeMidtoneSat | 35 |
ColorGradeShadowLum | 0 |
ColorNoiseReduction | 25 |
ColorNoiseReductionDetail | 50 |
ColorNoiseReductionSmoothness | 50 |
ColorSpace | sRGB |
ColorTemperature | 5500 |
ColorTransform | YCbCr |
Contrast | Normal |
Contrast2012 | -9 |
ConvertToGrayscale | False |
CreateDate (1) | 2020:08:22 19:47:45.99 |
CreateDate | 2020:08:22 19:47:45 |
CreatorTool | Adobe Photoshop Lightroom Classic 10.0 (Windows) |
CropAngle | 1.126 |
CropBottom | 1 |
CropConstrainToWarp | 0 |
CropLeft | 0.034677 |
CropRight | 0.980532 |
CropTop | 0 |
CustomRendered | Normal |
DateCreated (1) | 2020:08:22 |
DateCreated | 2020:08:22 19:47:45.99 |
DateTimeOriginal | 2020:08:22 19:47:45 |
DefringeGreenAmount | 0 |
DefringeGreenHueHi | 60 |
DefringeGreenHueLo | 40 |
DefringePurpleAmount | 0 |
DefringePurpleHueHi | 70 |
DefringePurpleHueLo | 30 |
Dehaze | +20 |
DigitalZoomRatio | 1 |
DistortionCorrectionAlreadyApplied | True |
DOF | inf (1.62 m - inf) |
Exposure2012 | +0.40 |
ExposureCompensation | 0 |
ExposureMode | Manual |
ExposureProgram | Manual |
ExposureTime | 1/60 |
Flash | Off, Did not fire |
FNumber | 10.0 |
FocalLength | 18.0 mm |
FocalLength35efl | 18.0 mm (35 mm equivalent: 27.0 mm) |
FocalLengthIn35mmFormat | 27 mm |
Format | image/jpeg |
FOV | 67.4 deg |
GainControl | None |
GrainAmount | 0 |
GreenHue | 0 |
GreenSaturation | 0 |
HasCrop | True |
HasSettings | True |
Highlights2012 | -100 |
HueAdjustmentAqua | 0 |
HueAdjustmentBlue | 0 |
HueAdjustmentGreen | +5 |
HueAdjustmentMagenta | 0 |
HueAdjustmentOrange | -20 |
HueAdjustmentPurple | 0 |
HueAdjustmentRed | 0 |
HueAdjustmentYellow | -47 |
HyperfocalDistance | 1.62 m |
ImageHeight | 1200 |
ImageNumber | 35625 |
ImageSize | 1776x1200 |
ImageWidth | 1776 |
ISO | 100 |
LateralChromaticAberrationCorrectionAlreadyApplied | True |
Lens | 18.0-35.0 mm f/1.8 |
LensID (1) | 139 |
LensID | Sigma 18-35mm F1.8 DC HSM |
LensInfo | 18-35mm f/1.8 |
LensManualDistortionAmount | 0 |
LensModel | 18.0-35.0 mm f/1.8 |
LensProfileDistortionScale | 100 |
LensProfileEnable | 1 |
LensProfileFilename | NIKON CORPORATION (SIGMA 18-35mm F1.8 DC HSM A013) - RAW.lcp |
LensProfileIsEmbedded | False |
LensProfileName | Adobe (SIGMA 18-35mm F1.8 DC HSM A013, NIKON CORPORATION) |
LensProfileSetup | LensDefaults |
LensProfileVignettingScale | 100 |
LightSource | Unknown |
LightValue | 12.6 |
LuminanceAdjustmentAqua | 0 |
LuminanceAdjustmentBlue | 0 |
LuminanceAdjustmentGreen | +67 |
LuminanceAdjustmentMagenta | 0 |
LuminanceAdjustmentOrange | +52 |
LuminanceAdjustmentPurple | 0 |
LuminanceAdjustmentRed | 0 |
LuminanceAdjustmentYellow | +38 |
LuminanceNoiseReductionContrast | 5 |
LuminanceNoiseReductionDetail | 50 |
LuminanceSmoothing | 10 |
Make | NIKON CORPORATION |
MaxApertureValue | 1.7 |
Megapixels | 2.1 |
MeteringMode | Multi-segment |
Model | NIKON D7200 |
ModifyDate (1) | 2020:10:22 19:52:41+02:00 |
ModifyDate | 2020:10:22 19:52:41 |
OverrideLookVignette | True |
ParametricDarks | 0 |
ParametricHighlights | 0 |
ParametricHighlightSplit | 75 |
ParametricLights | 0 |
ParametricMidtoneSplit | 50 |
ParametricShadows | 0 |
ParametricShadowSplit | 25 |
PerspectiveAspect | 0 |
PerspectiveHorizontal | 0 |
PerspectiveRotate | 0.0 |
PerspectiveScale | 100 |
PerspectiveUpright | 0 |
PerspectiveVertical | 0 |
PerspectiveX | 0.00 |
PerspectiveY | 0.00 |
PostCropVignetteAmount | -9 |
PostCropVignetteFeather | 50 |
PostCropVignetteHighlightContrast | 0 |
PostCropVignetteMidpoint | 47 |
PostCropVignetteRoundness | 0 |
PostCropVignetteStyle | 1 |
PreservedFileName | DSC_9979.NEF |
ProcessVersion | 11.0 |
ProfileDescription | sRGB IEC61966-2.1 |
RawFileName | DSC_9979.NEF |
RedHue | 0 |
RedSaturation | 0 |
Saturation (1) | +15 |
Saturation | Normal |
SaturationAdjustmentAqua | 0 |
SaturationAdjustmentBlue | 0 |
SaturationAdjustmentGreen | +36 |
SaturationAdjustmentMagenta | 0 |
SaturationAdjustmentOrange | +28 |
SaturationAdjustmentPurple | 0 |
SaturationAdjustmentRed | +7 |
SaturationAdjustmentYellow | +30 |
ScaleFactor35efl | 1.5 |
SceneCaptureType | Standard |
SceneType | Directly photographed |
SensingMethod | One-chip color area |
SensitivityType | Recommended Exposure Index |
SerialNumber | 4452707 |
Shadows2012 | +70 |
ShadowTint | 0 |
SharpenDetail | 33 |
SharpenEdgeMasking | 20 |
SharpenRadius | +0.8 |
Sharpness (1) | 48 |
Sharpness | Normal |
ShutterSpeed | 1/60 |
ShutterSpeedValue | 1/60 |
Software | Adobe Photoshop Lightroom Classic 10.0 (Windows) |
SplitToningBalance | 0 |
SplitToningHighlightHue | 45 |
SplitToningHighlightSaturation | 11 |
SplitToningShadowHue | 36 |
SplitToningShadowSaturation | 0 |
SubjectDistanceRange | Unknown |
Texture | +25 |
Tint | +4 |
ToneCurveName2012 | Linear |
ToneCurvePV2012 | 0, 0, 255, 255 |
ToneCurvePV2012Blue | 0, 0, 255, 255 |
ToneCurvePV2012Green | 0, 0, 255, 255 |
ToneCurvePV2012Red | 0, 0, 255, 255 |
Version | 13.0 |
Vibrance | +39 |
VignetteAmount | 0 |
VignetteCorrectionAlreadyApplied | True |
WhiteBalance (1) | Custom |
WhiteBalance | Auto |
Whites2012 | +70 |