Felt | Verdi |
AlreadyApplied | True |
Aperture | 1.8 |
ApertureValue | 1.8 |
Artist | Harald Gruendel |
AutoLateralCA | 0 |
BitsPerSample | 8 |
Blacks2012 | -30 |
BlueHue | 0 |
BlueSaturation | 0 |
By-line | Harald Gruendel |
CameraProfile | Adobe Standard v2 |
CFAPattern | [Red,Green][Green,Blue] |
CircleOfConfusion | 0.030 mm |
Clarity2012 | +20 |
ColorComponents | 3 |
ColorGradeBlending | 50 |
ColorGradeGlobalHue | 0 |
ColorGradeGlobalLum | 0 |
ColorGradeGlobalSat | 0 |
ColorGradeHighlightLum | 0 |
ColorGradeMidtoneHue | 0 |
ColorGradeMidtoneLum | 0 |
ColorGradeMidtoneSat | 0 |
ColorGradeShadowLum | 0 |
ColorNoiseReduction | 25 |
ColorNoiseReductionDetail | 50 |
ColorNoiseReductionSmoothness | 50 |
ColorSpace | sRGB |
ColorTemperature | 6200 |
ColorTransform | YCbCr |
Contrast | Normal |
Contrast2012 | +31 |
Copyright | Harald Gruendel |
CopyrightNotice | Harald Gruendel |
CreateDate (1) | 2020:11:07 11:28:30.71+02:00 |
CreateDate | 2020:11:07 11:28:30 |
Creator | Harald Gruendel |
CreatorTool | Adobe Photoshop Lightroom Classic 10.0 (Macintosh) |
CropAngle | -0.371311 |
CropBottom | 0.990373 |
CropConstrainToWarp | 0 |
CropLeft | 0.002674 |
CropRight | 0.997326 |
CropTop | 0.009627 |
CustomRendered | Custom |
DateCreated (1) | 2020:11:07 |
DateCreated | 2020:11:07 11:28:30.71+02:00 |
DateTimeOriginal | 2020:11:07 11:28:30 |
DefringeGreenHueHi | 69 |
DefringeGreenHueLo | 31 |
DefringePurpleAmount | 3 |
Dehaze | 0 |
Exposure2012 | +0.87 |
ExposureCompensation | 0 |
ExposureMode | Manual |
ExposureProgram | Manual |
ExposureTime | 1/80 |
Flash | No Flash |
FNumber | 1.8 |
FocalLength | 14.0 mm |
FocalLength35efl | 14.0 mm (35 mm equivalent: 14.0 mm) |
FocalLengthIn35mmFormat | 14 mm |
Format | image/jpeg |
FOV | 104.3 deg |
GainControl | None |
GrainAmount | 0 |
GrayMixerAqua | -16 |
GrayMixerBlue | +15 |
GrayMixerGreen | -28 |
GrayMixerMagenta | +4 |
GrayMixerOrange | -21 |
GrayMixerPurple | +19 |
GrayMixerRed | -12 |
GrayMixerYellow | -25 |
GreenHue | 0 |
GreenSaturation | 0 |
HasCrop | True |
HasSettings | True |
Highlights2012 | -87 |
HueAdjustmentAqua | +22 |
HueAdjustmentBlue | +9 |
HueAdjustmentGreen | -36 |
HueAdjustmentRed | +22 |
HyperfocalDistance | 3.62 m |
ImageHeight | 2560 |
ImageNumber | 33617 |
ImageSize | 3840x2560 |
ImageWidth | 3840 |
ISO | 500 |
Lens | 14.0 mm f/1.8 |
LensInfo | 14mm f/1.8 |
LensManualDistortionAmount | 0 |
LensModel | 14.0 mm f/1.8 |
LensProfileEnable | 0 |
LightSource | Unknown |
LightValue | 5.7 |
LookAmount | 1.200000 |
LookCluster | Adobe |
LookGroup | B&W |
LookName | B&W 11 |
LookParametersClarity2012 | +18 |
LookParametersContrast2012 | +8 |
LookParametersConvertToGrayscale | True |
LookParametersHighlights2012 | -50 |
LookParametersLookTable | 62CE423BDCA099FE0B786CA01EB606B0 |
LookParametersProcessVersion | 11.0 |
LookParametersShadows2012 | +20 |
LookParametersToneCurvePV2012 | 0, 24, 17, 26, 34, 31, 51, 40, 68, 57, 85, 79, 102, 104, 119, 129, 136, 151, 153, 168, 170, 182, 187, 194, 204, 205, 221, 214, 238, 223, 255, 232 |
LookParametersToneCurvePV2012Blue | 0, 0, 255, 255 |
LookParametersToneCurvePV2012Green | 0, 0, 255, 255 |
LookParametersToneCurvePV2012Red | 0, 0, 255, 255 |
LookParametersVersion | 13.0 |
LookSortName | B&W 11 |
LookSupportsMonochrome | false |
LuminanceNoiseReductionContrast | 0 |
LuminanceNoiseReductionDetail | 50 |
LuminanceSmoothing | 16 |
Make | NIKON CORPORATION |
Megapixels | 9.8 |
MeteringMode | Multi-segment |
Model | NIKON Z 7 |
ModifyDate (1) | 2020:11:07 20:09:47+01:00 |
ModifyDate | 2020:11:07 20:09:47 |
OverrideLookVignette | False |
ParametricDarks | 0 |
ParametricHighlights | 0 |
ParametricHighlightSplit | 75 |
ParametricLights | 0 |
ParametricMidtoneSplit | 50 |
ParametricShadows | 0 |
ParametricShadowSplit | 25 |
PerspectiveAspect | 0 |
PerspectiveHorizontal | 0 |
PerspectiveRotate | 0.0 |
PerspectiveScale | 100 |
PerspectiveUpright | 0 |
PerspectiveVertical | 0 |
PerspectiveX | 0.00 |
PerspectiveY | 0.00 |
PostCropVignetteAmount | -57 |
PostCropVignetteFeather | 73 |
PostCropVignetteHighlightContrast | 28 |
PostCropVignetteMidpoint | 33 |
PostCropVignetteRoundness | 0 |
PostCropVignetteStyle | 1 |
PreservedFileName | DZ7_2215.NEF |
ProcessVersion | 11.0 |
ProfileDescription | sRGB IEC61966-2.1 |
Rating | 3 |
RawFileName | DZ7_2215.NEF |
RecommendedExposureIndex | 500 |
RedHue | 0 |
RedSaturation | 0 |
Rights | Harald Gruendel |
Saturation | Normal |
SaturationAdjustmentRed | +22 |
ScaleFactor35efl | 1.0 |
SceneCaptureType | Standard |
SceneType | Directly photographed |
SensingMethod | One-chip color area |
SensitivityType | Recommended Exposure Index |
SerialNumber | 6010563 |
Shadows2012 | +60 |
ShadowTint | 0 |
SharpenDetail | 25 |
SharpenEdgeMasking | 21 |
SharpenRadius | +1.0 |
Sharpness (1) | 68 |
Sharpness | Normal |
ShutterSpeed | 1/80 |
ShutterSpeedValue | 1/80 |
Software | Adobe Photoshop Lightroom Classic 10.0 (Macintosh) |
SplitToningBalance | 0 |
SplitToningHighlightHue | 0 |
SplitToningHighlightSaturation | 0 |
SplitToningShadowHue | 0 |
SplitToningShadowSaturation | 0 |
SubjectDistanceRange | Unknown |
Texture | 0 |
Tint | +19 |
ToneCurveName2012 | Linear |
ToneCurvePV2012 | 0, 0, 255, 255 |
ToneCurvePV2012Blue | 0, 0, 255, 255 |
ToneCurvePV2012Green | 0, 0, 255, 255 |
ToneCurvePV2012Red | 0, 0, 255, 255 |
Version | 13.0 |
VignetteAmount | 0 |
VignetteCorrectionAlreadyApplied | True |
WhiteBalance (1) | As Shot |
WhiteBalance | Auto |
Whites2012 | +25 |