Felt | Verdi |
AlreadyApplied | True |
Aperture | 6.3 |
ApertureValue | 6.3 |
ApproximateFocusDistance | 67.8 |
AutoLateralCA | 1 |
AutoWhiteVersion | 134348800 |
BitsPerSample | 8 |
Blacks2012 | -50 |
BlueHue | -32 |
BlueSaturation | +39 |
CameraProfile | Adobe Standard |
CircGradBasedCorrActive | true |
CircGradBasedCorrAmount | 1.000000 |
CircGradBasedCorrBrightness | 0.000000 |
CircGradBasedCorrClarity2012 | 0.000000 |
CircGradBasedCorrContrast2012 | 0.000000 |
CircGradBasedCorrDefringe | 0.000000 |
CircGradBasedCorrExposure2012 | -0.250000 |
CircGradBasedCorrHighlights2012 | 0.000000 |
CircGradBasedCorrHue | 240.000000 |
CircGradBasedCorrLocalBlacks2012 | 0.000000 |
CircGradBasedCorrLocalDehaze | 0.000000 |
CircGradBasedCorrLocalWhites2012 | 0.000000 |
CircGradBasedCorrLuminanceNoise | 0.000000 |
CircGradBasedCorrMaskAngle | 0.000000 |
CircGradBasedCorrMaskBottom | 0.968208 |
CircGradBasedCorrMaskFeather | +50 |
CircGradBasedCorrMaskFlipped | false |
CircGradBasedCorrMaskLeft | 0.117534 |
CircGradBasedCorrMaskMidpoint | +50 |
CircGradBasedCorrMaskRight | 0.745665 |
CircGradBasedCorrMaskRoundness | 0 |
CircGradBasedCorrMaskTop | 0.349712 |
CircGradBasedCorrMaskValue | 1.000000 |
CircGradBasedCorrMaskVersion | +2 |
CircGradBasedCorrMaskWhat | Mask/CircularGradient |
CircGradBasedCorrMoire | 0.000000 |
CircGradBasedCorrSaturation | 0.000000 |
CircGradBasedCorrShadows2012 | 0.000000 |
CircGradBasedCorrSharpness | 0.000000 |
CircGradBasedCorrTemperature | 0.000000 |
CircGradBasedCorrTint | 0.000000 |
CircGradBasedCorrWhat | Correction |
CircleOfConfusion | 0.025 mm |
Clarity2012 | +17 |
ColorComponents | 3 |
ColorNoiseReduction | 25 |
ColorNoiseReductionDetail | 50 |
ColorNoiseReductionSmoothness | 50 |
ColorSpace | Uncalibrated |
ColorTemperature | 5800 |
ColorTransform | YCbCr |
Contrast2012 | +48 |
ConvertToGrayscale | True |
CreateDate (1) | 2020:08:19 06:33:42.47 |
CreateDate | 2020:08:19 06:33:42 |
CreatorTool | Adobe Photoshop Lightroom 6.14 (Windows) |
CropAngle | 0 |
CropBottom | 0.966718 |
CropConstrainToWarp | 0 |
CropLeft | 0.112717 |
CropRight | 0.982659 |
CropTop | 0.232704 |
CustomRendered | Normal |
DateCreated (1) | 2020:08:19 |
DateCreated | 2020:08:19 06:33:42.47 |
DateTimeOriginal | 2020:08:19 06:33:42 |
Dehaze | 0 |
DistortionCorrectionAlreadyApplied | True |
DOF | 3.97 m (65.87 - 69.85 m) |
Exposure2012 | -0.90 |
ExposureCompensation | 0 |
ExposureMode | Manual |
ExposureProgram | Manual |
ExposureTime | 1/800 |
Firmware | 1.0.2 |
Flash | Off, Did not fire |
FlashCompensation | 0 |
FNumber | 6.3 |
FocalLength | 600.0 mm |
FocalLength35efl | 600.0 mm (35 mm equivalent: 723.9 mm) |
Format | image/jpeg |
FOV | 2.8 deg |
GradientBasedCorrActive | true |
GradientBasedCorrAmount | 1.000000 |
GradientBasedCorrBrightness | 0.000000 |
GradientBasedCorrClarity2012 | 0.000000 |
GradientBasedCorrContrast2012 | 0.000000 |
GradientBasedCorrDefringe | 0.000000 |
GradientBasedCorrExposure2012 (1) | -0.050000 |
GradientBasedCorrExposure2012 | -0.400000 |
GradientBasedCorrHighlights2012 | 0.000000 |
GradientBasedCorrHue | 240.000000 |
GradientBasedCorrLocalBlacks2012 | 0.000000 |
GradientBasedCorrLocalDehaze | 0.000000 |
GradientBasedCorrLocalWhites2012 | 0.000000 |
GradientBasedCorrLuminanceNoise | 0.000000 |
GradientBasedCorrMaskFullX (1) | 0.723002 |
GradientBasedCorrMaskFullX | 0.804823 |
GradientBasedCorrMaskFullY (1) | 0.320545 |
GradientBasedCorrMaskFullY | 0.583884 |
GradientBasedCorrMaskValue | 1.000000 |
GradientBasedCorrMaskWhat | Mask/Gradient |
GradientBasedCorrMaskZeroX (1) | 0.717350 |
GradientBasedCorrMaskZeroX | 0.718403 |
GradientBasedCorrMaskZeroY (1) | 0.419864 |
GradientBasedCorrMaskZeroY | 0.641872 |
GradientBasedCorrMoire | 0.000000 |
GradientBasedCorrSaturation | 0.000000 |
GradientBasedCorrShadows2012 | 0.000000 |
GradientBasedCorrSharpness | 0.000000 |
GradientBasedCorrTemperature | 0.000000 |
GradientBasedCorrTint | 0.000000 |
GradientBasedCorrWhat | Correction |
GrainAmount | 0 |
GrayMixerAqua | -19 |
GrayMixerBlue | +7 |
GrayMixerGreen | -25 |
GrayMixerMagenta | +5 |
GrayMixerOrange | -16 |
GrayMixerPurple | +14 |
GrayMixerRed | -7 |
GrayMixerYellow | -20 |
GreenHue | +31 |
GreenSaturation | +68 |
HasCrop | True |
HasExtendedXMP | E97DE3DC2C39C780459E2528A82DE5CD |
HasSettings | True |
Highlights2012 | +23 |
HyperfocalDistance | 2294.65 m |
ImageHeight | 3053 |
ImageNumber | 0 |
ImageSize | 5428x3053 |
ImageWidth | 5428 |
ISO | 320 |
LateralChromaticAberrationCorrectionAlreadyApplied | True |
Lens | TAMRON SP 150-600mm F/5-6.3 Di VC USD G2 A022 |
LensID (1) | 747 |
LensID | Tamron SP 150-600mm f/5-6.3 Di VC USD G2 |
LensInfo | 150-600mm f/? |
LensManualDistortionAmount | 0 |
LensModel | TAMRON SP 150-600mm F/5-6.3 Di VC USD G2 A022 |
LensProfileChromaticAberrationScale | 100 |
LensProfileDistortionScale | 100 |
LensProfileEnable | 1 |
LensProfileFilename | Canon (TAMRON SP 150-600mm F_5-6.3 Di VC USD G2 A022E) - RAW.lcp |
LensProfileName | Adobe (TAMRON SP 150-600mm F/5-6.3 Di VC USD G2 A022E) |
LensProfileSetup | LensDefaults |
LensProfileVignettingScale | 100 |
LensSerialNumber | 0000000000 |
LightValue | 13.3 |
LuminanceSmoothing | 0 |
Make | Canon |
MaxApertureValue | 6.2 |
Megapixels | 16.6 |
MeteringMode | Multi-segment |
Model | Canon EOS 6D Mark II |
ModifyDate (1) | 2020:11:04 00:24:13+01:00 |
ModifyDate | 2020:11:04 00:24:13 |
PaintCorrectionActive | true |
PaintCorrectionAmount | 1.000000 |
PaintCorrectionBrightness | 0.000000 |
PaintCorrectionClarity2012 | 0.000000 |
PaintCorrectionContrast2012 | 0.000000 |
PaintCorrectionDefringe | 0.000000 |
PaintCorrectionExposure2012 (2) | -0.200000 |
PaintCorrectionExposure2012 (4) | -0.125000 |
PaintCorrectionExposure2012 | -0.250000 |
PaintCorrectionHighlights2012 | 0.000000 |
PaintCorrectionHue | 240.000000 |
PaintCorrectionLocalBlacks2012 | 0.000000 |
PaintCorrectionLocalDehaze | 0.000000 |
PaintCorrectionLocalWhites2012 | 0.000000 |
PaintCorrectionLuminanceNoise | 0.000000 |
PaintCorrectionMaskCenterWeight (1) | 0.129340 |
PaintCorrectionMaskCenterWeight (14) | 1.000000 |
PaintCorrectionMaskCenterWeight (35) | 0.377675 |
PaintCorrectionMaskCenterWeight | 0.027506 |
PaintCorrectionMaskFlow (13) | 1.000000 |
PaintCorrectionMaskFlow | 0.518000 |
PaintCorrectionMaskRadius (1) | 0.061138 |
PaintCorrectionMaskRadius (10) | 0.007459 |
PaintCorrectionMaskRadius (18) | 0.000969 |
PaintCorrectionMaskRadius (2) | 0.033664 |
PaintCorrectionMaskRadius (20) | 0.002666 |
PaintCorrectionMaskRadius (23) | 0.006944 |
PaintCorrectionMaskRadius (24) | 0.008095 |
PaintCorrectionMaskRadius (25) | 0.008103 |
PaintCorrectionMaskRadius (26) | 0.006341 |
PaintCorrectionMaskRadius (27) | 0.006340 |
PaintCorrectionMaskRadius (28) | 0.008125 |
PaintCorrectionMaskRadius (29) | 0.013190 |
PaintCorrectionMaskRadius (3) | 0.058994 |
PaintCorrectionMaskRadius (30) | 0.013113 |
PaintCorrectionMaskRadius (32) | 0.013176 |
PaintCorrectionMaskRadius (33) | 0.013202 |
PaintCorrectionMaskRadius (34) | 0.013215 |
PaintCorrectionMaskRadius (35) | 0.013186 |
PaintCorrectionMaskRadius (36) | 0.009985 |
PaintCorrectionMaskRadius (37) | 0.007536 |
PaintCorrectionMaskRadius (38) | 0.007545 |
PaintCorrectionMaskRadius (39) | 0.007535 |
PaintCorrectionMaskRadius (4) | 0.079362 |
PaintCorrectionMaskRadius (40) | 0.007507 |
PaintCorrectionMaskRadius (41) | 0.015059 |
PaintCorrectionMaskRadius (42) | 0.015046 |
PaintCorrectionMaskRadius (43) | 0.042260 |
PaintCorrectionMaskRadius (44) | 0.042290 |
PaintCorrectionMaskRadius (45) | 0.018650 |
PaintCorrectionMaskRadius (46) | 0.018645 |
PaintCorrectionMaskRadius (48) | 0.018638 |
PaintCorrectionMaskRadius (49) | 0.018602 |
PaintCorrectionMaskRadius (5) | 0.078661 |
PaintCorrectionMaskRadius (50) | 0.018597 |
PaintCorrectionMaskRadius (51) | 0.018578 |
PaintCorrectionMaskRadius (52) | 0.018580 |
PaintCorrectionMaskRadius (53) | 0.018637 |
PaintCorrectionMaskRadius (54) | 0.018694 |
PaintCorrectionMaskRadius (55) | 0.018698 |
PaintCorrectionMaskRadius (56) | 0.018743 |
PaintCorrectionMaskRadius (57) | 0.018839 |
PaintCorrectionMaskRadius (58) | 0.009400 |
PaintCorrectionMaskRadius (59) | 0.009391 |
PaintCorrectionMaskRadius (6) | 0.068451 |
PaintCorrectionMaskRadius (60) | 0.005188 |
PaintCorrectionMaskRadius (62) | 0.007226 |
PaintCorrectionMaskRadius (63) | 0.007228 |
PaintCorrectionMaskRadius (64) | 0.007231 |
PaintCorrectionMaskRadius (65) | 0.007251 |
PaintCorrectionMaskRadius (66) | 0.007267 |
PaintCorrectionMaskRadius (67) | 0.007325 |
PaintCorrectionMaskRadius (68) | 0.007304 |
PaintCorrectionMaskRadius (69) | 0.013926 |
PaintCorrectionMaskRadius (7) | 0.069198 |
PaintCorrectionMaskRadius (70) | 0.013803 |
PaintCorrectionMaskRadius (71) | 0.013801 |
PaintCorrectionMaskRadius (72) | 0.011570 |
PaintCorrectionMaskRadius (73) | 0.009364 |
PaintCorrectionMaskRadius (74) | 0.009379 |
PaintCorrectionMaskRadius (75) | 0.009422 |
PaintCorrectionMaskRadius (8) | 0.069385 |
PaintCorrectionMaskRadius (9) | 0.030662 |
PaintCorrectionMaskRadius | 0.009418 |
PaintCorrectionMaskValue | 1.000000 |
PaintCorrectionMaskWhat | Mask/Paint |
PaintCorrectionMoire | 0.000000 |
PaintCorrectionSaturation | 0.000000 |
PaintCorrectionShadows2012 | 0.000000 |
PaintCorrectionSharpness | 0.000000 |
PaintCorrectionTemperature | 0.000000 |
PaintCorrectionTint | 0.000000 |
PaintCorrectionWhat | Correction |
ParametricDarks | 0 |
ParametricHighlights | +26 |
ParametricHighlightSplit | 75 |
ParametricLights | +12 |
ParametricMidtoneSplit | 50 |
ParametricShadows | -24 |
ParametricShadowSplit | 25 |
PerspectiveAspect | 0 |
PerspectiveHorizontal | 0 |
PerspectiveRotate | 0.0 |
PerspectiveScale | 100 |
PerspectiveUpright | 0 |
PerspectiveVertical | 0 |
PerspectiveX | 0.00 |
PerspectiveY | 0.00 |
PostCropVignetteAmount | -10 |
PostCropVignetteFeather | 50 |
PostCropVignetteHighlightContrast | 0 |
PostCropVignetteMidpoint | 50 |
PostCropVignetteRoundness | 0 |
PostCropVignetteStyle | 1 |
ProcessVersion | 6.7 |
ProfileDescription | Adobe RGB (1998) |
Rating | 5 |
RecommendedExposureIndex | 320 |
RedHue | 0 |
RedSaturation | +10 |
ScaleFactor35efl | 1.2 |
SceneCaptureType | Standard |
SensitivityType | Recommended Exposure Index |
SerialNumber | 013021002146 |
Shadows2012 | -48 |
ShadowTint | -94 |
SharpenDetail | 25 |
SharpenEdgeMasking | 0 |
SharpenRadius | +1.0 |
Sharpness | 25 |
ShutterSpeed | 1/800 |
ShutterSpeedValue | 1/800 |
Software | Adobe Photoshop Lightroom 6.14 (Windows) |
SplitToningBalance | 0 |
SplitToningHighlightHue | 0 |
SplitToningHighlightSaturation | 0 |
SplitToningShadowHue | 0 |
SplitToningShadowSaturation | 0 |
Tint | +10 |
ToneCurve | 0, 0, 255, 255 |
ToneCurveBlue | 0, 0, 255, 255 |
ToneCurveGreen | 0, 0, 255, 255 |
ToneCurveName | Linear |
ToneCurveName2012 | Linear |
ToneCurvePV2012 | 0, 0, 255, 255 |
ToneCurvePV2012Blue | 0, 0, 255, 255 |
ToneCurvePV2012Green | 0, 0, 255, 255 |
ToneCurvePV2012Red | 0, 0, 255, 255 |
ToneCurveRed | 0, 0, 255, 255 |
ToneMapStrength | 0 |
Version | 10.1 |
VignetteAmount | 0 |
VignetteCorrectionAlreadyApplied | True |
WhiteBalance (1) | Custom |
WhiteBalance | Manual |
Whites2012 | +30 |