Felt | Verdi |
AlreadyApplied | True |
Aperture | 4.0 |
ApertureValue | 4.0 |
ApproximateFocusDistance | 4294967295 |
Artist | Igor Kostin |
AutoLateralCA | 0 |
BitsPerSample | 8 |
Blacks2012 | -65 |
BlueHue | 0 |
BlueSaturation | 0 |
By-line | Igor Kostin |
CameraProfile | Embedded |
CircleOfConfusion | 0.011 mm |
Clarity2012 | 0 |
ColorComponents | 3 |
ColorGradeBlending | 39 |
ColorGradeGlobalHue | 73 |
ColorGradeGlobalLum | 0 |
ColorGradeGlobalSat | 2 |
ColorGradeHighlightLum | +9 |
ColorGradeMidtoneHue | 38 |
ColorGradeMidtoneLum | +27 |
ColorGradeMidtoneSat | 25 |
ColorGradeShadowLum | +24 |
ColorNoiseReduction | 0 |
ColorSpace | Uncalibrated |
ColorTransform | YCbCr |
CompatibleVersion | 234881024 |
Contrast2012 | +40 |
ConvertToGrayscale | False |
Copyright | All rights reserved |
CopyrightFlag | True |
CopyrightNotice | All rights reserved |
CreateDate (1) | 2018:10:29 03:44:19Z |
CreateDate | 2018:10:29 03:44:19 |
Creator | Igor Kostin |
CreatorTool | Adobe Photoshop Lightroom Classic 11.2 (Macintosh) |
CropAngle | 0 |
CropBottom | 0.984467 |
CropConstrainToWarp | 0 |
CropLeft | 0 |
CropRight | 1 |
CropTop | 0.236727 |
CustomRendered | Normal |
DateCreated (1) | 2018:10:29 |
DateCreated | 2018:10:29 03:44:19Z |
DateTimeOriginal | 2018:10:29 03:44:19 |
DefringeGreenAmount | 0 |
DefringeGreenHueHi | 60 |
DefringeGreenHueLo | 40 |
DefringePurpleAmount | 0 |
DefringePurpleHueHi | 70 |
DefringePurpleHueLo | 30 |
Dehaze | 0 |
DistortionCorrectionAlreadyApplied | True |
DOF | inf (167.63 m - inf) |
Exposure2012 | 0.00 |
ExposureCompensation | 0 |
ExposureMode | Manual |
ExposureProgram | Manual |
ExposureTime | 1/500 |
Firmware | 1.0.0 |
Flash | No Flash |
FlashCompensation | 0 |
FNumber | 4.0 |
FocalLength | 85.0 mm |
FocalLength35efl | 85.0 mm (35 mm equivalent: 237.0 mm) |
Format | image/jpeg |
FOV | 8.7 deg |
GrainAmount | 42 |
GrainFrequency | 50 |
GrainSize | 17 |
GreenHue | 0 |
GreenSaturation | 0 |
HasCrop | True |
HasSettings | True |
Highlights2012 | 0 |
HueAdjustmentAqua | +5 |
HueAdjustmentBlue | -18 |
HueAdjustmentGreen | +28 |
HueAdjustmentMagenta | +25 |
HueAdjustmentOrange | +9 |
HueAdjustmentPurple | -3 |
HueAdjustmentRed | -1 |
HueAdjustmentYellow | +14 |
HyperfocalDistance | 167.63 m |
ImageHeight | 2048 |
ImageNumber | 0 |
ImageSize | 2048x2048 |
ImageWidth | 2048 |
IncrementalTemperature | 0 |
IncrementalTint | 0 |
ISO | 200 |
Keywords | 2018, Bodø, IgorKostin, Norway, USA, wedding |
LateralChromaticAberrationCorrectionAlreadyApplied | True |
Lens | EF85mm f/1.8 USM |
LensID (1) | 155 |
LensID | Canon EF 85mm f/1.8 USM |
LensInfo | 85mm f/? |
LensManualDistortionAmount | 0 |
LensModel | EF85mm f/1.8 USM |
LensProfileEnable | 0 |
LensSerialNumber | 0000000000 |
LightValue | 12.0 |
LuminanceAdjustmentAqua | 0 |
LuminanceAdjustmentBlue | -12 |
LuminanceAdjustmentGreen | -11 |
LuminanceAdjustmentMagenta | 0 |
LuminanceAdjustmentOrange | -10 |
LuminanceAdjustmentPurple | 0 |
LuminanceAdjustmentRed | -25 |
LuminanceAdjustmentYellow | 0 |
LuminanceSmoothing | 0 |
Make | Canon |
Marked | True |
MaxApertureValue | 1.8 |
Megapixels | 4.2 |
MeteringMode | Multi-segment |
Model | Canon EOS R |
ModifyDate (1) | 2022:02:22 22:01:25+01:00 |
ModifyDate | 2022:02:22 22:01:25 |
OverrideLookVignette | False |
ParametricDarks | 0 |
ParametricHighlights | 0 |
ParametricHighlightSplit | 75 |
ParametricLights | 0 |
ParametricMidtoneSplit | 50 |
ParametricShadows | 0 |
ParametricShadowSplit | 25 |
PerspectiveAspect | 0 |
PerspectiveHorizontal | 0 |
PerspectiveRotate | 0.0 |
PerspectiveScale | 100 |
PerspectiveUpright | 0 |
PerspectiveVertical | 0 |
PerspectiveX | 0.00 |
PerspectiveY | 0.00 |
PostCropVignetteAmount | 0 |
PreservedFileName | 201810_USA-1002.CR3 |
ProcessVersion | 11.0 |
ProfileDescription | Display P3 |
Rating | 5 |
RawFileName | |
RecommendedExposureIndex | 200 |
RedHue | 0 |
RedSaturation | 0 |
Rights | All rights reserved |
Saturation | -6 |
SaturationAdjustmentAqua | -21 |
SaturationAdjustmentBlue | 0 |
SaturationAdjustmentGreen | -39 |
SaturationAdjustmentMagenta | -32 |
SaturationAdjustmentOrange | -23 |
SaturationAdjustmentPurple | -15 |
SaturationAdjustmentRed | -16 |
SaturationAdjustmentYellow | -10 |
ScaleFactor35efl | 2.8 |
SceneCaptureType | Standard |
SensitivityType | Recommended Exposure Index |
SerialNumber | 032021005303 |
Shadows2012 | 0 |
ShadowTint | 0 |
Sharpness | 0 |
ShutterSpeed | 1/500 |
ShutterSpeedValue | 1/500 |
Software | Adobe Photoshop Lightroom Classic 11.2 (Macintosh) |
SplitToningBalance | +44 |
SplitToningHighlightHue | 25 |
SplitToningHighlightSaturation | 3 |
SplitToningShadowHue | 217 |
SplitToningShadowSaturation | 27 |
Subject | 2018, Bodø, IgorKostin, Norway, USA, wedding |
Texture | 0 |
ToneCurveName2012 | Custom |
ToneCurvePV2012 | 0, 9, 27, 33, 72, 82, 165, 177, 255, 226 |
ToneCurvePV2012Blue | 0, 0, 255, 255 |
ToneCurvePV2012Green | 0, 0, 28, 33, 71, 71, 101, 104, 165, 167, 255, 255 |
ToneCurvePV2012Red | 0, 0, 255, 255 |
UsageTerms | Please contact |
Version | 14.2 |
Vibrance | 0 |
VignetteAmount | 0 |
VignetteCorrectionAlreadyApplied | True |
Virtualpaths | kywd:||Bodø|, kywd:||Norway|, kywd:||2018|, kywd:||IgorKostin|, kywd:||wedding|, kywd:||USA| |
WeightedFlatSubject | 2018, Bodø, IgorKostin, Norway, USA, wedding |
WhiteBalance (1) | As Shot |
WhiteBalance | Auto |
Whites2012 | -13 |