Felt | Verdi |
AlreadyApplied | True |
Aperture | 4.0 |
ApertureValue | 4.0 |
ApproximateFocusDistance | 4294967295 |
AutoLateralCA | 0 |
BitsPerSample | 8 |
Blacks2012 | -31 |
BlueHue | 0 |
BlueSaturation | 0 |
CameraProfile | Adobe Standard |
CircleOfConfusion | 0.008 mm |
Clarity2012 | +9 |
ColorComponents | 3 |
ColorGradeBlending | 100 |
ColorGradeGlobalHue | 0 |
ColorGradeGlobalLum | 0 |
ColorGradeGlobalSat | 0 |
ColorGradeHighlightLum | +3 |
ColorGradeMidtoneHue | 247 |
ColorGradeMidtoneLum | +3 |
ColorGradeMidtoneSat | 4 |
ColorGradeShadowLum | +3 |
ColorNoiseReduction | 25 |
ColorNoiseReductionDetail | 50 |
ColorNoiseReductionSmoothness | 50 |
ColorSpace | sRGB |
ColorTemperature | 2844 |
ColorTransform | YCbCr |
Contrast2012 | -5 |
CreateDate (1) | 2023:12:28 01:42:43.00 |
CreateDate | 2023:12:28 01:42:43 |
CreatorTool | Adobe Photoshop Lightroom Classic 12.5 (Windows) |
CropAngle | 0 |
CropBottom | 0.978925 |
CropConstrainToWarp | 0 |
CropLeft | 0.153197 |
CropRight | 1 |
CropTop | 0.014752 |
CurveRefineSaturation | 100 |
CustomRendered | Normal |
DateCreated (1) | 2023:12:28 |
DateCreated | 2023:12:28 01:42:43.00 |
DateTimeOriginal | 2023:12:28 01:42:43 |
DefringeGreenAmount | 0 |
DefringeGreenHueHi | 60 |
DefringeGreenHueLo | 40 |
DefringePurpleAmount | 0 |
DefringePurpleHueHi | 70 |
DefringePurpleHueLo | 30 |
Dehaze | +8 |
DOF | inf (2891.05 m - inf) |
Exposure2012 | 0.00 |
ExposureCompensation | 0 |
ExposureMode | Auto |
ExposureProgram | Aperture-priority AE |
ExposureTime | 1/30 |
Firmware | 1.0.1 |
Flash | Off, Did not fire |
FlashCompensation | 0 |
FNumber | 4.0 |
FocalLength | 300.0 mm |
FocalLength35efl | 300.0 mm (35 mm equivalent: 1158.2 mm) |
Format | image/jpeg |
FOV | 1.8 deg |
GrainAmount | 5 |
GrainFrequency | 44 |
GrainSize | 22 |
GreenHue | 0 |
GreenSaturation | 0 |
HasCrop | True |
HasSettings | True |
Highlights2012 | -82 |
HueAdjustmentAqua | +7 |
HueAdjustmentBlue | +9 |
HueAdjustmentGreen | +9 |
HueAdjustmentMagenta | +10 |
HueAdjustmentOrange | +8 |
HueAdjustmentPurple | +6 |
HueAdjustmentRed | -10 |
HueAdjustmentYellow | +8 |
HyperfocalDistance | 2891.05 m |
ImageHeight | 1822 |
ImageNumber | 0 |
ImageSize | 2400x1822 |
ImageWidth | 2400 |
ISO | 4000 |
Lens | EF300mm f/4L IS USM |
LensID (1) | 177 |
LensID | Canon EF 300mm f/4L IS USM |
LensInfo | 300mm f/? |
LensManualDistortionAmount | 0 |
LensModel | EF300mm f/4L IS USM |
LensProfileEnable | 0 |
LensSerialNumber | 0000000000 |
LightValue | 3.6 |
LookAmount | 1 |
LookGroup | Profiles |
LookName | Adobe Color |
LookParametersCameraProfile | Adobe Standard |
LookParametersConvertToGrayscale | False |
LookParametersLookTable | E1095149FDB39D7A057BAB208837E2E1 |
LookParametersProcessVersion | 15.4 |
LookParametersToneCurvePV2012 | 0, 0, 22, 16, 40, 35, 127, 127, 224, 230, 240, 246, 255, 255 |
LookParametersToneCurvePV2012Blue | 0, 0, 255, 255 |
LookParametersToneCurvePV2012Green | 0, 0, 255, 255 |
LookParametersToneCurvePV2012Red | 0, 0, 255, 255 |
LookParametersVersion | 15.5 |
LookSupportsAmount | false |
LookSupportsMonochrome | false |
LookSupportsOutputReferred | false |
LuminanceAdjustmentAqua | -10 |
LuminanceAdjustmentBlue | -2 |
LuminanceAdjustmentGreen | -2 |
LuminanceAdjustmentMagenta | -11 |
LuminanceAdjustmentOrange | -8 |
LuminanceAdjustmentPurple | -12 |
LuminanceAdjustmentRed | +7 |
LuminanceAdjustmentYellow | +2 |
LuminanceSmoothing | 0 |
Make | Canon |
MaxApertureValue | 4.0 |
Megapixels | 4.4 |
MeteringMode | Multi-segment |
Model | Canon EOS 80D |
ModifyDate (1) | 2024:01:02 20:41:50+01:00 |
ModifyDate | 2024:01:02 20:41:50 |
OverrideLookVignette | False |
ParametricDarks | 0 |
ParametricHighlights | 0 |
ParametricHighlightSplit | 75 |
ParametricLights | 0 |
ParametricMidtoneSplit | 50 |
ParametricShadows | 0 |
ParametricShadowSplit | 25 |
PerspectiveAspect | 0 |
PerspectiveHorizontal | 0 |
PerspectiveRotate | 0.0 |
PerspectiveScale | 100 |
PerspectiveUpright | 0 |
PerspectiveVertical | 0 |
PerspectiveX | 0.00 |
PerspectiveY | 0.00 |
PostCropVignetteAmount | 0 |
PreservedFileName | IMG_8170.CR2 |
ProcessVersion | 15.4 |
ProfileDescription | sRGB IEC61966-2.1 |
RawFileName | IMG_8170.CR2 |
RecommendedExposureIndex | 4000 |
RedHue | 0 |
RedSaturation | 0 |
Saturation | -4 |
SaturationAdjustmentAqua | -12 |
SaturationAdjustmentBlue | -21 |
SaturationAdjustmentGreen | -26 |
SaturationAdjustmentMagenta | -12 |
SaturationAdjustmentOrange | +1 |
SaturationAdjustmentPurple | -6 |
SaturationAdjustmentRed | -8 |
SaturationAdjustmentYellow | -10 |
ScaleFactor35efl | 3.9 |
SceneCaptureType | Standard |
SensitivityType | Recommended Exposure Index |
SerialNumber | 068021003369 |
Shadows2012 | 0 |
ShadowTint | 0 |
SharpenDetail | 25 |
SharpenEdgeMasking | 0 |
SharpenRadius | +1.0 |
Sharpness | 40 |
ShutterSpeed | 1/30 |
ShutterSpeedValue | 1/30 |
Software | Adobe Photoshop Lightroom Classic 12.5 (Windows) |
SplitToningBalance | -37 |
SplitToningHighlightHue | 50 |
SplitToningHighlightSaturation | 1 |
SplitToningShadowHue | 243 |
SplitToningShadowSaturation | 4 |
Texture | +3 |
Tint | +21 |
ToneCurveName2012 | Custom |
ToneCurvePV2012 | 0, 7, 36, 50, 67, 88, 99, 126, 138, 159, 182, 188, 255, 248 |
ToneCurvePV2012Blue | 0, 0, 255, 253 |
ToneCurvePV2012Green | 0, 0, 213, 212, 255, 252 |
ToneCurvePV2012Red | 0, 0, 56, 56, 106, 106, 148, 148, 202, 202, 255, 253 |
Version | 15.5 |
Vibrance | +29 |
VignetteAmount | 0 |
WhiteBalance (1) | Custom |
WhiteBalance | Auto |
Whites2012 | +19 |