Felt | Verdi |
AlreadyApplied | True |
Aperture | 11.0 |
ApertureValue | 11.0 |
BitsPerSample (1) | 8 8 8 |
BitsPerSample | 8 |
BlueHue | 0 |
BlueSaturation | 0 |
Brightness | +50 |
CameraProfile | ACR 4.4 |
ChromaticAberrationB | 0 |
ChromaticAberrationR | 0 |
CircleOfConfusion | 0.019 mm |
Clarity | +18 |
ColorComponents | 3 |
ColorMode | RGB |
ColorNoiseReduction | 49 |
ColorSpace | Uncalibrated |
ColorTemperature | 4400 |
ColorTransform | YCbCr |
Contrast | +25 |
ConvertToGrayscale | False |
CopyrightFlag | False |
CreateDate (1) | 2009:04:09 13:57:04+02:00 |
CreateDate | 2009:04:09 13:57:04 |
CreatorTool | Adobe Photoshop Elements 15.0 (Windows) |
CustomRendered | Normal |
DateCreated (1) | 2009:04:09 |
DateCreated | 2009:04:09 13:57:04.003+02:00 |
DateTimeOriginal | 2009:04:09 13:57:04 |
Defringe | 0 |
DerivedFrom | |
ExifImageHeight | 2324 |
ExifImageWidth | 3266 |
Exposure | 0.00 |
ExposureCompensation | 0 |
ExposureMode | Manual |
ExposureProgram | Manual |
ExposureTime | 1/5 |
FillLight | 0 |
Firmware | 1.1.1 |
Flash | Off, Did not fire |
FlashCompensation | 0 |
FNumber | 11.0 |
FocalLength | 63.0 mm |
FocalLength35efl | 63.0 mm (35 mm equivalent: 102.0 mm) |
Format | image/jpeg |
FOV | 20.0 deg |
GreenHue | 0 |
GreenSaturation | 0 |
HasCrop | False |
HasSettings | True |
HighlightRecovery | 0 |
HueAdjustmentAqua | 0 |
HueAdjustmentBlue | 0 |
HueAdjustmentGreen | 0 |
HueAdjustmentMagenta | +15 |
HueAdjustmentOrange | -33 |
HueAdjustmentPurple | -19 |
HueAdjustmentRed | -48 |
HueAdjustmentYellow | -42 |
HyperfocalDistance | 19.44 m |
ICCProfileName | Adobe RGB (1998) |
ImageHeight (1) | 2592 |
ImageHeight | 2324 |
ImageNumber | 0 |
ImageSize | 3266x2324 |
ImageWidth (1) | 3570 |
ImageWidth | 3266 |
ISO | 100 |
Lens | 18-200mm |
LensInfo | 18-200mm f/? |
LightValue | 9.2 |
LuminanceAdjustmentAqua | 0 |
LuminanceAdjustmentBlue | 0 |
LuminanceAdjustmentGreen | 0 |
LuminanceAdjustmentMagenta | 0 |
LuminanceAdjustmentOrange | 0 |
LuminanceAdjustmentPurple | 0 |
LuminanceAdjustmentRed | 0 |
LuminanceAdjustmentYellow | 0 |
LuminanceSmoothing | 9 |
Make | Canon |
Marked | False |
MaxApertureValue | 5.2 |
Megapixels | 7.6 |
MeteringMode | Multi-segment |
Model | Canon EOS 40D |
ModifyDate (1) | 2024:01:21 15:24:02+01:00 |
ModifyDate | 2024:01:21 15:24:02 |
Orientation | Horizontal (normal) |
ParametricDarks | -27 |
ParametricHighlights | -75 |
ParametricHighlightSplit | 75 |
ParametricLights | -33 |
ParametricMidtoneSplit | 50 |
ParametricShadows | -26 |
ParametricShadowSplit | 25 |
PhotometricInterpretation | RGB |
PostCropVignetteAmount | 0 |
ProfileDescription | Adobe RGB (1998) |
Rating | 0 |
RawFileName | 090409 001.CR2 |
RedHue | 0 |
RedSaturation | 0 |
SamplesPerPixel | 3 |
Saturation | -18 |
SaturationAdjustmentAqua | 0 |
SaturationAdjustmentBlue | 0 |
SaturationAdjustmentGreen | 0 |
SaturationAdjustmentMagenta | 0 |
SaturationAdjustmentOrange | 0 |
SaturationAdjustmentPurple | 0 |
SaturationAdjustmentRed | 0 |
SaturationAdjustmentYellow | 0 |
ScaleFactor35efl | 1.6 |
SceneCaptureType | Standard |
SerialNumber | 1430731985 |
Shadows | 5 |
ShadowTint | 0 |
SharpenDetail | 21 |
SharpenEdgeMasking | 0 |
SharpenRadius | +1.2 |
Sharpness | 41 |
ShutterSpeed | 1/5 |
ShutterSpeedValue | 1/5 |
Software | Adobe Photoshop Elements 15.0 (Windows) |
SplitToningBalance | 0 |
SplitToningHighlightHue | 0 |
SplitToningHighlightSaturation | 0 |
SplitToningShadowHue | 0 |
SplitToningShadowSaturation | 0 |
Tint | +24 |
ToneCurve | 0, 0, 32, 22, 64, 56, 128, 128, 192, 196, 255, 255 |
ToneCurveName | Medium Contrast |
URL_List | |
Version | 4.6 |
Vibrance | +24 |
VignetteAmount | 0 |
WhiteBalance (1) | Custom |
WhiteBalance | Manual |