Felt | Verdi |
AlreadyApplied | True |
Aperture | 2.8 |
ApertureValue | 2.8 |
AutoLateralCA | 0 |
BitsPerSample | 8 |
Blacks2012 | +30 |
BlueHue | 0 |
BlueSaturation | 0 |
BrightnessValue | 4.101048075 |
CameraProfile | Embedded |
CircleOfConfusion | 0.003 mm |
Clarity2012 | +50 |
ColorComponents | 3 |
ColorGradeBlending | 50 |
ColorGradeGlobalHue | 0 |
ColorGradeGlobalLum | 0 |
ColorGradeGlobalSat | 0 |
ColorGradeHighlightLum | 0 |
ColorGradeMidtoneHue | 0 |
ColorGradeMidtoneLum | 0 |
ColorGradeMidtoneSat | 0 |
ColorGradeShadowLum | 0 |
ColorNoiseReduction | 0 |
ColorSpace | sRGB |
ColorTransform | YCbCr |
Contrast2012 | +89 |
ConvertToGrayscale | False |
Copyright | © Bjørn Inge Solvang |
CopyrightNotice | © Bjørn Inge Solvang |
CreateDate (1) | 2022:11:10 08:59:18+01:00 |
CreateDate | 2022:11:10 08:59:18 |
CreatorTool | Adobe Photoshop Mix 2.8.1 |
CropAngle | 0 |
CropBottom | 1 |
CropConstrainToWarp | 0 |
CropLeft | 0 |
CropRight | 1 |
CropTop | 0 |
DateCreated (1) | 2022:11:10 08:59:18+01:00 |
DateCreated | 2022:11:10 |
DateTimeOriginal | 2022:11:10 08:59:18 |
DefringeGreenAmount | 0 |
DefringeGreenHueHi | 60 |
DefringeGreenHueLo | 40 |
DefringePurpleAmount | 0 |
DefringePurpleHueHi | 70 |
DefringePurpleHueLo | 30 |
Dehaze | 0 |
Exposure2012 | -0.02 |
ExposureMode | Auto |
ExposureTime | 1/100 |
Flash | Off, Did not fire |
FNumber | 2.8 |
FocalLength | 9.0 mm |
FocalLength35efl | 9.0 mm (35 mm equivalent: 106.0 mm) |
FocalLengthIn35mmFormat | 106 mm |
Format | image/jpeg |
FOV | 19.3 deg |
GrainAmount | 0 |
GreenHue | 0 |
GreenSaturation | 0 |
HasCrop | False |
HasSettings | True |
HDREditMode | 0 |
Highlights2012 | -75 |
HueAdjustmentAqua | +100 |
HueAdjustmentBlue | 0 |
HueAdjustmentGreen | 0 |
HueAdjustmentMagenta | 0 |
HueAdjustmentOrange | -25 |
HueAdjustmentPurple | -50 |
HueAdjustmentRed | 0 |
HueAdjustmentYellow | -52 |
HyperfocalDistance | 11.34 m |
ImageHeight | 3905 |
ImageSize | 2766x3905 |
ImageWidth | 2766 |
IncrementalTemperature | +10 |
IncrementalTint | +7 |
ISO | 160 |
Lens | iPhone 13 Pro Max back triple camera 9mm f/2.8 |
LensInfo (1) | 1.57000005246397-9mm f/1.5-2.8 |
LensInfo | 1.570000052-9mm f/1.5-2.8 |
LensMake | Apple |
LensManualDistortionAmount | 0 |
LensModel | iPhone 13 Pro Max back triple camera 9mm f/2.8 |
LensProfileEnable | 0 |
LightValue | 8.9 |
LuminanceAdjustmentAqua | -25 |
LuminanceAdjustmentBlue | -25 |
LuminanceAdjustmentGreen | 0 |
LuminanceAdjustmentMagenta | 0 |
LuminanceAdjustmentOrange | +50 |
LuminanceAdjustmentPurple | -100 |
LuminanceAdjustmentRed | 0 |
LuminanceAdjustmentYellow | +75 |
LuminanceSmoothing | 0 |
Make | Apple |
Megapixels | 10.8 |
Model | iPhone 13 Pro Max |
ModifyDate (1) | 2024:03:28 19:34:05+01:00 |
ModifyDate | 2024:03:28 19:34:05 |
OverrideLookVignette | True |
ParametricDarks | 0 |
ParametricHighlights | 0 |
ParametricHighlightSplit | 75 |
ParametricLights | 0 |
ParametricMidtoneSplit | 50 |
ParametricShadows | 0 |
ParametricShadowSplit | 25 |
PerspectiveAspect | 0 |
PerspectiveHorizontal | 0 |
PerspectiveRotate | 0.0 |
PerspectiveScale | 100 |
PerspectiveUpright | 0 |
PerspectiveVertical | 0 |
PerspectiveX | 0.00 |
PerspectiveY | 0.00 |
PointColors | -1.000000, -1.000000, -1.000000, -1.000000, -1.000000, -1.000000, -1.000000, -1.000000, -1.000000, -1.000000, -1.000000, -1.000000, -1.000000, -1.000000, -1.000000, -1.000000, -1.000000, -1.000000, -1.000000 |
PostCropVignetteAmount | -25 |
PostCropVignetteFeather | 66 |
PostCropVignetteHighlightContrast | 20 |
PostCropVignetteMidpoint | 18 |
PostCropVignetteRoundness | +4 |
PostCropVignetteStyle | 1 |
ProcessVersion | 11.0 |
ProfileDescription | sRGB IEC61966-2.1 |
RedHue | 0 |
RedSaturation | 0 |
Rights | © Bjørn Inge Solvang |
Rights-en-US | © Bjørn Inge Solvang |
Saturation | +50 |
SaturationAdjustmentAqua | -79 |
SaturationAdjustmentBlue | -25 |
SaturationAdjustmentGreen | -50 |
SaturationAdjustmentMagenta | -68 |
SaturationAdjustmentOrange | +52 |
SaturationAdjustmentPurple | -73 |
SaturationAdjustmentRed | +34 |
SaturationAdjustmentYellow | +75 |
ScaleFactor35efl | 11.8 |
SceneCaptureType | Standard |
Shadows2012 | +50 |
ShadowTint | 0 |
SharpenDetail | 59 |
SharpenEdgeMasking | 17 |
SharpenRadius | +1.1 |
Sharpness | 18 |
ShutterSpeed | 1/100 |
ShutterSpeedValue | 1/100 |
Software | Adobe Photoshop Mix 2.8.1 |
SplitToningBalance | 0 |
SplitToningHighlightHue | 0 |
SplitToningHighlightSaturation | 0 |
SplitToningShadowHue | 227 |
SplitToningShadowSaturation | 19 |
Texture | 0 |
ToneCurveName2012 | Linear |
ToneCurvePV2012 | 0, 0, 255, 255 |
ToneCurvePV2012Blue | 0, 0, 255, 255 |
ToneCurvePV2012Green | 0, 0, 255, 255 |
ToneCurvePV2012Red | 0, 0, 255, 255 |
Version | 16.2 |
Vibrance | -50 |
VignetteAmount | 0 |
WhiteBalance (1) | Custom |
WhiteBalance | Auto |
Whites2012 | -100 |