Felt | Verdi |
AlreadyApplied | True |
Aperture | 4.8 |
ApertureValue | 4.8 |
BitsPerSample (1) | 8, 8, 8 |
BitsPerSample (2) | 8 8 8 |
BitsPerSample | 8 |
BlueHue | 0 |
BlueSaturation | 0 |
Brightness | +50 |
CameraProfile | ACR 2.4 |
CFAPattern | [Blue,Green][Green,Red] |
ChromaticAberrationB | 0 |
ChromaticAberrationR | 0 |
CircleOfConfusion | 0.020 mm |
ColorComponents | 3 |
ColorMode | RGB |
ColorNoiseReduction | 25 |
ColorSpace | sRGB |
ColorTemperature | 5350 |
Contrast (2) | +25 |
Contrast | Low |
ConvertToGrayscale | False |
CopyrightFlag | False |
CreateDate (1) | 2007:10:21 23:38:34+02:00 |
CreateDate | 2007:10:02 15:31:18 |
CreatorTool | Adobe Photoshop CS3 Windows |
CustomRendered | Normal |
DateTimeDigitized | 2007:10:02 15:31:18.80+02:00 |
DateTimeOriginal (1) | 2007:10:02 15:31:18.80+02:00 |
DateTimeOriginal | 2007:10:02 15:31:18 |
DigitalZoomRatio | 1 |
ExifImageHeight | 665 |
ExifImageWidth | 1000 |
Exposure | +0.88 |
ExposureCompensation | +2 |
ExposureMode | Auto |
ExposureProgram | Aperture-priority AE |
ExposureTime | 1/1000 |
FillLight | 0 |
Flash | No Flash |
FlashFired | False |
FlashFunction | False |
FlashMode | Unknown |
FlashRedEyeMode | False |
FlashReturn | No return detection |
FNumber | 4.8 |
FocalLength | 86.0 mm |
FocalLength35efl | 86.0 mm (35 mm equivalent: 129.0 mm) |
FocalLengthIn35mmFormat | 129 mm |
Format | image/jpeg |
FOV | 15.9 deg |
GainControl | None |
GreenHue | 0 |
GreenSaturation | 0 |
HasCrop | False |
HasSettings | True |
HighlightRecovery | 11 |
HueAdjustmentAqua | 0 |
HueAdjustmentBlue | 0 |
HueAdjustmentGreen | 0 |
HueAdjustmentMagenta | 0 |
HueAdjustmentOrange | 0 |
HueAdjustmentPurple | 0 |
HueAdjustmentRed | 0 |
HueAdjustmentYellow | 0 |
HyperfocalDistance | 76.92 m |
ICCProfileName | sRGB IEC61966-2.1 |
ImageHeight (1) | 2000 |
ImageHeight | 665 |
ImageNumber | 28429 |
ImageSize | 1000x665 |
ImageWidth (1) | 3008 |
ImageWidth | 1000 |
ISO | 200 |
Keywords | Santorini |
Lens | 70.0-300.0 mm f/4.5-5.6 |
LensInfo | 70-300mm f/4.5-5.6 |
LightSource | Unknown |
LightValue | 13.5 |
LuminanceAdjustmentAqua | 0 |
LuminanceAdjustmentBlue | 0 |
LuminanceAdjustmentGreen | 0 |
LuminanceAdjustmentMagenta | 0 |
LuminanceAdjustmentOrange | 0 |
LuminanceAdjustmentPurple | 0 |
LuminanceAdjustmentRed | 0 |
LuminanceAdjustmentYellow | 0 |
LuminanceSmoothing | 0 |
Make | NIKON CORPORATION |
MaxApertureValue | 4.6 |
Megapixels | 0.665 |
MeteringMode | Multi-segment |
Model | NIKON D50 |
ModifyDate (1) | 2007:10:21 23:38:34+02:00 |
ModifyDate | 2007:10:21 23:38:34 |
Orientation | Horizontal (normal) |
ParametricDarks | 0 |
ParametricHighlights | 0 |
ParametricHighlightSplit | 75 |
ParametricLights | 0 |
ParametricMidtoneSplit | 50 |
ParametricShadows | 0 |
ParametricShadowSplit | 25 |
PhotometricInterpretation | RGB |
PlanarConfiguration | Chunky |
PrivateRTKInfo | cHJpdmF0ZVJUS0luZm8gPSB7Cgl7CgkJZmxhdCA9IHsKCQkJIlNhbnRvcmluaSIsCgkJfSwKCQlwYXRoID0gewoJCQkiU2FudG9yaW5pIiwKCQl9LAoJCXByaW1hcnkgPSAiU2FudG9yaW5pIiwKCQl1dWlkID0gIjQwMzg3MTUzLUY4NDctNERCNy04Q0JGLTg5N0M2MjA1NkRGMiIsCgl9LAp9Cg== |
ProfileDescription | sRGB IEC61966-2.1 |
RedHue | 0 |
RedSaturation | 0 |
SamplesPerPixel | 3 |
Saturation (2) | 0 |
Saturation | Normal |
SaturationAdjustmentAqua | 0 |
SaturationAdjustmentBlue | 0 |
SaturationAdjustmentGreen | 0 |
SaturationAdjustmentMagenta | 0 |
SaturationAdjustmentOrange | 0 |
SaturationAdjustmentPurple | 0 |
SaturationAdjustmentRed | 0 |
SaturationAdjustmentYellow | 0 |
ScaleFactor35efl | 1.5 |
SceneCaptureType | Standard |
SceneType | Directly photographed |
SensingMethod | One-chip color area |
Shadows | 5 |
ShadowTint | 0 |
Sharpness (2) | 25 |
Sharpness | Normal |
ShutterSpeed | 1/1000 |
ShutterSpeedValue | 1/1000 |
Software | Adobe Photoshop CS3 Windows |
SplitToningBalance | 0 |
SplitToningHighlightHue | 0 |
SplitToningHighlightSaturation | 0 |
SplitToningShadowHue | 0 |
SplitToningShadowSaturation | 0 |
Subject | Santorini |
SubjectDistanceRange | Unknown |
Tint | -13 |
ToneCurve | 0, 0, 32, 22, 64, 56, 128, 128, 192, 196, 255, 255 |
ToneCurveName | Medium Contrast |
URL_List | |
UserComment | SB2006 |
Version | 1.0 |
Vibrance | 0 |
VignetteAmount | 0 |
WhiteBalance (2) | As Shot |
WhiteBalance | Auto |