Felt | Verdi |
AlreadyApplied | True |
Aperture | 8.0 |
ApertureValue | 8.0 |
BitsPerSample (1) | 16, 16, 16 |
BitsPerSample | 8 |
BlueHue | 0 |
BlueSaturation | 0 |
Brightness | 0 |
CameraProfile | ACR 2.4 |
ChromaticAberrationB | 0 |
ChromaticAberrationR | 0 |
CircleOfConfusion | 0.030 mm |
Clarity | 100 |
ColorComponents | 3 |
ColorSpace | Uncalibrated |
ColorTemperature | 3950 |
Contrast | -1 |
ConvertToGrayscale | True |
CopyrightFlag | False |
CreateDate (1) | 2007:11:25 19:09:31+01:00 |
CreateDate | 2007:04:03 16:42:04 |
CreatorTool | Adobe Photoshop CS Macintosh |
CropAngle | 4.08173 |
CropBottom | 0.99916 |
CropHeight | 2678 |
CropLeft | 0.208662 |
CropRight | 0.929466 |
CropTop | 0 |
CropUnit | pixels |
CropWidth | 3347 |
CustomRendered | Normal |
DateTimeDigitized | 2007:04:03 16:42:04+01:00 |
DateTimeOriginal (1) | 2007:04:03 16:42:04+01:00 |
DateTimeOriginal | 2007:04:03 16:42:04 |
Defringe | 0 |
ExifImageHeight | 768 |
ExifImageWidth | 768 |
Exposure | +1.62 |
ExposureCompensation | -5/3 |
ExposureMode | Auto |
ExposureProgram | Aperture-priority AE |
ExposureTime | 1/200 |
FillLight | 45 |
Firmware | 1.0.3 |
Flash | Off, Did not fire |
FlashCompensation | 0 |
FlashFired | False |
FlashFunction | False |
FlashMode | Off |
FlashRedEyeMode | False |
FlashReturn | No return detection |
FNumber | 8.0 |
FocalLength | 85.0 mm |
FocalLength35efl | 85.0 mm (35 mm equivalent: 85.2 mm) |
Format | image/jpeg |
FOV | 23.9 deg |
GrayMixerAqua | -20 |
GrayMixerBlue | +7 |
GrayMixerGreen | -25 |
GrayMixerMagenta | +7 |
GrayMixerOrange | -15 |
GrayMixerPurple | +15 |
GrayMixerRed | -4 |
GrayMixerYellow | -28 |
GreenHue | 0 |
GreenSaturation | 0 |
HasCrop | True |
HasSettings | True |
HighlightRecovery | 0 |
HyperfocalDistance | 30.12 m |
ImageHeight (1) | 2678 |
ImageHeight | 768 |
ImageNumber | 42 |
ImageSize | 768x768 |
ImageWidth (1) | 3347 |
ImageWidth | 768 |
ISO | 400 |
Lens | EF85mm f/1.8 USM |
LensInfo | 85mm f/? |
LightValue | 11.6 |
LuminanceSmoothing | 0 |
Make | Canon |
MaxApertureValue | 1.8 |
Megapixels | 0.590 |
MeteringMode | Multi-segment |
Model | Canon EOS 5D |
ModifyDate (1) | 2007:11:25 19:10:13+01:00 |
ModifyDate | 2007:11:25 19:10:13 |
Orientation | Horizontal (normal) |
ParametricDarks | -21 |
ParametricHighlights | +19 |
ParametricHighlightSplit | 75 |
ParametricLights | 0 |
ParametricMidtoneSplit | 50 |
ParametricShadows | -26 |
ParametricShadowSplit | 25 |
PhotometricInterpretation | RGB |
ProfileDescription | sRGB Profile |
ProfileDescriptionML | sRGB Profile |
ProfileDescriptionML-da-DK | sRGB-beskrivelse |
ProfileDescriptionML-de-DE | sRGB-Profil |
ProfileDescriptionML-es-ES | Perfil sRGB |
ProfileDescriptionML-fi-FI | sRGB-profiili |
ProfileDescriptionML-fr-FU | Profil sRVB |
ProfileDescriptionML-it-IT | Profilo sRGB |
ProfileDescriptionML-ja-JP | sRGB プロファイル |
ProfileDescriptionML-ko-KR | sRGB 프로파일 |
ProfileDescriptionML-nl-NL | sRGB-profiel |
ProfileDescriptionML-no-NO | sRGB-profil |
ProfileDescriptionML-pt-BR | Perfil sRGB |
ProfileDescriptionML-sv-SE | sRGB-profil |
ProfileDescriptionML-zh-CN | sRGB 描述文件 |
ProfileDescriptionML-zh-TW | sRGB 色彩描述 |
RedHue | 0 |
RedSaturation | 0 |
SamplesPerPixel | 3 |
ScaleFactor35efl | 1.0 |
SceneCaptureType | Standard |
SerialNumber | 730504271 |
Shadows | 1 |
ShadowTint | 0 |
SharpenDetail | 25 |
SharpenEdgeMasking | 0 |
SharpenRadius | +1.0 |
Sharpness | 50 |
ShutterSpeed | 1/200 |
ShutterSpeedValue | 1/200 |
Software | Adobe Photoshop CS Macintosh |
SplitToningBalance | 0 |
SplitToningHighlightHue | 0 |
SplitToningHighlightSaturation | 0 |
SplitToningShadowHue | 0 |
SplitToningShadowSaturation | 0 |
Tint | 0 |
ToneCurve | 0, 0, 32, 22, 64, 56, 128, 128, 192, 196, 255, 255 |
ToneCurveName | Medium Contrast |
URL_List | |
Version | 1.0 |
VignetteAmount | 0 |
WhiteBalance | Auto |