Felt | Verdi |
AlreadyApplied | True |
Aperture | 9.9 |
ApertureValue | 9.9 |
BitsPerSample | 8 |
BlackClip | 5.000000 |
BlueHue | 0 |
BlueSaturation | 0 |
Brightness | 0 |
CameraProfile | Embedded |
ChromaticAberrationB | +100 |
ChromaticAberrationR | -76 |
Clarity | 39 |
ColorComponents | 3 |
ColorNoiseReduction | 33 |
ColorSaturation | 75 |
ColorTemperature | 0 |
Contrast | +34 |
ConvertToGrayscale | False |
CreatorTool | Adobe Photoshop Lightroom |
CropAngle | -1.785443 |
CropBottom | 0.892926 |
CropHeight | 1280 |
CropLeft | 0.067156 |
CropRight | 1 |
CropTop | 0.020245 |
CropUnit | pixels |
CropWidth | 854 |
DateTimeOriginal (1) | 2008:09:21 14:50:41+02:00 |
DateTimeOriginal | 2008:09:21 14:50:41 |
Defringe | 0 |
Exposure | 0.00 |
ExposureTime | 1/50 |
FillLight | 10 |
FNumber | 9.9 |
FocalLength | 28.0 mm |
FocalLength35efl | 28.0 mm |
Gamma | 0.835088 |
GreenHue | 0 |
GreenSaturation | 0 |
HasCrop | True |
HasSettings | True |
HighlightRecovery | 64 |
HighlightsSmoothing | 32 |
HueAdjustmentAqua | 0 |
HueAdjustmentBlue | 0 |
HueAdjustmentGreen | 0 |
HueAdjustmentMagenta | 0 |
HueAdjustmentOrange | 0 |
HueAdjustmentPurple | 0 |
HueAdjustmentRed | 0 |
HueAdjustmentYellow | 0 |
ImageHeight | 1280 |
ImageSize | 854x1280 |
ImageWidth | 854 |
IncrementalTemperature | 0 |
IncrementalTint | 0 |
ISO | 100 |
LightValue | 12.3 |
LuminanceAdjustmentAqua | 0 |
LuminanceAdjustmentBlue | 0 |
LuminanceAdjustmentGreen | 0 |
LuminanceAdjustmentMagenta | 0 |
LuminanceAdjustmentOrange | 0 |
LuminanceAdjustmentPurple | 0 |
LuminanceAdjustmentRed | 0 |
LuminanceAdjustmentYellow | 0 |
LuminanceSmoothing | 43 |
Luminosity | 5 |
Megapixels | 1.1 |
Method | Details Enhancer |
Microcontrast | 8 |
Microsmoothing | 1 |
Model | Canon EOS 30D |
ModifyDate (1) | 2008:10:04 01:38:52+02:00 |
ModifyDate | 2008:10:04 01:38:52 |
ParametricDarks | 0 |
ParametricHighlights | 0 |
ParametricHighlightSplit | 75 |
ParametricLights | 0 |
ParametricMidtoneSplit | 50 |
ParametricShadows | 0 |
ParametricShadowSplit | 25 |
ProfileDescription | Adobe RGB (1998) |
RedHue | 0 |
RedSaturation | 0 |
Saturation | -2 |
SaturationAdjustmentAqua | 0 |
SaturationAdjustmentBlue | +24 |
SaturationAdjustmentGreen | 0 |
SaturationAdjustmentMagenta | 0 |
SaturationAdjustmentOrange | 0 |
SaturationAdjustmentPurple | 0 |
SaturationAdjustmentRed | 0 |
SaturationAdjustmentYellow | 0 |
SaturationHighlights | 0 |
SaturationShadows | 5 |
Shadows | 8 |
ShadowsClipping | 56 |
ShadowsSmoothing | 19 |
ShadowTint | 0 |
SharpenDetail | 45 |
SharpenEdgeMasking | 0 |
SharpenRadius | +1.0 |
Sharpness | 66 |
ShutterSpeed | 1/50 |
ShutterSpeedValue | 1/50 |
Smoothing | Medium |
SplitToningBalance | 0 |
SplitToningHighlightHue | 0 |
SplitToningHighlightSaturation | 0 |
SplitToningShadowHue | 0 |
SplitToningShadowSaturation | 0 |
Strength | 100 |
ToneCurve | 0, 0, 255, 255 |
ToneCurveName | Linear |
Version (1) | 2.5 |
Version | 4.4.1 |
Vibrance | +5 |
VignetteAmount | 0 |
WhiteBalance | Custom |
WhiteClip | 5.000000 |