Felt | Verdi |
AlreadyApplied | True |
Aperture | 1.4 |
ApertureValue | 1.4 |
AuthorsPosition | Elev |
BitsPerSample | 8 |
BlueHue | 0 |
BlueSaturation | 0 |
Brightness | +50 |
By-line | Simen Samuelsen |
By-lineTitle | Elev |
CameraProfile | Adobe Standard |
ChromaticAberrationB | 0 |
ChromaticAberrationR | 0 |
CircleOfConfusion | 0.019 mm |
Clarity | 0 |
ColorComponents | 1 |
ColorNoiseReduction | 25 |
ColorTemperature | 5750 |
Contrast | +25 |
ConvertToGrayscale | True |
Copyright | Simen Samuelsen |
CopyrightFlag | True |
CopyrightNotice | Simen Samuelsen |
CreateDate (1) | 2009:02:16 13:30:31.03+01:00 |
CreateDate | 2009:02:16 13:30:31 |
Creator | Simen Samuelsen |
CreatorAddress | Binabbgaten 28 |
CreatorCity | Grimstad |
CreatorCountry | Norge |
CreatorPostalCode | 4878 |
CreatorTool | Adobe Photoshop Lightroom |
CreatorWorkEmail | simen.samuelsen@gmail.com |
CreatorWorkTelephone | +4799377722 |
CropAngle | 0 |
CropBottom | 0.742092 |
CropHeight | 2113 |
CropLeft | 0.383117 |
CropRight | 1 |
CropTop | 0 |
CropUnit | pixels |
CropWidth | 2635 |
CustomRendered | Normal |
DateTimeDigitized | 2009:02:16 13:30:31.03+01:00 |
DateTimeOriginal (1) | 2009:02:16 13:30:31.03+01:00 |
DateTimeOriginal | 2009:02:16 13:30:31 |
Defringe | 0 |
ExifImageHeight | 2635 |
ExifImageWidth | 2113 |
Exposure | 0.00 |
ExposureCompensation | 0 |
ExposureMode | Manual |
ExposureProgram | Manual |
ExposureTime | 1/1000 |
FillLight | 0 |
Firmware | 1.0.4 |
Flash | Off, Did not fire |
FlashCompensation | 0 |
FlashFired | False |
FlashFunction | False |
FlashMode | Off |
FlashRedEyeMode | False |
FlashReturn | No return detection |
FNumber | 1.4 |
FocalLength | 30.0 mm |
FocalLength35efl | 30.0 mm (35 mm equivalent: 48.5 mm) |
FOV | 40.8 deg |
GrayMixerAqua | -18 |
GrayMixerBlue | +11 |
GrayMixerGreen | -27 |
GrayMixerMagenta | +5 |
GrayMixerOrange | -19 |
GrayMixerPurple | +18 |
GrayMixerRed | -9 |
GrayMixerYellow | -24 |
GreenHue | 0 |
GreenSaturation | 0 |
HasCrop | True |
HasSettings | True |
HighlightRecovery | 100 |
HyperfocalDistance | 34.56 m |
ImageHeight | 2635 |
ImageNumber | 0 |
ImageSize | 2113x2635 |
ImageWidth | 2113 |
ISO | 100 |
Lens | 30mm |
LensInfo | 30mm f/? |
LightValue | 10.9 |
LuminanceSmoothing | 0 |
Make | Canon |
Marked | True |
MaxApertureValue | 1.4 |
Megapixels | 5.6 |
MeteringMode | Multi-segment |
Model | Canon EOS 450D |
ModifyDate (1) | 2009:02:21 13:35:56+01:00 |
ModifyDate | 2009:02:21 13:35:56 |
ParametricDarks | 0 |
ParametricHighlights | 0 |
ParametricHighlightSplit | 75 |
ParametricLights | 0 |
ParametricMidtoneSplit | 50 |
ParametricShadows | 0 |
ParametricShadowSplit | 25 |
PostCropVignetteAmount | 0 |
ProfileDescription | sRGB IEC61966-2.1 |
Rating | 5 |
RedHue | 0 |
RedSaturation | 0 |
Rights | Simen Samuelsen |
ScaleFactor35efl | 1.6 |
SceneCaptureType | Standard |
SerialNumber | 680263690 |
Shadows | 25 |
ShadowTint | 0 |
SharpenDetail | 25 |
SharpenEdgeMasking | 0 |
SharpenRadius | +1.0 |
Sharpness | 25 |
ShutterSpeed | 1/1000 |
ShutterSpeedValue | 1/1000 |
SplitToningBalance | 0 |
SplitToningHighlightHue | 0 |
SplitToningHighlightSaturation | 0 |
SplitToningShadowHue | 0 |
SplitToningShadowSaturation | 0 |
Tint | -6 |
ToneCurve | 0, 0, 32, 22, 64, 56, 128, 128, 192, 196, 255, 255 |
ToneCurveName | Medium Contrast |
Version | 5.2 |
VignetteAmount | 0 |
WhiteBalance (2) | As Shot |
WhiteBalance | Auto |