Felt | Verdi |
AlreadyApplied | True |
Aperture | 1.4 |
ApertureValue | 1.4 |
BitsPerSample | 8 |
BlueHue | 0 |
BlueSaturation | 0 |
Brightness | +50 |
CameraProfile | Adobe Standard |
ChromaticAberrationB | 0 |
ChromaticAberrationR | 0 |
CircleOfConfusion | 0.019 mm |
Clarity | 0 |
ColorComponents | 3 |
ColorNoiseReduction | 25 |
ColorTemperature | 5550 |
Contrast | +77 |
ConvertToGrayscale | True |
CreateDate (1) | 2009:04:04 19:08:03.83+02:00 |
CreateDate | 2009:04:04 19:08:03 |
CreatorTool | Adobe Photoshop Lightroom |
CropAngle | 0 |
CropBottom | 0.786254 |
CropHeight | 2239 |
CropLeft | 0 |
CropRight | 1 |
CropTop | 0 |
CropUnit | pixels |
CropWidth | 4272 |
CustomRendered | Normal |
DateTimeDigitized | 2009:04:04 19:08:03.83+02:00 |
DateTimeOriginal (1) | 2009:04:04 19:08:03.83+02:00 |
DateTimeOriginal | 2009:04:04 19:08:03 |
Defringe | 0 |
ExifImageHeight | 2239 |
ExifImageWidth | 4272 |
Exposure | 0.00 |
ExposureCompensation | 0 |
ExposureMode | Auto |
ExposureProgram | Aperture-priority AE |
ExposureTime | 1/200 |
FillLight | 26 |
Firmware | 1.0.4 |
Flash | Off, Did not fire |
FlashCompensation | 0 |
FlashFired | False |
FlashFunction | False |
FlashMode | Off |
FlashRedEyeMode | False |
FlashReturn | No return detection |
FNumber | 1.4 |
FocalLength | 30.0 mm |
FocalLength35efl | 30.0 mm (35 mm equivalent: 48.5 mm) |
FOV | 40.8 deg |
GrayMixerAqua | -10 |
GrayMixerBlue | +20 |
GrayMixerGreen | -17 |
GrayMixerMagenta | +32 |
GrayMixerOrange | +12 |
GrayMixerPurple | +25 |
GrayMixerRed | +39 |
GrayMixerYellow | -9 |
GreenHue | 0 |
GreenSaturation | 0 |
HasCrop | True |
HasSettings | True |
HighlightRecovery | 100 |
HyperfocalDistance | 34.56 m |
ImageHeight | 2239 |
ImageNumber | 0 |
ImageSize | 4272x2239 |
ImageWidth | 4272 |
ISO | 100 |
Lens | 30mm |
LensInfo | 30mm f/? |
LightValue | 8.6 |
LuminanceSmoothing | 0 |
Make | Canon |
MaxApertureValue | 1.4 |
Megapixels | 9.6 |
MeteringMode | Multi-segment |
Model | Canon EOS 450D |
ModifyDate (1) | 2009:04:19 08:02:08+02:00 |
ModifyDate | 2009:04:19 08:02:08 |
ParametricDarks | -17 |
ParametricHighlights | 0 |
ParametricHighlightSplit | 75 |
ParametricLights | +28 |
ParametricMidtoneSplit | 50 |
ParametricShadows | 0 |
ParametricShadowSplit | 25 |
PostCropVignetteAmount | 0 |
ProfileDescription | sRGB IEC61966-2.1 |
Rating | 5 |
RedHue | 0 |
RedSaturation | 0 |
ScaleFactor35efl | 1.6 |
SceneCaptureType | Standard |
SerialNumber | 680263690 |
Shadows | 38 |
ShadowTint | 0 |
SharpenDetail | 25 |
SharpenEdgeMasking | 0 |
SharpenRadius | +1.0 |
Sharpness | 25 |
ShutterSpeed | 1/200 |
ShutterSpeedValue | 1/200 |
SplitToningBalance | 0 |
SplitToningHighlightHue | 51 |
SplitToningHighlightSaturation | 22 |
SplitToningShadowHue | 37 |
SplitToningShadowSaturation | 32 |
Tint | -4 |
ToneCurve | 0, 0, 32, 22, 64, 56, 128, 128, 192, 196, 255, 255 |
ToneCurveName | Medium Contrast |
Version | 5.3 |
VignetteAmount | 0 |
WhiteBalance (2) | Custom |
WhiteBalance | Auto |