Felt | Verdi |
AlreadyApplied | True |
Aperture | 6.3 |
ApertureValue | 6.3 |
BitsPerSample | 8 |
BlueHue | 0 |
BlueSaturation | 0 |
Brightness | 0 |
By-line | Thomas Holm |
CameraProfile | Embedded |
ChromaticAberrationB | 0 |
ChromaticAberrationR | 0 |
Clarity | +26 |
ColorComponents | 3 |
ColorNoiseReduction | 0 |
Contrast (2) | +5 |
Contrast | High |
ConvertToGrayscale | False |
Copyright | (C) ThomasHolm.no |
CopyrightFlag | True |
CopyrightNotice | © ThomasHolm.no |
CreateDate (1) | 2009:04:17 14:39:07+02:00 |
CreateDate | 2009:04:17 14:39:07 |
Creator | Thomas Holm |
CreatorTool | Adobe Photoshop Lightroom |
CreatorWorkURL | www.thomasholm.no |
CustomRendered | Normal |
DateTimeDigitized | 2009:04:17 14:39:07+02:00 |
DateTimeOriginal (1) | 2009:04:17 14:39:07+02:00 |
DateTimeOriginal | 2009:04:17 14:39:07 |
Defringe | 0 |
Description | |
DigitalZoomRatio | 1 |
ExifImageHeight | 768 |
ExifImageWidth | 1024 |
Exposure | -0.29 |
ExposureCompensation | -0.3 |
ExposureMode | Manual |
ExposureProgram | Aperture-priority AE |
ExposureTime | 1/200 |
FillLight | 5 |
Flash | On, Did not fire |
FlashCompensation | 0 |
FlashFired | False |
FlashFunction | False |
FlashMode | On |
FlashRedEyeMode | False |
FlashReturn | No return detection |
FNumber | 6.3 |
FocalLength | 12.0 mm |
FocalLength35efl | 12.0 mm |
GainControl | Low gain up |
GreenHue | 0 |
GreenSaturation | 0 |
HasCrop | False |
HasSettings | True |
HighlightRecovery | 11 |
HueAdjustmentAqua | 0 |
HueAdjustmentBlue | 0 |
HueAdjustmentGreen | 0 |
HueAdjustmentMagenta | 0 |
HueAdjustmentOrange | 0 |
HueAdjustmentPurple | 0 |
HueAdjustmentRed | 0 |
HueAdjustmentYellow | 0 |
ImageHeight | 768 |
ImageSize | 1024x768 |
ImageWidth | 1024 |
IncrementalTemperature | 0 |
IncrementalTint | 0 |
ISO | 200 |
Keywords | ATV, charlottenberg, firehjuling, sverige, tur |
Lens | 12.0-60.0 mm f/2.8-4.0 |
LensInfo | 12-60mm f/2.8-4 |
LensSerialNumber | 230005742 |
LightSource | Unknown |
LightValue | 12.0 |
LuminanceAdjustmentAqua | 0 |
LuminanceAdjustmentBlue | 0 |
LuminanceAdjustmentGreen | 0 |
LuminanceAdjustmentMagenta | 0 |
LuminanceAdjustmentOrange | 0 |
LuminanceAdjustmentPurple | 0 |
LuminanceAdjustmentRed | 0 |
LuminanceAdjustmentYellow | 0 |
LuminanceSmoothing | 0 |
Make | OLYMPUS IMAGING CORP. |
Marked | True |
MaxApertureValue | 2.8 |
Megapixels | 0.786 |
MeteringMode | Center-weighted average |
Model | E-3 |
ModifyDate (1) | 2009:04:28 16:55:24+02:00 |
ModifyDate | 2009:04:28 16:55:24 |
ParametricDarks | 0 |
ParametricHighlights | 0 |
ParametricHighlightSplit | 75 |
ParametricLights | 0 |
ParametricMidtoneSplit | 50 |
ParametricShadows | 0 |
ParametricShadowSplit | 25 |
PostCropVignetteAmount | 0 |
ProfileDescription | sRGB IEC61966-2.1 |
RedHue | 0 |
RedSaturation | 0 |
Rights | © ThomasHolm.no |
Saturation (2) | +2 |
Saturation | High |
SaturationAdjustmentAqua | 0 |
SaturationAdjustmentBlue | 0 |
SaturationAdjustmentGreen | 0 |
SaturationAdjustmentMagenta | 0 |
SaturationAdjustmentOrange | 0 |
SaturationAdjustmentPurple | 0 |
SaturationAdjustmentRed | 0 |
SaturationAdjustmentYellow | 0 |
SceneCaptureType | Standard |
SerialNumber | D69503579 |
Shadows | 5 |
ShadowTint | 0 |
SharpenDetail | 25 |
SharpenEdgeMasking | 0 |
SharpenRadius | +1.0 |
Sharpness (2) | 0 |
Sharpness | Soft |
ShutterSpeed | 1/200 |
ShutterSpeedValue | 1/200 |
Software | Version 1.4 |
SplitToningBalance | 0 |
SplitToningHighlightHue | 0 |
SplitToningHighlightSaturation | 0 |
SplitToningShadowHue | 0 |
SplitToningShadowSaturation | 0 |
Subject | ATV, charlottenberg, firehjuling, sverige, tur |
ToneCurve | 0, 0, 255, 255 |
ToneCurveName | Linear |
UsageTerms | No copying without permission! |
Version | 5.3 |
Vibrance | +21 |
VignetteAmount | 0 |
WhiteBalance (2) | As Shot |
WhiteBalance | Manual |