Felt | Verdi |
AlreadyApplied | True |
Aperture | 2.8 |
ApertureValue | 2.8 |
BitsPerSample | 8 |
BlueHue | 0 |
BlueSaturation | 0 |
Brightness | 0 |
CameraProfile | Embedded |
ChromaticAberrationB | +17 |
ChromaticAberrationR | 0 |
CircleOfConfusion | 0.005 mm |
Clarity | +33 |
ColorComponents | 3 |
ColorMode | RGB |
ColorNoiseReduction | 39 |
ColorSpace | sRGB |
Contrast (2) | 0 |
Contrast | Normal |
ConvertToGrayscale | False |
CopyrightFlag | False |
CreateDate (1) | 2009:07:09 01:20:16+02:00 |
CreateDate | 2009:07:09 01:20:16 |
CreatorTool | Adobe Photoshop CS2 Windows |
CropAngle | -1.125 |
CropBottom | 0.974485 |
CropHeight | 2245 |
CropLeft | 0.005581 |
CropRight | 0.994419 |
CropTop | 0.025515 |
CropUnit | pixels |
CropWidth | 2995 |
CustomRendered | Normal |
DateTimeDigitized | 2009:07:09 01:20:16+02:00 |
DateTimeOriginal (1) | 2009:07:09 01:20:16+02:00 |
DateTimeOriginal | 2009:07:09 01:20:16 |
Defringe | 0 |
DigitalZoomRatio | 0 |
ExifImageHeight | 2434 |
ExifImageWidth | 3184 |
Exposure | 0.00 |
ExposureCompensation | 0 |
ExposureMode | Auto |
ExposureProgram | Program AE |
ExposureTime | 1 |
FillLight | 0 |
Flash | Off, Did not fire |
FlashFired | False |
FlashFunction | False |
FlashMode | Off |
FlashRedEyeMode | False |
FlashReturn | No return detection |
FNumber | 2.8 |
FocalLength | 5.7 mm |
FocalLength35efl | 5.7 mm (35 mm equivalent: 35.0 mm) |
FocalLengthIn35mmFormat | 35 mm |
Format | image/jpeg |
FOV | 54.4 deg |
GainControl | High gain up |
GreenHue | 0 |
GreenSaturation | 0 |
HasCrop | True |
HasSettings | True |
HighlightRecovery | 74 |
HueAdjustmentAqua | 0 |
HueAdjustmentBlue | 0 |
HueAdjustmentGreen | 0 |
HueAdjustmentMagenta | 0 |
HueAdjustmentOrange | 0 |
HueAdjustmentPurple | 0 |
HueAdjustmentRed | 0 |
HueAdjustmentYellow | 0 |
HyperfocalDistance | 2.37 m |
ICCProfileName | sRGB IEC61966-2.1 |
ImageHeight (1) | 2245 |
ImageHeight | 2434 |
ImageSize | 3184x2434 |
ImageWidth (1) | 2995 |
ImageWidth | 3184 |
IncrementalTemperature | 0 |
IncrementalTint | -2 |
ISO | 1000 |
LightSource | Unknown |
LightValue | -0.4 |
LuminanceAdjustmentAqua | 0 |
LuminanceAdjustmentBlue | 0 |
LuminanceAdjustmentGreen | 0 |
LuminanceAdjustmentMagenta | 0 |
LuminanceAdjustmentOrange | 0 |
LuminanceAdjustmentPurple | 0 |
LuminanceAdjustmentRed | 0 |
LuminanceAdjustmentYellow | 0 |
LuminanceSmoothing | 100 |
Make | NIKON |
MaxApertureValue | 2.8 |
Megapixels | 7.7 |
MeteringMode | Multi-segment |
Model | COOLPIX L16 |
ModifyDate (1) | 2009:08:08 03:20:11+02:00 |
ModifyDate | 2009:08:08 03:20:11 |
Orientation | Horizontal (normal) |
ParametricDarks | -24 |
ParametricHighlights | +21 |
ParametricHighlightSplit | 75 |
ParametricLights | -57 |
ParametricMidtoneSplit | 50 |
ParametricShadows | -12 |
ParametricShadowSplit | 25 |
PostCropVignetteAmount | 0 |
ProfileDescription | sRGB IEC61966-2.1 |
RatingPercent | 0 |
RedHue | 0 |
RedSaturation | 0 |
Saturation (2) | +36 |
Saturation | Normal |
SaturationAdjustmentAqua | 0 |
SaturationAdjustmentBlue | 0 |
SaturationAdjustmentGreen | 0 |
SaturationAdjustmentMagenta | 0 |
SaturationAdjustmentOrange | 0 |
SaturationAdjustmentPurple | 0 |
SaturationAdjustmentRed | 0 |
SaturationAdjustmentYellow | 0 |
ScaleFactor35efl | 6.1 |
SceneCaptureType | Standard |
SceneType | Directly photographed |
Shadows | 5 |
ShadowTint | 0 |
SharpenDetail | 25 |
SharpenEdgeMasking | 0 |
SharpenRadius | +1.0 |
Sharpness (2) | 27 |
Sharpness | Normal |
ShutterSpeed | 1 |
ShutterSpeedValue | 1 |
Software | Adobe Photoshop CS2 Windows |
SplitToningBalance | 0 |
SplitToningHighlightHue | 0 |
SplitToningHighlightSaturation | 0 |
SplitToningShadowHue | 0 |
SplitToningShadowSaturation | 0 |
SubjectDistanceRange | Unknown |
ToneCurve | 0, 0, 255, 255 |
ToneCurveName | Linear |
URL_List | |
Version | 5.3 |
Vibrance | +33 |
VignetteAmount | +24 |
VignetteMidpoint | 50 |
WhiteBalance (2) | Custom |
WhiteBalance | Auto |