Felt | Verdi |
AlreadyApplied | True |
Aperture | 13.0 |
ApertureValue | 13.0 |
BitsPerSample | 8 |
BlueHue | 0 |
BlueSaturation | 0 |
Brightness | +50 |
CameraProfile | Adobe Standard |
ChromaticAberrationB | 0 |
ChromaticAberrationR | 0 |
CircleOfConfusion | 0.030 mm |
Clarity | 0 |
ColorComponents | 3 |
ColorMode | RGB |
ColorNoiseReduction | 25 |
ColorSpace | sRGB |
ColorTemperature | 5500 |
Contrast | +25 |
ConvertToGrayscale | False |
CopyrightFlag | False |
CreateDate (1) | 2009:09:11 10:53:05+02:00 |
CreateDate | 2009:08:28 17:08:37 |
CreatorTool | Adobe Photoshop CS2 Macintosh |
CropAngle | 0 |
CropBottom | 1 |
CropHeight | 2912 |
CropLeft | 0.187944 |
CropRight | 0.85461 |
CropTop | 0 |
CropUnit | pixels |
CropWidth | 2912 |
CustomRendered | Normal |
DateTimeDigitized | 2009:08:28 17:08:37+02:00 |
DateTimeOriginal (1) | 2009:08:28 17:08:37+02:00 |
DateTimeOriginal | 2009:08:28 17:08:37 |
Defringe | 0 |
ExifImageHeight | 600 |
ExifImageWidth | 1205 |
Exposure | -0.58 |
ExposureCompensation | +4/3 |
ExposureMode | Auto |
ExposureProgram | Aperture-priority AE |
ExposureTime | 1/100 |
FillLight | 18 |
Firmware | 1.1.0 |
Flash | Off, Did not fire |
FlashCompensation | 0 |
FlashFired | False |
FlashFunction | False |
FlashMode | Off |
FlashRedEyeMode | False |
FlashReturn | No return detection |
FNumber | 13.0 |
FocalLength | 25.0 mm |
FocalLength35efl | 25.0 mm (35 mm equivalent: 25.1 mm) |
Format | image/jpeg |
FOV | 71.4 deg |
GreenHue | 0 |
GreenSaturation | 0 |
HasCrop | True |
HasSettings | True |
HighlightRecovery | 0 |
HueAdjustmentAqua | 0 |
HueAdjustmentBlue | 0 |
HueAdjustmentGreen | 0 |
HueAdjustmentMagenta | 0 |
HueAdjustmentOrange | 0 |
HueAdjustmentPurple | 0 |
HueAdjustmentRed | 0 |
HueAdjustmentYellow | 0 |
HyperfocalDistance | 1.60 m |
ICCProfileName | sRGB IEC61966-2.1 |
ImageHeight (1) | 2912 |
ImageHeight | 600 |
ImageNumber | 15 |
ImageSize | 1205x600 |
ImageWidth (1) | 2912 |
ImageWidth | 1205 |
ISO | 200 |
Keywords | Bror, Mikkel |
Lens | EF17-40mm f/4L USM |
LensInfo | 17-40mm f/? |
LightValue | 13.0 |
LuminanceAdjustmentAqua | -23 |
LuminanceAdjustmentBlue | -19 |
LuminanceAdjustmentGreen | 0 |
LuminanceAdjustmentMagenta | 0 |
LuminanceAdjustmentOrange | 0 |
LuminanceAdjustmentPurple | 0 |
LuminanceAdjustmentRed | 0 |
LuminanceAdjustmentYellow | 0 |
LuminanceSmoothing | 27 |
Make | Canon |
MaxApertureValue | 4.0 |
Megapixels | 0.723 |
MeteringMode | Multi-segment |
Model | Canon EOS 5D |
ModifyDate (1) | 2009:09:11 10:53:05+02:00 |
ModifyDate | 2009:09:11 10:53:05 |
Orientation | Horizontal (normal) |
PaintCorrectionActive | true |
PaintCorrectionAmount | 1.000000 |
PaintCorrectionBrightness | 0.000000 |
PaintCorrectionClarity | 0.000000 |
PaintCorrectionContrast | 0.000000 |
PaintCorrectionExposure | 0.772414 |
PaintCorrectionHue | 42.000000 |
PaintCorrectionMaskCenterWeight | 0.000000 |
PaintCorrectionMaskFlow | 1.000000 |
PaintCorrectionMaskRadius | 0.080653 |
PaintCorrectionMaskValue | 0.264368 |
PaintCorrectionMaskWhat | Mask/Paint |
PaintCorrectionSaturation | 0.000000 |
PaintCorrectionSharpness | 0.000000 |
PaintCorrectionWhat | Correction |
ParametricDarks | 0 |
ParametricHighlights | 0 |
ParametricHighlightSplit | 75 |
ParametricLights | 0 |
ParametricMidtoneSplit | 50 |
ParametricShadows | 0 |
ParametricShadowSplit | 25 |
PostCropVignetteAmount | 0 |
ProfileDescription | sRGB IEC61966-2.1 |
Rating | 3 |
RedHue | 0 |
RedSaturation | 0 |
Saturation | 0 |
SaturationAdjustmentAqua | +23 |
SaturationAdjustmentBlue | +27 |
SaturationAdjustmentGreen | 0 |
SaturationAdjustmentMagenta | 0 |
SaturationAdjustmentOrange | 0 |
SaturationAdjustmentPurple | 0 |
SaturationAdjustmentRed | 0 |
SaturationAdjustmentYellow | 0 |
ScaleFactor35efl | 1.0 |
SceneCaptureType | Standard |
SerialNumber | 1631102541 |
Shadows | 7 |
ShadowTint | 0 |
SharpenDetail | 25 |
SharpenEdgeMasking | 0 |
SharpenRadius | +1.0 |
Sharpness | 33 |
ShutterSpeed | 1/100 |
ShutterSpeedValue | 1/100 |
Software | Adobe Photoshop CS2 Macintosh |
SplitToningBalance | 0 |
SplitToningHighlightHue | 0 |
SplitToningHighlightSaturation | 0 |
SplitToningShadowHue | 0 |
SplitToningShadowSaturation | 0 |
Subject | Bror, Mikkel |
Tint | +10 |
ToneCurve | 0, 0, 32, 22, 64, 56, 128, 128, 192, 196, 255, 255 |
ToneCurveName | Medium Contrast |
URL_List | |
Version | 5.4 |
Vibrance | 0 |
VignetteAmount | 0 |
WhiteBalance (2) | Daylight |
WhiteBalance | Auto |