Felt | Verdi |
AlreadyApplied | True |
Aperture | 10.0 |
ApertureValue | 10.0 |
BitsPerSample | 8 |
BlueHue | 0 |
BlueSaturation | 0 |
Brightness | +50 |
CameraProfile | Camera Landscape |
CFAPattern | [Red,Green][Green,Blue] |
ChromaticAberrationB | 0 |
ChromaticAberrationR | 0 |
CircleOfConfusion | 0.030 mm |
Clarity | +50 |
ColorComponents | 3 |
ColorNoiseReduction | 25 |
ColorTemperature | 4400 |
Contrast (2) | +25 |
Contrast | Normal |
ConvertToGrayscale | False |
CreateDate (1) | 2009:06:21 01:24:22.16+02:00 |
CreateDate | 2009:06:21 01:24:22 |
CreatorTool | Adobe Photoshop Lightroom |
CropAngle | 0 |
CropBottom | 0.815019 |
CropHeight | 2614 |
CropLeft | 0.34188 |
CropRight | 1 |
CropTop | 0.166667 |
CropUnit | pixels |
CropWidth | 3980 |
CustomRendered | Normal |
DateTimeDigitized | 2009:06:21 01:24:22.16+02:00 |
DateTimeOriginal (1) | 2009:06:21 01:24:22.16+02:00 |
DateTimeOriginal | 2009:06:21 01:24:22 |
Defringe | 0 |
DigitalZoomRatio | 1 |
ExifImageHeight | 2614 |
ExifImageWidth | 3980 |
Exposure | 0.00 |
ExposureCompensation | -1/3 |
ExposureMode | Auto |
ExposureProgram | Aperture-priority AE |
ExposureTime | 1/400 |
FillLight | 0 |
Flash | No Flash |
FlashFired | False |
FlashFunction | False |
FlashMode | Unknown |
FlashRedEyeMode | False |
FlashReturn | No return detection |
FNumber | 10.0 |
FocalLength | 700.0 mm |
FocalLength35efl | 700.0 mm (35 mm equivalent: 700.0 mm) |
FocalLengthIn35mmFormat | 700 mm |
FOV | 2.9 deg |
GainControl | Low gain up |
GreenHue | 0 |
GreenSaturation | 0 |
HasCrop | True |
HasSettings | True |
HighlightRecovery | 46 |
HueAdjustmentAqua | 0 |
HueAdjustmentBlue | 0 |
HueAdjustmentGreen | 0 |
HueAdjustmentMagenta | 0 |
HueAdjustmentOrange | 0 |
HueAdjustmentPurple | 0 |
HueAdjustmentRed | 0 |
HueAdjustmentYellow | 0 |
HyperfocalDistance | 1630.82 m |
ImageHeight | 2614 |
ImageNumber | 2525 |
ImageSize | 3980x2614 |
ImageWidth | 3980 |
ISO | 400 |
Keywords | longyerdbyen |
Label | Purple |
Lens | 500.0 mm f/4.0 |
LensInfo | 500mm f/4 |
LightSource | Unknown |
LightValue | 13.3 |
LuminanceAdjustmentAqua | 0 |
LuminanceAdjustmentBlue | 0 |
LuminanceAdjustmentGreen | 0 |
LuminanceAdjustmentMagenta | 0 |
LuminanceAdjustmentOrange | 0 |
LuminanceAdjustmentPurple | 0 |
LuminanceAdjustmentRed | 0 |
LuminanceAdjustmentYellow | 0 |
LuminanceSmoothing | 0 |
Make | NIKON CORPORATION |
MaxApertureValue | 5.7 |
Megapixels | 10.4 |
MeteringMode | Multi-segment |
Model | NIKON D3X |
ModifyDate (1) | 2009:08:22 18:47:37+02:00 |
ModifyDate | 2009:08:22 18:47:37 |
PaintCorrectionActive | true |
PaintCorrectionAmount | 1.000000 |
PaintCorrectionBrightness (2) | 0.100000 |
PaintCorrectionBrightness | 0.075000 |
PaintCorrectionClarity (2) | 0.575000 |
PaintCorrectionClarity | 0.500000 |
PaintCorrectionContrast (1) | 0.000000 |
PaintCorrectionContrast | 0.125000 |
PaintCorrectionExposure (1) | 0.100000 |
PaintCorrectionExposure | 0.225000 |
PaintCorrectionHue (1) | 61.000000 |
PaintCorrectionHue (2) | 72.000000 |
PaintCorrectionHue (3) | 59.000000 |
PaintCorrectionHue | 169.000000 |
PaintCorrectionMaskCenterWeight (5) | 0.153702 |
PaintCorrectionMaskCenterWeight | 0.049246 |
PaintCorrectionMaskFlow | 1.000000 |
PaintCorrectionMaskRadius (1) | 0.002476 |
PaintCorrectionMaskRadius (6) | 0.004222 |
PaintCorrectionMaskRadius (8) | 0.004157 |
PaintCorrectionMaskRadius | 0.019649 |
PaintCorrectionMaskValue | 0.350000 |
PaintCorrectionMaskWhat | Mask/Paint |
PaintCorrectionSaturation (2) | 0.950000 |
PaintCorrectionSaturation (3) | 0.475000 |
PaintCorrectionSaturation (4) | 0.040000 |
PaintCorrectionSaturation (5) | 0.200000 |
PaintCorrectionSaturation (6) | 1.000000 |
PaintCorrectionSaturation | 0.030000 |
PaintCorrectionSharpness (2) | 0.200000 |
PaintCorrectionSharpness | 0.550000 |
PaintCorrectionWhat | Correction |
ParametricDarks | 0 |
ParametricHighlights | -60 |
ParametricHighlightSplit | 75 |
ParametricLights | -12 |
ParametricMidtoneSplit | 50 |
ParametricShadows | +38 |
ParametricShadowSplit | 25 |
PostCropVignetteAmount | 0 |
ProfileDescription | sRGB IEC61966-2.1 |
RedHue | 0 |
RedSaturation | 0 |
Saturation (2) | 0 |
Saturation | Normal |
SaturationAdjustmentAqua | 0 |
SaturationAdjustmentBlue | 0 |
SaturationAdjustmentGreen | 0 |
SaturationAdjustmentMagenta | 0 |
SaturationAdjustmentOrange | 0 |
SaturationAdjustmentPurple | 0 |
SaturationAdjustmentRed | 0 |
SaturationAdjustmentYellow | 0 |
ScaleFactor35efl | 1.0 |
SceneCaptureType | Standard |
SceneType | Directly photographed |
SensingMethod | One-chip color area |
SerialNumber | 5005286 |
Shadows | 5 |
ShadowTint | 0 |
SharpenDetail | 25 |
SharpenEdgeMasking | 0 |
SharpenRadius | +1.0 |
Sharpness (2) | 93 |
Sharpness | Normal |
ShutterSpeed | 1/400 |
ShutterSpeedValue | 1/400 |
Software | Ver.1.00 |
SplitToningBalance | 0 |
SplitToningHighlightHue | 0 |
SplitToningHighlightSaturation | 0 |
SplitToningShadowHue | 0 |
SplitToningShadowSaturation | 0 |
Subject | longyerdbyen |
SubjectDistanceRange | Unknown |
Tint | -2 |
ToneCurve | 0, 0, 32, 22, 64, 56, 128, 128, 192, 196, 255, 255 |
ToneCurveName | Medium Contrast |
Version | 5.4 |
Vibrance | +25 |
VignetteAmount | 0 |
WhiteBalance (2) | As Shot |
WhiteBalance | Auto |