Felt | Verdi |
AlreadyApplied | True |
Aperture | 6.3 |
ApertureValue | 6.3 |
BitsPerSample | 8 |
BlueHue | -7 |
BlueSaturation | +2 |
Brightness | +21 |
By-line | Thomas Holm |
CameraProfile | Adobe Standard |
CFAPattern | [Red,Green][Green,Blue] |
ChromaticAberrationB | 0 |
ChromaticAberrationR | 0 |
Clarity | +50 |
ColorComponents | 3 |
ColorNoiseReduction | 25 |
ColorTemperature | 5214 |
Contrast (2) | +39 |
Contrast | Normal |
ConvertToGrayscale | False |
Copyright | (C) ThomasHolm.no |
CopyrightFlag | True |
CopyrightNotice | © ThomasHolm.no |
CreateDate (1) | 2009:09:19 16:12:56+02:00 |
CreateDate | 2009:09:19 16:12:56 |
Creator | Thomas Holm |
CreatorTool | Adobe Photoshop Lightroom |
CreatorWorkURL | www.thomasholm.no |
CustomRendered | Normal |
DateTimeDigitized | 2009:09:19 16:12:56+02:00 |
DateTimeOriginal (1) | 2009:09:19 16:12:56+02:00 |
DateTimeOriginal | 2009:09:19 16:12:56 |
Defringe | 0 |
Description | |
DigitalZoomRatio | 1 |
ExifImageHeight | 768 |
ExifImageWidth | 1024 |
Exposure | +0.57 |
ExposureCompensation | +0.3 |
ExposureMode | Manual |
ExposureProgram | Shutter speed priority AE |
ExposureTime | 1/160 |
FillLight | 46 |
Flash | On, Did not fire |
FlashCompensation | 0 |
FlashFired | False |
FlashFunction | False |
FlashMode | On |
FlashRedEyeMode | False |
FlashReturn | No return detection |
FNumber | 6.3 |
FocalLength | 12.0 mm |
FocalLength35efl | 12.0 mm |
GainControl | None |
GreenHue | +5 |
GreenSaturation | +7 |
HasCrop | False |
HasSettings | True |
HighlightRecovery | 52 |
HueAdjustmentAqua | +7 |
HueAdjustmentBlue | +2 |
HueAdjustmentGreen | -2 |
HueAdjustmentMagenta | -5 |
HueAdjustmentOrange | +14 |
HueAdjustmentPurple | +5 |
HueAdjustmentRed | +10 |
HueAdjustmentYellow | +10 |
ImageHeight | 768 |
ImageSize | 1024x768 |
ImageWidth | 1024 |
ISO | 100 |
Keywords | ATV, Cooper, Steffen, aina, alvdal, bettina, lars, morris, tur |
Lens | 12.0-60.0 mm f/2.8-4.0 |
LensInfo | 12-60mm f/2.8-4 |
LensSerialNumber | 230005742 |
LightSource | Cloudy |
LightValue | 12.6 |
LuminanceAdjustmentAqua | 0 |
LuminanceAdjustmentBlue | 0 |
LuminanceAdjustmentGreen | +5 |
LuminanceAdjustmentMagenta | 0 |
LuminanceAdjustmentOrange | -12 |
LuminanceAdjustmentPurple | -5 |
LuminanceAdjustmentRed | -21 |
LuminanceAdjustmentYellow | -10 |
LuminanceSmoothing | 0 |
Make | OLYMPUS IMAGING CORP. |
Marked | True |
MaxApertureValue | 2.8 |
Megapixels | 0.786 |
MeteringMode | Center-weighted average |
Model | E-3 |
ModifyDate (1) | 2009:12:13 20:35:18+01:00 |
ModifyDate | 2009:12:13 20:35:18 |
ParametricDarks | -19 |
ParametricHighlights | -5 |
ParametricHighlightSplit | 75 |
ParametricLights | +31 |
ParametricMidtoneSplit | 50 |
ParametricShadows | -24 |
ParametricShadowSplit | 25 |
PostCropVignetteAmount | 0 |
ProfileDescription | sRGB IEC61966-2.1 |
RedHue | 0 |
RedSaturation | 0 |
Rights | © ThomasHolm.no |
Saturation (2) | +12 |
Saturation | High |
SaturationAdjustmentAqua | -10 |
SaturationAdjustmentBlue | -7 |
SaturationAdjustmentGreen | +10 |
SaturationAdjustmentMagenta | +2 |
SaturationAdjustmentOrange | -10 |
SaturationAdjustmentPurple | +12 |
SaturationAdjustmentRed | +2 |
SaturationAdjustmentYellow | +7 |
SceneCaptureType | Standard |
SerialNumber | D69503579 |
Shadows | 39 |
ShadowTint | 0 |
SharpenDetail | 35 |
SharpenEdgeMasking | 14 |
SharpenRadius | +0.5 |
Sharpness (2) | 39 |
Sharpness | Normal |
ShutterSpeed | 1/160 |
ShutterSpeedValue | 1/160 |
Software | Version 1.4 |
SplitToningBalance | 0 |
SplitToningHighlightHue | 0 |
SplitToningHighlightSaturation | 0 |
SplitToningShadowHue | 0 |
SplitToningShadowSaturation | 0 |
Subject | ATV, Cooper, Steffen, aina, alvdal, bettina, lars, morris, tur |
Tint | 0 |
ToneCurve | 0, 0, 32, 22, 64, 56, 128, 128, 192, 196, 255, 255 |
ToneCurveName | Medium Contrast |
UsageTerms | No copying without permission! |
Version | 5.6 |
Vibrance | +40 |
VignetteAmount | 0 |
WhiteBalance (2) | Custom |
WhiteBalance | Manual |