Felt | Verdi |
AlreadyApplied | True |
Aperture | 4.0 |
ApertureValue | 4.0 |
BitsPerSample | 8 |
BlueHue | -7 |
BlueSaturation | +2 |
Brightness | +25 |
By-line | Thomas Holm |
CameraProfile | Adobe Standard |
CFAPattern | [Red,Green][Green,Blue] |
ChromaticAberrationB | 0 |
ChromaticAberrationR | 0 |
Clarity | +24 |
ColorComponents | 3 |
ColorNoiseReduction | 25 |
ColorTemperature | 3548 |
Contrast (2) | +11 |
Contrast | Normal |
ConvertToGrayscale | False |
Copyright | (C) ThomasHolm.no |
CopyrightFlag | True |
CopyrightNotice | © ThomasHolm.no |
CreateDate (1) | 2009:09:19 20:02:17+02:00 |
CreateDate | 2009:09:19 20:02:17 |
Creator | Thomas Holm |
CreatorTool | Adobe Photoshop Lightroom |
CreatorWorkURL | www.thomasholm.no |
CropAngle | 0 |
CropBottom | 0.988372 |
CropHeight | 768 |
CropLeft | 0.001231 |
CropRight | 0.961363 |
CropTop | 0.028239 |
CropUnit | pixels |
CropWidth | 1024 |
CustomRendered | Normal |
DateTimeDigitized | 2009:09:19 20:02:17+02:00 |
DateTimeOriginal (1) | 2009:09:19 20:02:17+02:00 |
DateTimeOriginal | 2009:09:19 20:02:17 |
Defringe | 0 |
Description | |
DigitalZoomRatio | 1 |
ExifImageHeight | 768 |
ExifImageWidth | 1024 |
Exposure | +1.81 |
ExposureCompensation | 0 |
ExposureMode | Auto |
ExposureProgram | Aperture-priority AE |
ExposureTime | 1.3 |
FillLight | 19 |
Flash | On, Did not fire |
FlashCompensation | 0 |
FlashFired | False |
FlashFunction | False |
FlashMode | On |
FlashRedEyeMode | False |
FlashReturn | No return detection |
FNumber | 4.0 |
FocalLength | 7.0 mm |
FocalLength35efl | 7.0 mm |
GainControl | High gain up |
GreenHue | +5 |
GreenSaturation | +7 |
HasCrop | True |
HasSettings | True |
HighlightRecovery | 40 |
HueAdjustmentAqua | +7 |
HueAdjustmentBlue | +2 |
HueAdjustmentGreen | -2 |
HueAdjustmentMagenta | -5 |
HueAdjustmentOrange | +14 |
HueAdjustmentPurple | +5 |
HueAdjustmentRed | +10 |
HueAdjustmentYellow | +10 |
ImageHeight | 768 |
ImageSize | 1024x768 |
ImageWidth | 1024 |
ISO | 800 |
Keywords | ATV, Cooper, Steffen, aina, alvdal, bettina, lars, morris, tur |
Lens | 7.0-14.0 mm f/4.0 |
LensInfo | 7-14mm f/4 |
LensSerialNumber | 110005220 |
LightSource | Tungsten (Incandescent) |
LightValue | 0.6 |
LuminanceAdjustmentAqua | 0 |
LuminanceAdjustmentBlue | 0 |
LuminanceAdjustmentGreen | +5 |
LuminanceAdjustmentMagenta | 0 |
LuminanceAdjustmentOrange | -12 |
LuminanceAdjustmentPurple | -5 |
LuminanceAdjustmentRed | -21 |
LuminanceAdjustmentYellow | -10 |
LuminanceSmoothing | 52 |
Make | OLYMPUS IMAGING CORP. |
Marked | True |
MaxApertureValue | 4.0 |
Megapixels | 0.786 |
MeteringMode | Center-weighted average |
Model | E-3 |
ModifyDate (1) | 2009:12:13 21:00:36+01:00 |
ModifyDate | 2009:12:13 21:00:36 |
PaintCorrectionActive | true |
PaintCorrectionAmount | 1.000000 |
PaintCorrectionBrightness | 0.000000 |
PaintCorrectionClarity | 0.000000 |
PaintCorrectionContrast | 0.000000 |
PaintCorrectionExposure | -0.575000 |
PaintCorrectionHue | 230.000000 |
PaintCorrectionMaskCenterWeight | 0.138457 |
PaintCorrectionMaskFlow | 0.500000 |
PaintCorrectionMaskRadius | 0.032781 |
PaintCorrectionMaskValue | 1.000000 |
PaintCorrectionMaskWhat | Mask/Paint |
PaintCorrectionSaturation | 0.000000 |
PaintCorrectionSharpness | 0.000000 |
PaintCorrectionWhat | Correction |
ParametricDarks | -19 |
ParametricHighlights | -5 |
ParametricHighlightSplit | 75 |
ParametricLights | +31 |
ParametricMidtoneSplit | 50 |
ParametricShadows | -24 |
ParametricShadowSplit | 25 |
PostCropVignetteAmount | 0 |
ProfileDescription | sRGB IEC61966-2.1 |
RedHue | 0 |
RedSaturation | 0 |
Rights | © ThomasHolm.no |
Saturation (2) | +14 |
Saturation | High |
SaturationAdjustmentAqua | -10 |
SaturationAdjustmentBlue | -7 |
SaturationAdjustmentGreen | +10 |
SaturationAdjustmentMagenta | +2 |
SaturationAdjustmentOrange | -10 |
SaturationAdjustmentPurple | +12 |
SaturationAdjustmentRed | +2 |
SaturationAdjustmentYellow | +7 |
SceneCaptureType | Standard |
SerialNumber | D70519750 |
Shadows | 5 |
ShadowTint | 0 |
SharpenDetail | 4 |
SharpenEdgeMasking | 33 |
SharpenRadius | +0.9 |
Sharpness (2) | 59 |
Sharpness | Normal |
ShutterSpeed | 1.3 |
ShutterSpeedValue | 1.3 |
Software | Version 1.4 |
SplitToningBalance | 0 |
SplitToningHighlightHue | 0 |
SplitToningHighlightSaturation | 0 |
SplitToningShadowHue | 0 |
SplitToningShadowSaturation | 0 |
Subject | ATV, Cooper, Steffen, aina, alvdal, bettina, lars, morris, tur |
Tint | +5 |
ToneCurve | 0, 0, 32, 22, 64, 56, 128, 128, 192, 196, 255, 255 |
ToneCurveName | Medium Contrast |
UsageTerms | No copying without permission! |
Version | 5.6 |
Vibrance | +29 |
VignetteAmount | 0 |
WhiteBalance (2) | Custom |
WhiteBalance | Manual |