Felt | Verdi |
AlreadyApplied | True |
Aperture | 10.0 |
ApertureValue | 10.0 |
BitsPerSample | 8 |
BlueHue | 0 |
BlueSaturation | 0 |
Brightness | +50 |
CameraProfile | ACR 4.4 |
CFAPattern | [Green,Red][Blue,Green] |
ChromaticAberrationB | 0 |
ChromaticAberrationR | 0 |
CircleOfConfusion | 0.020 mm |
Clarity | +14 |
ColorComponents | 3 |
ColorNoiseReduction | 25 |
ColorTemperature | 5150 |
Contrast (2) | +25 |
Contrast | Low |
ConvertToGrayscale | False |
Copyright | Espen Seierstad |
CopyrightFlag | True |
CopyrightNotice | Espen Seierstad |
CreateDate (1) | 2008:08:07 16:42:15.32+02:00 |
CreateDate | 2008:08:07 16:42:15 |
CreatorTool | Adobe Photoshop Lightroom |
CropAngle | 0 |
CropBottom | 0.888672 |
CropHeight | 600 |
CropLeft | 0.27814 |
CropRight | 0.666276 |
CropTop | 0.076941 |
CropUnit | pixels |
CropWidth | 429 |
CustomRendered | Normal |
DateTimeDigitized | 2008:08:07 16:42:15.32+02:00 |
DateTimeOriginal (1) | 2008:08:07 16:42:15.32+02:00 |
DateTimeOriginal | 2008:08:07 16:42:15 |
Defringe | 0 |
DigitalZoomRatio | 1 |
DOF | 1.76 m (19.16 - 20.92 m) |
ExifImageHeight | 600 |
ExifImageWidth | 429 |
Exposure | 0.00 |
ExposureCompensation | 0 |
ExposureMode | Auto |
ExposureProgram | Program AE |
ExposureTime | 1/400 |
FillLight | 0 |
Flash | No Flash |
FlashFired | False |
FlashFunction | False |
FlashMode | Unknown |
FlashRedEyeMode | False |
FlashReturn | No return detection |
FNumber | 10.0 |
FocalLength | 300.0 mm |
FocalLength35efl | 300.0 mm (35 mm equivalent: 450.0 mm) |
FocalLengthIn35mmFormat | 450 mm |
FOV | 4.6 deg |
GainControl | None |
GreenHue | 0 |
GreenSaturation | 0 |
HasCrop | True |
HasSettings | True |
HighlightRecovery | 0 |
HueAdjustmentAqua | 0 |
HueAdjustmentBlue | 0 |
HueAdjustmentGreen | 0 |
HueAdjustmentMagenta | 0 |
HueAdjustmentOrange | 0 |
HueAdjustmentPurple | 0 |
HueAdjustmentRed | 0 |
HueAdjustmentYellow | 0 |
HyperfocalDistance | 449.31 m |
ImageHeight | 600 |
ImageNumber | 11503 |
ImageSize | 429x600 |
ImageWidth | 429 |
ISO | 200 |
Keywords | Animals, Aves, Bathing, Bird, Birds, Charadriiformes, European Herring Gull, Flight, Fly, Flying, Gull, Herring Gull, Larus Argentatus, Seagull, Seagulls, Splashing |
Label | Green |
Lens | 300.0 mm f/2.8 |
LensInfo | 300mm f/2.8 |
LightSource | Unknown |
LightValue | 14.3 |
LuminanceAdjustmentAqua | 0 |
LuminanceAdjustmentBlue | 0 |
LuminanceAdjustmentGreen | 0 |
LuminanceAdjustmentMagenta | 0 |
LuminanceAdjustmentOrange | 0 |
LuminanceAdjustmentPurple | 0 |
LuminanceAdjustmentRed | 0 |
LuminanceAdjustmentYellow | 0 |
LuminanceSmoothing | 62 |
Make | NIKON CORPORATION |
Marked | True |
MaxApertureValue | 2.8 |
Megapixels | 0.257 |
MeteringMode | Center-weighted average |
Model | NIKON D200 |
ModifyDate (1) | 2010:03:25 23:48:43+01:00 |
ModifyDate | 2010:03:25 23:48:43 |
ObjectName | "matauk" |
PaintCorrectionActive | true |
PaintCorrectionAmount | 1.000000 |
PaintCorrectionBrightness | 0.000000 |
PaintCorrectionClarity (1) | 0.000000 |
PaintCorrectionClarity (2) | 0.325000 |
PaintCorrectionClarity | 0.250000 |
PaintCorrectionContrast (2) | 0.000000 |
PaintCorrectionContrast | 0.200000 |
PaintCorrectionExposure (1) | 0.000000 |
PaintCorrectionExposure | -0.050000 |
PaintCorrectionHue | 116.000000 |
PaintCorrectionMaskCenterWeight (1) | 0.032726 |
PaintCorrectionMaskCenterWeight | 0.083679 |
PaintCorrectionMaskFlow | 1.000000 |
PaintCorrectionMaskRadius (1) | 0.031218 |
PaintCorrectionMaskRadius | 0.053072 |
PaintCorrectionMaskValue | 1.000000 |
PaintCorrectionMaskWhat | Mask/Paint |
PaintCorrectionSaturation | 0.000000 |
PaintCorrectionSharpness (1) | 0.600000 |
PaintCorrectionSharpness | 0.450000 |
PaintCorrectionWhat | Correction |
ParametricDarks | +2 |
ParametricHighlights | +26 |
ParametricHighlightSplit | 75 |
ParametricLights | +14 |
ParametricMidtoneSplit | 50 |
ParametricShadows | -17 |
ParametricShadowSplit | 25 |
PostCropVignetteAmount | 0 |
ProfileDescription | sRGB IEC61966-2.1 |
Rating | 4 |
RedHue | 0 |
RedSaturation | 0 |
Rights | Espen Seierstad |
Saturation (2) | 0 |
Saturation | Normal |
SaturationAdjustmentAqua | 0 |
SaturationAdjustmentBlue | 0 |
SaturationAdjustmentGreen | 0 |
SaturationAdjustmentMagenta | 0 |
SaturationAdjustmentOrange | 0 |
SaturationAdjustmentPurple | 0 |
SaturationAdjustmentRed | 0 |
SaturationAdjustmentYellow | 0 |
ScaleFactor35efl | 1.5 |
SceneCaptureType | Standard |
SceneType | Directly photographed |
SensingMethod | One-chip color area |
Shadows | 5 |
ShadowTint | 0 |
SharpenDetail | 100 |
SharpenEdgeMasking | 0 |
SharpenRadius | +1.1 |
Sharpness (2) | 123 |
Sharpness | Hard |
ShutterSpeed | 1/400 |
ShutterSpeedValue | 1/400 |
Software | Ver.2.00 |
SplitToningBalance | 0 |
SplitToningHighlightHue | 0 |
SplitToningHighlightSaturation | 0 |
SplitToningShadowHue | 0 |
SplitToningShadowSaturation | 0 |
Subject | Animals, Aves, Bathing, Bird, Birds, Charadriiformes, European Herring Gull, Flight, Fly, Flying, Gull, Herring Gull, Larus Argentatus, Seagull, Seagulls, Splashing |
SubjectDistance | 20 m |
SubjectDistanceRange | Unknown |
Tint | -5 |
Title | "matauk" |
ToneCurve | 0, 0, 32, 22, 64, 56, 128, 128, 192, 196, 255, 255 |
ToneCurveName | Medium Contrast |
UserComment | Espen Seierstad |
Version | 5.6 |
Vibrance | +19 |
VignetteAmount | 0 |
WhiteBalance (2) | As Shot |
WhiteBalance | Auto |