Felt | Verdi |
AlreadyApplied | True |
Aperture | 14.0 |
ApertureValue | 14.0 |
Artist | Lars Erik Nes |
BitsPerSample | 8 |
BlueHue | 0 |
BlueSaturation | 0 |
Brightness | 0 |
By-line | Lars Erik Nes |
CameraProfile | Embedded |
CaptionWriter | Lars Erik Nes |
CFAPattern | [Red,Green][Green,Blue] |
ChromaticAberrationB | 0 |
ChromaticAberrationR | 0 |
CircleOfConfusion | 0.020 mm |
Clarity | +40 |
ColorComponents | 1 |
ColorMode | RGB |
ColorNoiseReduction | 25 |
ColorSpace | sRGB |
Contrast (1) | High |
Contrast | Normal |
ConvertToGrayscale | True |
Copyright | Lars Erik Nes |
CopyrightFlag | True |
CopyrightNotice | Lars Erik Nes |
CreateDate (1) | 2010:03:01 12:08:03.05+01:00 |
CreateDate | 2010:03:01 12:08:03 |
Creator | Lars Erik Nes |
CreatorAddress | Kartheia 63a |
CreatorCity | Kristiansand |
CreatorCountry | Norway |
CreatorPostalCode | 4626 |
CreatorTool | Adobe Photoshop Lightroom |
CreatorWorkEmail | lars.erik.nes@gmail.com |
CreatorWorkTelephone | 004791898013 |
CreatorWorkURL | http://www.fotosalg.net |
CropAngle | 0 |
CropBottom | 0.927083 |
CropHeight | 810 |
CropLeft | 0.040203 |
CropRight | 0.939035 |
CropTop | 0.071181 |
CropUnit | pixels |
CropWidth | 1280 |
CustomRendered | Normal |
DateTimeDigitized | 2010:03:01 12:08:03.05+01:00 |
DateTimeOriginal (1) | 2010:03:01 12:08:03.05+01:00 |
DateTimeOriginal | 2010:03:01 12:08:03 |
Defringe | 0 |
DigitalZoomRatio | 1 |
ExifImageHeight | 814 |
ExifImageWidth | 1284 |
Exposure | -0.35 |
ExposureCompensation | +1/3 |
ExposureMode | Auto |
ExposureProgram | Aperture-priority AE |
ExposureTime | 1/320 |
FillLight | 10 |
Flash | No Flash |
FlashFired | False |
FlashFunction | False |
FlashMode | Unknown |
FlashRedEyeMode | False |
FlashReturn | No return detection |
FNumber | 14.0 |
FocalLength | 55.0 mm |
FocalLength35efl | 55.0 mm (35 mm equivalent: 82.0 mm) |
FocalLengthIn35mmFormat | 82 mm |
Format | image/jpeg |
FOV | 24.8 deg |
GainControl | None |
GrayMixerAqua | -20 |
GrayMixerBlue | +4 |
GrayMixerGreen | -22 |
GrayMixerMagenta | +5 |
GrayMixerOrange | -12 |
GrayMixerPurple | +12 |
GrayMixerRed | -4 |
GrayMixerYellow | -16 |
GreenHue | 0 |
GreenSaturation | 0 |
HasCrop | True |
HasSettings | True |
HighlightRecovery | 0 |
HyperfocalDistance | 10.72 m |
ICCProfileName | sRGB IEC61966-2.1 |
ImageHeight (1) | 810 |
ImageHeight | 814 |
ImageNumber | 12865 |
ImageSize | 1284x814 |
ImageWidth (1) | 1280 |
ImageWidth | 1284 |
IncrementalTemperature | +15 |
IncrementalTint | +4 |
ISO | 200 |
Keywords | NSFF Landskonkurranse, formasjon |
Lens | 17.0-55.0 mm f/2.8 |
LensInfo | 17-55mm f/2.8 |
LightSource | Unknown |
LightValue | 14.9 |
LuminanceSmoothing | 0 |
Make | NIKON CORPORATION |
Marked | True |
MaxApertureValue | 2.8 |
Megapixels | 1.0 |
MeteringMode | Multi-segment |
Model | NIKON D300 |
ModifyDate (1) | 2010:05:29 20:10:50+02:00 |
ModifyDate | 2010:05:29 20:10:50 |
Orientation | Horizontal (normal) |
ParametricDarks | 0 |
ParametricHighlights | 0 |
ParametricHighlightSplit | 75 |
ParametricLights | 0 |
ParametricMidtoneSplit | 50 |
ParametricShadows | 0 |
ParametricShadowSplit | 25 |
PostCropVignetteAmount | 0 |
ProfileDescription | sRGB IEC61966-2.1 |
RedHue | 0 |
RedSaturation | 0 |
Rights | Lars Erik Nes |
Saturation | Normal |
ScaleFactor35efl | 1.5 |
SceneCaptureType | Standard |
SceneType | Directly photographed |
SensingMethod | One-chip color area |
SerialNumber | 4007308 |
Shadows | 71 |
ShadowTint | 0 |
SharpenDetail | 50 |
SharpenEdgeMasking | 0 |
SharpenRadius | +1.0 |
Sharpness (1) | Hard |
Sharpness | Normal |
ShutterSpeed | 1/320 |
ShutterSpeedValue | 1/320 |
Software | Adobe Photoshop CS4 Macintosh |
SplitToningBalance | 0 |
SplitToningHighlightHue | 0 |
SplitToningHighlightSaturation | 0 |
SplitToningShadowHue | 0 |
SplitToningShadowSaturation | 0 |
Subject | NSFF Landskonkurranse, formasjon |
SubjectDistanceRange | Unknown |
ToneCurve | 0, 0, 255, 255 |
ToneCurveName | Linear |
URL | http://www.fotosalg.net |
URL_List | |
Version | 5.5 |
VignetteAmount | 0 |
WebStatement | http://www.fotosalg.net |
WhiteBalance | Auto |
Writer-Editor | Lars Erik Nes |