Felt | Verdi |
AlreadyApplied | True |
Aperture | 8.0 |
ApertureValue | 8.0 |
BitsPerSample (1) | 8 8 8 |
BitsPerSample | 8 |
BlueHue | -30 |
BlueSaturation | +16 |
Brightness | +76 |
CameraProfile | ACR 4.4 |
ChromaticAberrationB | 0 |
ChromaticAberrationR | 0 |
CircleOfConfusion | 0.019 mm |
Clarity | +100 |
ColorComponents | 3 |
ColorMode | RGB |
ColorNoiseReduction | 25 |
ColorSpace | Uncalibrated |
ColorTemperature | 7300 |
Contrast | +100 |
ConvertToGrayscale | False |
CreateDate (1) | 2009:05:29 19:17:03.00+02:00 |
CreateDate | 2009:05:29 19:17:03 |
CreatorTool | Adobe Photoshop CS4 Windows |
CustomRendered | Normal |
DateCreated (1) | 2009:05:29 |
DateCreated | 2009:05:29 19:17:03 |
DateTimeOriginal | 2009:05:29 19:17:03 |
Defringe | 0 |
ExifImageHeight | 868 |
ExifImageWidth | 670 |
Exposure | +0.95 |
ExposureCompensation | 0 |
ExposureMode | Manual |
ExposureProgram | Manual |
ExposureTime | 3.2 |
FillLight | 29 |
Firmware | 1.0.8 |
Flash | Off, Did not fire |
FlashCompensation | 0 |
FNumber | 8.0 |
FocalLength | 50.0 mm |
FocalLength35efl | 50.0 mm (35 mm equivalent: 80.9 mm) |
Format | image/jpeg |
FOV | 25.1 deg |
GreenHue | -33 |
GreenSaturation | -3 |
HasCrop | False |
HasSettings | True |
HighlightRecovery | 40 |
HueAdjustmentAqua | -3 |
HueAdjustmentBlue | -8 |
HueAdjustmentGreen | 0 |
HueAdjustmentMagenta | 0 |
HueAdjustmentOrange | -17 |
HueAdjustmentPurple | 0 |
HueAdjustmentRed | +42 |
HueAdjustmentYellow | +3 |
HyperfocalDistance | 16.84 m |
ICCProfileName | Adobe RGB (1998) |
ImageHeight (1) | 1868 |
ImageHeight | 868 |
ImageNumber | 0 |
ImageSize | 670x868 |
ImageWidth (1) | 1441 |
ImageWidth | 670 |
ISO | 100 |
Lens | 17-50mm |
LensInfo | 17-50mm f/? |
LightValue | 4.3 |
LuminanceAdjustmentAqua | 0 |
LuminanceAdjustmentBlue | 0 |
LuminanceAdjustmentGreen | 0 |
LuminanceAdjustmentMagenta | 0 |
LuminanceAdjustmentOrange | 0 |
LuminanceAdjustmentPurple | 0 |
LuminanceAdjustmentRed | 0 |
LuminanceAdjustmentYellow | 0 |
LuminanceSmoothing | 0 |
Make | Canon |
MaxApertureValue | 2.8 |
Megapixels | 0.582 |
MeteringMode | Spot |
Model | Canon EOS 40D |
ModifyDate (1) | 2010:06:02 19:17:33+02:00 |
ModifyDate | 2010:06:02 19:17:33 |
Orientation | Horizontal (normal) |
ParametricDarks | -38 |
ParametricHighlights | +84 |
ParametricHighlightSplit | 75 |
ParametricLights | -12 |
ParametricMidtoneSplit | 50 |
ParametricShadows | +83 |
ParametricShadowSplit | 25 |
PhotometricInterpretation | RGB |
PostCropVignetteAmount | -100 |
PostCropVignetteFeather | 75 |
PostCropVignetteMidpoint | 21 |
PostCropVignetteRoundness | -20 |
ProfileDescription | Adobe RGB (1998) |
Rating | 0 |
RawFileName | IMG_3879.CR2 |
RedHue | +58 |
RedSaturation | 0 |
Saturation | 0 |
SaturationAdjustmentAqua | -3 |
SaturationAdjustmentBlue | 0 |
SaturationAdjustmentGreen | -2 |
SaturationAdjustmentMagenta | 0 |
SaturationAdjustmentOrange | -62 |
SaturationAdjustmentPurple | 0 |
SaturationAdjustmentRed | +54 |
SaturationAdjustmentYellow | +2 |
ScaleFactor35efl | 1.6 |
SceneCaptureType | Standard |
SerialNumber | 1230735049 |
Shadows | 21 |
ShadowTint | -1 |
SharpenDetail | 18 |
SharpenEdgeMasking | 0 |
SharpenRadius | +1.3 |
Sharpness | 34 |
ShutterSpeed | 3.2 |
ShutterSpeedValue | 3.2 |
SidecarForExtension | CR2 |
Software | Adobe Photoshop CS5 Windows |
SplitToningBalance | 0 |
SplitToningHighlightHue | 0 |
SplitToningHighlightSaturation | 0 |
SplitToningShadowHue | 0 |
SplitToningShadowSaturation | 0 |
Tint | -28 |
ToneCurve | 0, 0, 32, 22, 64, 56, 128, 128, 192, 196, 255, 255 |
ToneCurveName | Medium Contrast |
URL_List | |
Version | 5.0 |
Vibrance | -53 |
VignetteAmount | -100 |
VignetteMidpoint | 30 |
WhiteBalance (1) | Custom |
WhiteBalance | Auto |