Felt | Verdi |
AlreadyApplied | True |
Aperture | 14.0 |
ApertureValue | 14.0 |
BitsPerSample | 8 |
BlueHue | 0 |
BlueSaturation | 0 |
Brightness | +50 |
CameraProfile | Adobe Standard |
ChromaticAberrationB | 0 |
ChromaticAberrationR | 0 |
CircleOfConfusion | 0.031 mm |
Clarity | +32 |
ColorComponents | 1 |
ColorNoiseReduction | 45 |
ColorNoiseReductionDetail | 50 |
ColorTemperature | 5400 |
Contrast | +57 |
ConvertToGrayscale | True |
CreateDate (1) | 2010:05:08 09:19:43.58+02:00 |
CreateDate | 2010:05:08 09:19:43 |
CreatorTool | Adobe Photoshop Lightroom |
CropAngle | 1.38321 |
CropBottom | 1 |
CropConstrainToWarp | 0 |
CropHeight | 720 |
CropLeft | 0.015448 |
CropRight | 0.959673 |
CropTop | 0.005568 |
CropUnit | pixels |
CropWidth | 1080 |
CustomRendered | Normal |
DateTimeDigitized | 2010:05:08 09:19:43.58+02:00 |
DateTimeOriginal (1) | 2010:05:08 09:19:43.58+02:00 |
DateTimeOriginal | 2010:05:08 09:19:43 |
Defringe | 0 |
DOF | inf (17.97 m - inf) |
ExifImageHeight | 720 |
ExifImageWidth | 1080 |
Exposure | +0.25 |
ExposureCompensation | +1/3 |
ExposureMode | Auto |
ExposureProgram | Aperture-priority AE |
ExposureTime | 1/400 |
FillLight | 0 |
Firmware | 1.1.0 |
Flash | Off, Did not fire |
FlashCompensation | 0 |
FlashFired | False |
FlashFunction | False |
FlashMode | Off |
FlashRedEyeMode | False |
FlashReturn | No return detection |
FNumber | 14.0 |
FocalLength | 88.0 mm |
FocalLength35efl | 88.0 mm (35 mm equivalent: 85.9 mm) |
FOV | 23.7 deg |
GrainAmount | 0 |
GrayMixerAqua | -21 |
GrayMixerBlue | -30 |
GrayMixerGreen | +2 |
GrayMixerMagenta | +4 |
GrayMixerOrange | +15 |
GrayMixerPurple | -19 |
GrayMixerRed | +13 |
GrayMixerYellow | +2 |
GreenHue | 0 |
GreenSaturation | 0 |
HasCrop | True |
HasSettings | True |
HighlightRecovery | 0 |
HyperfocalDistance | 17.97 m |
ImageHeight | 720 |
ImageNumber | 0 |
ImageSize | 1080x720 |
ImageWidth | 1080 |
ISO | 100 |
Keywords | Alpene, Haute Route, Ski |
Lens | EF24-105mm f/4L IS USM |
LensInfo | 24-105mm f/? |
LensManualDistortionAmount | 0 |
LensProfileChromaticAberrationScale | 100 |
LensProfileDistortionScale | 0 |
LensProfileEnable | 1 |
LensProfileFilename | Canon EOS-1Ds Mark III (Canon EF 24-105mm f4 L IS USM) - RAW.lcp |
LensProfileName | Adobe (Canon EF 24-105mm f/4 L IS USM) |
LensProfileSetup | Custom |
LensProfileVignettingScale | 100 |
LightValue | 16.3 |
LuminanceNoiseReductionContrast | 50 |
LuminanceNoiseReductionDetail | 50 |
LuminanceSmoothing | 23 |
Make | Canon |
MaxApertureValue | 4.0 |
Megapixels | 0.778 |
MeteringMode | Multi-segment |
Model | Canon EOS 5D Mark II |
ModifyDate (1) | 2010:06:27 13:31:51+02:00 |
ModifyDate | 2010:06:27 13:31:51 |
ParametricDarks | -9 |
ParametricHighlights | +37 |
ParametricHighlightSplit | 75 |
ParametricLights | +6 |
ParametricMidtoneSplit | 50 |
ParametricShadows | -25 |
ParametricShadowSplit | 25 |
PerspectiveHorizontal | 0 |
PerspectiveRotate | 0.0 |
PerspectiveScale | 100 |
PerspectiveVertical | 0 |
PostCropVignetteAmount | 0 |
ProcessVersion | 5.7 |
ProfileDescription | sRGB IEC61966-2.1 |
Rating | 3 |
RedHue | 0 |
RedSaturation | 0 |
ScaleFactor35efl | 1.0 |
SceneCaptureType | Standard |
SerialNumber | 1430911017 |
Shadows | 25 |
ShadowTint | 0 |
SharpenDetail | 25 |
SharpenEdgeMasking | 0 |
SharpenRadius | +1.0 |
Sharpness | 39 |
ShutterSpeed | 1/400 |
ShutterSpeedValue | 1/400 |
SplitToningBalance | 0 |
SplitToningHighlightHue | 0 |
SplitToningHighlightSaturation | 0 |
SplitToningShadowHue | 0 |
SplitToningShadowSaturation | 0 |
Subject | Alpene, Haute Route, Ski |
SubjectDistance | 4294967295 m |
Tint | +7 |
ToneCurve | 0, 0, 32, 16, 64, 50, 128, 128, 192, 202, 255, 255 |
ToneCurveName | Strong Contrast |
Version | 6.1 |
VignetteAmount | 0 |
WhiteBalance (2) | As Shot |
WhiteBalance | Auto |