Felt | Verdi |
AlreadyApplied | True |
Aperture | 9.0 |
ApertureValue | 9.0 |
Artist | Eric Fagerheim |
AuthorsPosition | photographer |
BitsPerSample | 8 |
BlueHue | +11 |
BlueSaturation | -21 |
Brightness | -5 |
By-line | Eric Fagerheim |
By-lineTitle | photographer |
CameraProfile | Embedded |
Caption-Abstract | Eric Fagerheim |
ChromaticAberrationB | 0 |
ChromaticAberrationR | 0 |
CircleOfConfusion | 0.031 mm |
Clarity | +100 |
ColorComponents | 3 |
ColorNoiseReduction | 25 |
ColorNoiseReductionDetail | 50 |
Contrast | +38 |
ConvertToGrayscale | True |
Copyright | Eric Fagerheim |
CopyrightFlag | True |
CopyrightNotice | Eric Fagerheim |
CreateDate (1) | 2010:06:29 19:38:36.85+02:00 |
CreateDate | 2010:06:29 19:38:36 |
Creator | Eric Fagerheim |
CreatorCity | Trondheim |
CreatorCountry | Norway |
CreatorTool | Adobe Photoshop Lightroom |
CreatorWorkTelephone | +92440401 |
CreatorWorkURL | http://www.fotofashon.no |
CustomRendered | Normal |
DateCreated (1) | 2010:06:29 |
DateCreated | 2010:06:29 19:38:36.085 |
DateTimeDigitized | 2010:06:29 19:38:36.85+02:00 |
DateTimeOriginal (1) | 2010:06:29 19:38:36.85+02:00 |
DateTimeOriginal | 2010:06:29 19:38:36 |
Defringe | 0 |
Description | Eric Fagerheim |
DOF | 0.07 m (1.20 - 1.27 m) |
ExifImageHeight | 631 |
ExifImageWidth | 800 |
Exposure | -0.32 |
ExposureCompensation | 0 |
ExposureMode | Manual |
ExposureProgram | Manual |
ExposureTime | 1/160 |
FillLight | 25 |
Firmware | 2.0.7 |
Flash | Off, Did not fire |
FlashCompensation | 0 |
FlashFired | False |
FlashFunction | False |
FlashMode | Off |
FlashRedEyeMode | False |
FlashReturn | No return detection |
FNumber | 9.0 |
FocalLength | 105.0 mm |
FocalLength35efl | 105.0 mm (35 mm equivalent: 102.5 mm) |
Format | application/vnd.adobe.photoshop |
FOV | 19.9 deg |
GrainAmount | 0 |
GrayMixerAqua | +7 |
GrayMixerBlue | +39 |
GrayMixerGreen | -2 |
GrayMixerMagenta | +30 |
GrayMixerOrange | -39 |
GrayMixerPurple | +25 |
GrayMixerRed | +16 |
GrayMixerYellow | -12 |
GreenHue | +16 |
GreenSaturation | +51 |
HasCrop | False |
HasSettings | True |
Headline | Din fotograf i Trondheim - Fotofashion |
HighlightRecovery | 0 |
HyperfocalDistance | 39.79 m |
ImageDescription | Eric Fagerheim |
ImageHeight | 631 |
ImageNumber | 0 |
ImageSize | 800x631 |
ImageWidth | 800 |
IncrementalTemperature | 0 |
IncrementalTint | 0 |
ISO | 100 |
Keywords | beauty bilder, beauty fotograf, fashion bilder, fashion fotograf, fotofashion, fotograf trondheim, glamour bilder, reklame fotograf |
Lens | EF24-105mm f/4L IS USM |
LensID (1) | 237 |
LensID | Canon EF 24-105mm f/4L IS USM |
LensInfo | 24-105mm f/? |
LensManualDistortionAmount | 0 |
LensProfileEnable | 0 |
LensProfileSetup | LensDefaults |
LightValue | 13.7 |
LuminanceSmoothing | 0 |
Make | Canon |
Marked | True |
MaxApertureValue | 4.0 |
Megapixels | 0.505 |
MeteringMode | Multi-segment |
Model | Canon EOS 5D Mark II |
ModifyDate (1) | 2010:07:13 13:59:35+02:00 |
ModifyDate | 2010:07:13 13:59:35 |
ObjectName | Din fotograf i Trondheim - Fotofashion |
ParametricDarks | 0 |
ParametricHighlights | -16 |
ParametricHighlightSplit | 75 |
ParametricLights | -2 |
ParametricMidtoneSplit | 50 |
ParametricShadows | 0 |
ParametricShadowSplit | 25 |
PerspectiveHorizontal | 0 |
PerspectiveRotate | 0.0 |
PerspectiveScale | 100 |
PerspectiveVertical | 0 |
PostCropVignetteAmount | 0 |
ProcessVersion | 5.7 |
ProfileDescription | sRGB IEC61966-2.1 |
Rating | 1 |
RedHue | +23 |
RedSaturation | +10 |
Rights | Eric Fagerheim |
ScaleFactor35efl | 1.0 |
SceneCaptureType | Standard |
SerialNumber | 1330823407 |
Shadows | 3 |
ShadowTint | +4 |
SharpenDetail | 25 |
SharpenEdgeMasking | 0 |
SharpenRadius | +1.0 |
Sharpness | 25 |
ShutterSpeed | 1/160 |
ShutterSpeedValue | 1/160 |
Software | Adobe Photoshop CS5 Windows |
SplitToningBalance | 0 |
SplitToningHighlightHue | 215 |
SplitToningHighlightSaturation | 32 |
SplitToningShadowHue | 240 |
SplitToningShadowSaturation | 29 |
Subject | beauty bilder, beauty fotograf, fashion bilder, fashion fotograf, fotofashion, fotograf trondheim, glamour bilder, reklame fotograf |
SubjectDistance | 1.23 m |
Title | Din fotograf i Trondheim - Fotofashion |
ToneCurve | 0, 0, 255, 255 |
ToneCurveName | Linear |
URL | http://www.fotofashion.no |
Version | 6.1 |
VignetteAmount | -100 |
VignetteMidpoint | 40 |
WebStatement | http://www.fotofashion.no |
WhiteBalance (2) | As Shot |
WhiteBalance | Auto |