Felt | Verdi |
AlreadyApplied | True |
Aperture | 11.0 |
ApertureValue | 11.0 |
Artist | Alireza Shakernia |
BitsPerSample (1) | 8 8 8 |
BitsPerSample | 8 |
BlueHue | 0 |
BlueSaturation | 0 |
Brightness | +45 |
By-line | Alireza Shakernia |
CameraProfile | Adobe Standard |
ChromaticAberrationB | 0 |
ChromaticAberrationR | 0 |
CircleOfConfusion | 0.019 mm |
Clarity | +76 |
ColorComponents | 3 |
ColorMode | RGB |
ColorNoiseReduction | 86 |
ColorNoiseReductionDetail | 80 |
ColorSpace | sRGB |
ColorTemperature | 5600 |
Contrast | +31 |
ConvertToGrayscale | False |
CreateDate (1) | 2010:08:18 16:44:32.99+02:00 |
CreateDate | 2010:08:18 16:44:32 |
Creator | Alireza Shakernia |
CreatorTool | Adobe Photoshop CS5 Windows |
CustomRendered | Normal |
DateCreated (1) | 2010:08:18 |
DateCreated | 2010:08:18 16:44:32.099 |
DateTimeOriginal | 2010:08:18 16:44:32 |
Defringe | 0 |
ExifImageHeight | 800 |
ExifImageWidth | 1200 |
Exposure | 0.00 |
ExposureCompensation | 0 |
ExposureMode | Manual |
ExposureProgram | Manual |
ExposureTime | 1/30 |
FillLight | 43 |
Firmware | 1.0.9 |
Flash | Off, Did not fire |
FlashCompensation | 0 |
FNumber | 11.0 |
FocalLength | 50.0 mm |
FocalLength35efl | 50.0 mm (35 mm equivalent: 80.8 mm) |
Format | image/jpeg |
FOV | 25.1 deg |
GrainAmount | 0 |
GreenHue | 0 |
GreenSaturation | 0 |
HasCrop | False |
HasSettings | True |
HighlightRecovery | 0 |
HueAdjustmentAqua | 0 |
HueAdjustmentBlue | 0 |
HueAdjustmentGreen | 0 |
HueAdjustmentMagenta | 0 |
HueAdjustmentOrange | 0 |
HueAdjustmentPurple | 0 |
HueAdjustmentRed | +1 |
HueAdjustmentYellow | 0 |
HyperfocalDistance | 12.22 m |
ICCProfileName | sRGB IEC61966-2.1 |
ImageHeight | 800 |
ImageNumber | 0 |
ImageSize | 1200x800 |
ImageWidth | 1200 |
ISO | 400 |
Lens | EF50mm f/1.8 II |
LensID (1) | 29 |
LensID | Canon EF 50mm f/1.8 II |
LensInfo | 50mm f/? |
LightValue | 9.8 |
LuminanceAdjustmentAqua | 0 |
LuminanceAdjustmentBlue | 0 |
LuminanceAdjustmentGreen | 0 |
LuminanceAdjustmentMagenta | 0 |
LuminanceAdjustmentOrange | 0 |
LuminanceAdjustmentPurple | 0 |
LuminanceAdjustmentRed | 0 |
LuminanceAdjustmentYellow | 0 |
LuminanceNoiseReductionContrast | 0 |
LuminanceNoiseReductionDetail | 50 |
LuminanceSmoothing | 75 |
Make | Canon |
MaxApertureValue | 1.8 |
Megapixels | 0.960 |
MeteringMode | Multi-segment |
Model | Canon EOS 450D |
ModifyDate (1) | 2010:08:18 20:03:26+02:00 |
ModifyDate | 2010:08:18 20:03:26 |
Orientation | Horizontal (normal) |
OwnerName | Alireza Shakernia |
ParametricDarks | +3 |
ParametricHighlights | -2 |
ParametricHighlightSplit | 75 |
ParametricLights | -3 |
ParametricMidtoneSplit | 50 |
ParametricShadows | -44 |
ParametricShadowSplit | 25 |
PhotometricInterpretation | RGB |
PostCropVignetteAmount | 0 |
ProcessVersion | 5.7 |
ProfileDescription | sRGB IEC61966-2.1 |
Rating | 0 |
RawFileName | IMG_3877.CR2 |
RedHue | 0 |
RedSaturation | 0 |
Saturation | 0 |
SaturationAdjustmentAqua | -4 |
SaturationAdjustmentBlue | -1 |
SaturationAdjustmentGreen | 0 |
SaturationAdjustmentMagenta | 0 |
SaturationAdjustmentOrange | -3 |
SaturationAdjustmentPurple | -3 |
SaturationAdjustmentRed | -14 |
SaturationAdjustmentYellow | +86 |
ScaleFactor35efl | 1.6 |
SceneCaptureType | Standard |
SerialNumber | 1080367138 |
Shadows | 10 |
ShadowTint | 0 |
SharpenDetail | 100 |
SharpenEdgeMasking | 0 |
SharpenRadius | +3.0 |
Sharpness | 69 |
ShutterSpeed | 1/30 |
ShutterSpeedValue | 1/30 |
Software | Adobe Photoshop CS5 Windows |
SplitToningBalance | 0 |
SplitToningHighlightHue | 0 |
SplitToningHighlightSaturation | 0 |
SplitToningShadowHue | 0 |
SplitToningShadowSaturation | 0 |
Tint | +1 |
ToneCurve | 0, 0, 32, 22, 64, 56, 128, 128, 192, 196, 255, 255 |
ToneCurveName | Medium Contrast |
URL_List | |
Version | 6.0 |
Vibrance | +59 |
VignetteAmount | 0 |
WhiteBalance (1) | Custom |
WhiteBalance | Auto |