Felt | Verdi |
AlreadyApplied | True |
Aperture | 5.0 |
ApertureValue | 5.0 |
BitsPerSample (1) | 16, 16, 16 |
BitsPerSample (2) | 16 16 16 |
BitsPerSample | 8 |
BlueHue | 0 |
BlueSaturation | 0 |
Brightness | +77 |
CameraProfile | Embedded |
ChromaticAberrationB | 0 |
ChromaticAberrationR | 0 |
CircleOfConfusion | 0.005 mm |
Clarity | -3 |
ColorComponents | 3 |
ColorNoiseReduction | 0 |
Contrast | +75 |
ConvertToGrayscale | False |
CreateDate (1) | 2007:06:23 19:57:47+02:00 |
CreateDate | 2007:06:23 19:57:47 |
CreatorTool | Adobe Photoshop Lightroom |
CropAngle | 0 |
CropBottom | 1 |
CropHeight | 2112 |
CropLeft | 0.017595 |
CropRight | 0.900293 |
CropTop | 0 |
CropUnit | pixels |
CropWidth | 2486 |
CustomRendered | Normal |
DateTimeDigitized | 2007:06:23 19:57:47+02:00 |
DateTimeOriginal (1) | 2007:06:23 19:57:47+02:00 |
DateTimeOriginal | 2007:06:23 19:57:47 |
Defringe | 0 |
DigitalZoomRatio | 1 |
ExifImageHeight | 2112 |
ExifImageWidth | 2486 |
Exposure | +0.35 |
ExposureCompensation | 0 |
ExposureMode | Auto |
ExposureTime | 1/320 |
FillLight | 6 |
Firmware | 1.00 |
Flash | Auto, Did not fire |
FlashCompensation | 0 |
FlashFired | False |
FlashFunction | False |
FlashMode | Auto |
FlashRedEyeMode | False |
FlashReturn | No return detection |
FNumber | 5.0 |
FocalLength | 18.6 mm |
FocalLength35efl | 18.6 mm (35 mm equivalent: 112.8 mm) |
FOV | 18.1 deg |
GradientBasedCorrActive | true |
GradientBasedCorrAmount | 1.000000 |
GradientBasedCorrBrightness | 0.068182 |
GradientBasedCorrClarity | 0.068182 |
GradientBasedCorrContrast | 0.000000 |
GradientBasedCorrExposure | 0.000000 |
GradientBasedCorrHue | 240.000000 |
GradientBasedCorrMaskFullX (1) | 1.123890 |
GradientBasedCorrMaskFullX | 0.055049 |
GradientBasedCorrMaskFullY (1) | 0.048210 |
GradientBasedCorrMaskFullY | 0.512788 |
GradientBasedCorrMaskValue | 1.000000 |
GradientBasedCorrMaskWhat | Mask/Gradient |
GradientBasedCorrMaskZeroX (1) | 0.677331 |
GradientBasedCorrMaskZeroX | 0.481463 |
GradientBasedCorrMaskZeroY (1) | 0.691516 |
GradientBasedCorrMaskZeroY | 0.750530 |
GradientBasedCorrSaturation (3) | 0.840909 |
GradientBasedCorrSaturation | 0.000000 |
GradientBasedCorrSharpness | 0.795455 |
GradientBasedCorrWhat | Correction |
GreenHue | 0 |
GreenSaturation | 0 |
HasCrop | True |
HasSettings | True |
HighlightRecovery | 7 |
HueAdjustmentAqua | 0 |
HueAdjustmentBlue | 0 |
HueAdjustmentGreen | 0 |
HueAdjustmentMagenta | 0 |
HueAdjustmentOrange | 0 |
HueAdjustmentPurple | 0 |
HueAdjustmentRed | 0 |
HueAdjustmentYellow | 0 |
HyperfocalDistance | 13.99 m |
ImageHeight (1) | 2112 |
ImageHeight | 904 |
ImageSize | 1024x904 |
ImageWidth (1) | 2486 |
ImageWidth | 1024 |
IncrementalTemperature | +9 |
IncrementalTint | -2 |
Keywords | konfirmasjon simen |
Lens | 5.8-23.2 mm |
LensInfo | 5.8-23.2mm f/? |
LuminanceAdjustmentAqua | 0 |
LuminanceAdjustmentBlue | 0 |
LuminanceAdjustmentGreen | 0 |
LuminanceAdjustmentMagenta | 0 |
LuminanceAdjustmentOrange | 0 |
LuminanceAdjustmentPurple | 0 |
LuminanceAdjustmentRed | 0 |
LuminanceAdjustmentYellow | 0 |
LuminanceSmoothing | 0 |
Make | Canon |
MaxApertureValue | 5.0 |
Megapixels | 0.926 |
MeteringMode | Multi-segment |
Model | Canon DIGITAL IXUS 800 IS |
ModifyDate (1) | 2010:09:28 19:55:45+02:00 |
ModifyDate | 2010:09:28 19:55:45 |
PaintCorrectionActive | true |
PaintCorrectionAmount | 1.000000 |
PaintCorrectionBrightness | -0.075000 |
PaintCorrectionClarity | 0.000000 |
PaintCorrectionContrast | 0.000000 |
PaintCorrectionExposure | 0.000000 |
PaintCorrectionHue | 5.000000 |
PaintCorrectionMaskCenterWeight | 0.000000 |
PaintCorrectionMaskFlow | 1.000000 |
PaintCorrectionMaskRadius | 0.301127 |
PaintCorrectionMaskValue | 1.000000 |
PaintCorrectionMaskWhat | Mask/Paint |
PaintCorrectionSaturation | 0.000000 |
PaintCorrectionSharpness | 0.000000 |
PaintCorrectionWhat | Correction |
ParametricDarks | +34 |
ParametricHighlights | 0 |
ParametricHighlightSplit | 75 |
ParametricLights | +11 |
ParametricMidtoneSplit | 50 |
ParametricShadows | -65 |
ParametricShadowSplit | 25 |
PhotometricInterpretation | RGB |
PlanarConfiguration | Chunky |
PostCropVignetteAmount | 0 |
ProfileDescription | Adobe RGB (1998) |
RedHue | 0 |
RedSaturation | 0 |
RowsPerStrip | 2112 |
SamplesPerPixel | 3 |
Saturation | -59 |
SaturationAdjustmentAqua | -18 |
SaturationAdjustmentBlue | +12 |
SaturationAdjustmentGreen | -82 |
SaturationAdjustmentMagenta | 0 |
SaturationAdjustmentOrange | 0 |
SaturationAdjustmentPurple | 0 |
SaturationAdjustmentRed | 0 |
SaturationAdjustmentYellow | 0 |
ScaleFactor35efl | 6.1 |
SceneCaptureType | Standard |
SensingMethod | One-chip color area |
Shadows | 4 |
ShadowTint | 0 |
SharpenDetail | 25 |
SharpenEdgeMasking | 0 |
SharpenRadius | +1.0 |
Sharpness | 7 |
ShutterSpeed | 1/320 |
ShutterSpeedValue | 1/320 |
SplitToningBalance | +100 |
SplitToningHighlightHue | 59 |
SplitToningHighlightSaturation | 8 |
SplitToningShadowHue | 241 |
SplitToningShadowSaturation | 6 |
StripByteCounts | 31502592 |
StripOffsets | 35460 |
SubfileType | Full-resolution Image |
Subject | konfirmasjon simen |
ToneCurve | 0, 0, 255, 255 |
ToneCurveName | Linear |
Version | 5.2 |
Vibrance | +36 |
VignetteAmount | -100 |
VignetteMidpoint | 50 |
WhiteBalance (1) | Custom |
WhiteBalance | Auto |