Felt | Verdi |
AlreadyApplied | True |
Aperture | 8.0 |
ApertureValue | 8.0 |
BitsPerSample | 8 |
BlueHue | 0 |
BlueSaturation | 0 |
Brightness | +50 |
CameraProfile | ACR 4.4 |
ChromaticAberrationB | 0 |
ChromaticAberrationR | 0 |
CircleOfConfusion | 0.030 mm |
Clarity | 0 |
ColorComponents | 3 |
ColorNoiseReduction | 25 |
ColorTemperature | 4950 |
Contrast | +25 |
ConvertToGrayscale | False |
CreateDate (1) | 2010:07:16 02:57:10+02:00 |
CreateDate | 2010:07:16 02:57:10 |
CreatorTool | Adobe Photoshop Lightroom |
CropAngle | 0 |
CropBottom | 1 |
CropHeight | 2000 |
CropLeft | 0.162791 |
CropRight | 0.813952 |
CropTop | 0 |
CropUnit | pixels |
CropWidth | 1953 |
CustomRendered | Normal |
DateTimeDigitized | 2010:07:16 02:57:10+02:00 |
DateTimeOriginal (1) | 2010:07:16 02:57:10+02:00 |
DateTimeOriginal | 2010:07:16 02:57:10 |
Defringe | 0 |
ExifImageHeight | 2000 |
ExifImageWidth | 1953 |
Exposure | +0.94 |
ExposureCompensation | +2/3 |
ExposureMode | Auto |
ExposureProgram | Aperture-priority AE |
ExposureTime | 1/320 |
FillLight | 0 |
Firmware | 1.1.0 |
Flash | Off, Did not fire |
FlashCompensation | 0 |
FlashFired | False |
FlashFunction | False |
FlashMode | Off |
FlashRedEyeMode | False |
FlashReturn | No return detection |
FNumber | 8.0 |
FocalLength | 24.0 mm |
FocalLength35efl | 24.0 mm (35 mm equivalent: 24.0 mm) |
FOV | 73.6 deg |
GradientBasedCorrActive | true |
GradientBasedCorrAmount | 1.000000 |
GradientBasedCorrBrightness (2) | 0.082353 |
GradientBasedCorrBrightness | 0.000000 |
GradientBasedCorrClarity (1) | -1.000000 |
GradientBasedCorrClarity (2) | -0.364706 |
GradientBasedCorrClarity | -0.552941 |
GradientBasedCorrContrast | 0.000000 |
GradientBasedCorrExposure (1) | 0.129412 |
GradientBasedCorrExposure (2) | 0.600000 |
GradientBasedCorrExposure | -0.223529 |
GradientBasedCorrHue | 50.000000 |
GradientBasedCorrMaskFullX (1) | 0.464839 |
GradientBasedCorrMaskFullX (2) | 0.871659 |
GradientBasedCorrMaskFullX | 0.480825 |
GradientBasedCorrMaskFullY (1) | 0.179094 |
GradientBasedCorrMaskFullY (2) | 1.001850 |
GradientBasedCorrMaskFullY | -0.001982 |
GradientBasedCorrMaskValue | 1.000000 |
GradientBasedCorrMaskWhat | Mask/Gradient |
GradientBasedCorrMaskZeroX (1) | 0.463601 |
GradientBasedCorrMaskZeroX (2) | 0.666298 |
GradientBasedCorrMaskZeroX | 0.480998 |
GradientBasedCorrMaskZeroY (1) | 0.733825 |
GradientBasedCorrMaskZeroY (2) | 0.742115 |
GradientBasedCorrMaskZeroY | 0.269504 |
GradientBasedCorrSaturation (1) | -0.035294 |
GradientBasedCorrSaturation | 0.250000 |
GradientBasedCorrSharpness | 0.000000 |
GradientBasedCorrWhat | Correction |
GreenHue | 0 |
GreenSaturation | 0 |
HasCrop | True |
HasSettings | True |
HighlightRecovery | 54 |
HueAdjustmentAqua | 0 |
HueAdjustmentBlue | 0 |
HueAdjustmentGreen | 0 |
HueAdjustmentMagenta | 0 |
HueAdjustmentOrange | 0 |
HueAdjustmentPurple | 0 |
HueAdjustmentRed | 0 |
HueAdjustmentYellow | 0 |
HyperfocalDistance | 2.40 m |
ImageHeight | 2000 |
ImageNumber | 63 |
ImageSize | 1953x2000 |
ImageWidth | 1953 |
ISO | 800 |
Lens | EF24-105mm f/4L IS USM |
LensInfo | 24-105mm f/? |
LightValue | 11.3 |
LuminanceAdjustmentAqua | 0 |
LuminanceAdjustmentBlue | 0 |
LuminanceAdjustmentGreen | 0 |
LuminanceAdjustmentMagenta | 0 |
LuminanceAdjustmentOrange | 0 |
LuminanceAdjustmentPurple | 0 |
LuminanceAdjustmentRed | 0 |
LuminanceAdjustmentYellow | 0 |
LuminanceSmoothing | 0 |
Make | Canon |
MaxApertureValue | 4.0 |
Megapixels | 3.9 |
MeteringMode | Multi-segment |
Model | Canon EOS 5D |
ModifyDate (1) | 2010:10:21 19:16:44+02:00 |
ModifyDate | 2010:10:21 19:16:44 |
PaintCorrectionActive | true |
PaintCorrectionAmount | 1.000000 |
PaintCorrectionBrightness | 0.000000 |
PaintCorrectionClarity | -0.152941 |
PaintCorrectionContrast | 0.000000 |
PaintCorrectionExposure | 0.364706 |
PaintCorrectionHue | 50.000000 |
PaintCorrectionMaskCenterWeight | 0.123503 |
PaintCorrectionMaskFlow | 0.557412 |
PaintCorrectionMaskRadius | 0.045010 |
PaintCorrectionMaskValue | 1.000000 |
PaintCorrectionMaskWhat | Mask/Paint |
PaintCorrectionSaturation (1) | -0.035294 |
PaintCorrectionSaturation | 0.250000 |
PaintCorrectionSharpness | 0.000000 |
PaintCorrectionWhat | Correction |
ParametricDarks | -2 |
ParametricHighlights | 0 |
ParametricHighlightSplit | 75 |
ParametricLights | 0 |
ParametricMidtoneSplit | 50 |
ParametricShadows | 0 |
ParametricShadowSplit | 25 |
PostCropVignetteAmount | +21 |
PostCropVignetteFeather | 50 |
PostCropVignetteMidpoint | 50 |
PostCropVignetteRoundness | 0 |
ProfileDescription | sRGB IEC61966-2.1 |
RedHue | 0 |
RedSaturation | 0 |
Saturation | -38 |
SaturationAdjustmentAqua | 0 |
SaturationAdjustmentBlue | 0 |
SaturationAdjustmentGreen | 0 |
SaturationAdjustmentMagenta | 0 |
SaturationAdjustmentOrange | 0 |
SaturationAdjustmentPurple | 0 |
SaturationAdjustmentRed | 0 |
SaturationAdjustmentYellow | 0 |
ScaleFactor35efl | 1.0 |
SceneCaptureType | Standard |
SerialNumber | 2721201972 |
Shadows | 32 |
ShadowTint | 0 |
SharpenDetail | 25 |
SharpenEdgeMasking | 0 |
SharpenRadius | +1.0 |
Sharpness | 25 |
ShutterSpeed | 1/320 |
ShutterSpeedValue | 1/320 |
SplitToningBalance | 0 |
SplitToningHighlightHue | 0 |
SplitToningHighlightSaturation | 0 |
SplitToningShadowHue | 0 |
SplitToningShadowSaturation | 0 |
Tint | +6 |
ToneCurve | 0, 0, 32, 22, 64, 56, 128, 128, 192, 196, 255, 255 |
ToneCurveName | Medium Contrast |
Version | 4.5 |
Vibrance | 0 |
VignetteAmount | +4 |
VignetteMidpoint | 53 |
WhiteBalance (2) | As Shot |
WhiteBalance | Auto |