Felt | Verdi |
AlreadyApplied | True |
Aperture | 9.0 |
ApertureValue | 9.0 |
BitsPerSample | 8 |
BlueHue | 0 |
BlueSaturation | 0 |
Brightness | +59 |
CameraProfile | ACR 4.4 |
ChromaticAberrationB | 0 |
ChromaticAberrationR | 0 |
CircleOfConfusion | 0.031 mm |
Clarity | +30 |
ColorComponents | 3 |
ColorMode | RGB |
ColorNoiseReduction | 41 |
ColorSpace | sRGB |
ColorTemperature | 2100 |
Contrast | +19 |
ConvertToGrayscale | False |
CreateDate (1) | 2010:12:09 21:00:48.93+01:00 |
CreateDate | 2010:12:09 21:00:48 |
CustomRendered | Normal |
DateTimeDigitized | 2010:12:09 21:00:48.93+01:00 |
DateTimeOriginal (1) | 2010:12:09 21:00:48.93+01:00 |
DateTimeOriginal | 2010:12:09 21:00:48 |
Defringe | 0 |
DOF | inf (1.04 m - inf) |
ExifImageHeight | 842 |
ExifImageWidth | 1475 |
Exposure | +0.35 |
ExposureCompensation | +2/3 |
ExposureMode | Auto |
ExposureProgram | Aperture-priority AE |
ExposureTime | 10 |
FillLight | 0 |
Firmware | 2.0.4 |
Flash | Off, Did not fire |
FlashCompensation | 0 |
FlashFired | False |
FlashFunction | False |
FlashMode | Off |
FlashRedEyeMode | False |
FlashReturn | No return detection |
FNumber | 9.0 |
FocalLength | 17.0 mm |
FocalLength35efl | 17.0 mm (35 mm equivalent: 16.6 mm) |
Format | image/jpeg |
FOV | 94.7 deg |
GreenHue | 0 |
GreenSaturation | 0 |
HasCrop | False |
HasSettings | True |
HighlightRecovery | 28 |
HueAdjustmentAqua | 0 |
HueAdjustmentBlue | 0 |
HueAdjustmentGreen | 0 |
HueAdjustmentMagenta | 0 |
HueAdjustmentOrange | 0 |
HueAdjustmentPurple | 0 |
HueAdjustmentRed | 0 |
HueAdjustmentYellow | 0 |
HyperfocalDistance | 1.04 m |
ICCProfileName | sRGB IEC61966-2.1 |
ImageHeight (1) | 4096 |
ImageHeight | 842 |
ImageNumber | 0 |
ImageSize | 1475x842 |
ImageWidth (1) | 6144 |
ImageWidth | 1475 |
ISO | 800 |
Lens | EF17-40mm f/4L USM |
LensID (1) | 231 |
LensID | Canon EF 17-40mm f/4L USM |
LensInfo | 17-40mm f/? |
LightValue | 0.0 |
LuminanceAdjustmentAqua | 0 |
LuminanceAdjustmentBlue | 0 |
LuminanceAdjustmentGreen | 0 |
LuminanceAdjustmentMagenta | 0 |
LuminanceAdjustmentOrange | 0 |
LuminanceAdjustmentPurple | 0 |
LuminanceAdjustmentRed | 0 |
LuminanceAdjustmentYellow | 0 |
LuminanceSmoothing | 80 |
Make | Canon |
MaxApertureValue | 4.0 |
Megapixels | 1.2 |
MeteringMode | Partial |
Model | Canon EOS 5D Mark II |
ModifyDate (1) | 2010:12:10 18:22:28+01:00 |
ModifyDate | 2010:12:10 18:22:28 |
Orientation | Horizontal (normal) |
ParametricDarks | 0 |
ParametricHighlights | 0 |
ParametricHighlightSplit | 75 |
ParametricLights | 0 |
ParametricMidtoneSplit | 50 |
ParametricShadows | 0 |
ParametricShadowSplit | 25 |
PostCropVignetteAmount | 0 |
ProfileDescription | sRGB IEC61966-2.1 |
Rating | 0 |
RawFileName | IMG_41882.CR2 |
RedHue | 0 |
RedSaturation | 0 |
Saturation | +21 |
SaturationAdjustmentAqua | 0 |
SaturationAdjustmentBlue | 0 |
SaturationAdjustmentGreen | +100 |
SaturationAdjustmentMagenta | 0 |
SaturationAdjustmentOrange | +100 |
SaturationAdjustmentPurple | +2 |
SaturationAdjustmentRed | +23 |
SaturationAdjustmentYellow | +4 |
ScaleFactor35efl | 1.0 |
SceneCaptureType | Standard |
SerialNumber | 330117967 |
Shadows | 4 |
ShadowTint | 0 |
SharpenDetail | 14 |
SharpenEdgeMasking | 60 |
SharpenRadius | +1.0 |
Sharpness | 80 |
ShutterSpeed | 10 |
ShutterSpeedValue | 10 |
Software | Adobe Photoshop CS4 Windows |
SplitToningBalance | 0 |
SplitToningHighlightHue | 0 |
SplitToningHighlightSaturation | 0 |
SplitToningShadowHue | 0 |
SplitToningShadowSaturation | 0 |
SubjectDistance | 4294967295 m |
Tint | +2 |
ToneCurve | 0, 0, 32, 22, 64, 56, 128, 128, 192, 196, 255, 255 |
ToneCurveName | Medium Contrast |
URL_List | |
Version | 5.6 |
Vibrance | +28 |
VignetteAmount | 0 |
WhiteBalance (2) | Custom |
WhiteBalance | Auto |