Felt | Verdi |
AlreadyApplied | True |
Aperture | 16.0 |
ApertureValue | 16.0 |
BitsPerSample | 8 |
BlueHue | 0 |
BlueSaturation | 0 |
Brightness | +28 |
CameraProfile | Matrix |
ChromaticAberrationB | 0 |
ChromaticAberrationR | 0 |
CircleOfConfusion | 0.031 mm |
Clarity | +30 |
ColorComponents | 3 |
ColorMode | RGB |
ColorNoiseReduction | 15 |
ColorSpace | sRGB |
ColorTemperature | 5300 |
Contrast | +47 |
ConvertToGrayscale | False |
CreateDate (1) | 2010:11:27 20:41:22.59+01:00 |
CreateDate | 2010:11:27 20:41:22 |
CustomRendered | Normal |
DateTimeDigitized | 2010:11:27 20:41:22.59+01:00 |
DateTimeOriginal (1) | 2010:11:27 20:41:22.59+01:00 |
DateTimeOriginal | 2010:11:27 20:41:22 |
Defringe | 0 |
DOF | 0.03 m (0.61 - 0.65 m) |
ExifImageHeight | 1092 |
ExifImageWidth | 936 |
Exposure | +0.10 |
ExposureCompensation | 0 |
ExposureMode | Manual |
ExposureProgram | Manual |
ExposureTime | 1/160 |
FillLight | 0 |
Firmware | 2.0.4 |
Flash | Off, Did not fire |
FlashCompensation | 0 |
FlashFired | False |
FlashFunction | False |
FlashMode | Off |
FlashRedEyeMode | False |
FlashReturn | No return detection |
FNumber | 16.0 |
FocalLength | 100.0 mm |
FocalLength35efl | 100.0 mm (35 mm equivalent: 97.6 mm) |
Format | image/jpeg |
FOV | 20.9 deg |
GreenHue | 0 |
GreenSaturation | 0 |
HasCrop | False |
HasSettings | True |
HighlightRecovery | 0 |
HueAdjustmentAqua | 0 |
HueAdjustmentBlue | 0 |
HueAdjustmentGreen | 0 |
HueAdjustmentMagenta | 0 |
HueAdjustmentOrange | 0 |
HueAdjustmentPurple | 0 |
HueAdjustmentRed | 0 |
HueAdjustmentYellow | 0 |
HyperfocalDistance | 20.30 m |
ICCProfileName | sRGB IEC61966-2.1 |
ImageHeight (1) | 6144 |
ImageHeight | 1092 |
ImageNumber | 0 |
ImageSize | 936x1092 |
ImageWidth (1) | 4096 |
ImageWidth | 936 |
ISO | 100 |
Lens | EF100mm f/2.8L Macro IS USM |
LensID (1) | 254 |
LensID | Canon EF 100mm f/2.8L Macro IS USM |
LensInfo | 100mm f/? |
LightValue | 15.3 |
LuminanceAdjustmentAqua | 0 |
LuminanceAdjustmentBlue | 0 |
LuminanceAdjustmentGreen | 0 |
LuminanceAdjustmentMagenta | 0 |
LuminanceAdjustmentOrange | 0 |
LuminanceAdjustmentPurple | 0 |
LuminanceAdjustmentRed | 0 |
LuminanceAdjustmentYellow | 0 |
LuminanceSmoothing | 20 |
Make | Canon |
MaxApertureValue | 2.8 |
Megapixels | 1.0 |
MeteringMode | Partial |
Model | Canon EOS 5D Mark II |
ModifyDate (1) | 2010:12:28 00:33:31+01:00 |
ModifyDate | 2010:12:28 00:33:31 |
Orientation | Horizontal (normal) |
ParametricDarks | 0 |
ParametricHighlights | 0 |
ParametricHighlightSplit | 75 |
ParametricLights | 0 |
ParametricMidtoneSplit | 50 |
ParametricShadows | 0 |
ParametricShadowSplit | 25 |
PostCropVignetteAmount | 0 |
ProfileDescription | sRGB IEC61966-2.1 |
Rating | 0 |
RawFileName | IMG_41380.CR2 |
RedHue | 0 |
RedSaturation | 0 |
Saturation | +5 |
SaturationAdjustmentAqua | 0 |
SaturationAdjustmentBlue | 0 |
SaturationAdjustmentGreen | 0 |
SaturationAdjustmentMagenta | 0 |
SaturationAdjustmentOrange | 0 |
SaturationAdjustmentPurple | 0 |
SaturationAdjustmentRed | 0 |
SaturationAdjustmentYellow | 0 |
ScaleFactor35efl | 1.0 |
SceneCaptureType | Standard |
SerialNumber | 330117967 |
Shadows | 15 |
ShadowTint | 0 |
SharpenDetail | 9 |
SharpenEdgeMasking | 60 |
SharpenRadius | +1.0 |
Sharpness | 80 |
ShutterSpeed | 1/160 |
ShutterSpeedValue | 1/160 |
Software | Adobe Photoshop CS4 Windows |
SplitToningBalance | 0 |
SplitToningHighlightHue | 0 |
SplitToningHighlightSaturation | 0 |
SplitToningShadowHue | 0 |
SplitToningShadowSaturation | 0 |
SubjectDistance | 0.63 m |
Tint | -24 |
ToneCurve | 0, 0, 32, 22, 64, 53, 128, 128, 192, 196, 255, 255 |
ToneCurveName | Custom |
URL_List | |
Version | 5.6 |
Vibrance | +10 |
VignetteAmount | 0 |
WhiteBalance (2) | Custom |
WhiteBalance | Auto |