Felt | Verdi |
AlreadyApplied | True |
Aperture | 11.0 |
ApertureValue | 11.0 |
BitsPerSample | 8 |
BlueHue | 0 |
BlueSaturation | 0 |
Brightness | +50 |
CameraProfile | Adobe Standard |
CFAPattern | [Green,Blue][Red,Green] |
ChromaticAberrationB | 0 |
ChromaticAberrationR | 0 |
CircleOfConfusion | 0.020 mm |
Clarity | 0 |
ColorComponents | 3 |
ColorMode | RGB |
ColorNoiseReduction | 25 |
ColorSpace | sRGB |
ColorTemperature | 4600 |
Contrast (2) | +25 |
Contrast | Normal |
ConvertToGrayscale | False |
CopyrightFlag | False |
CreateDate (1) | 2011:01:10 14:46:40+01:00 |
CreateDate | 2011:01:10 13:36:04 |
CreatorTool | Adobe Photoshop Elements 7.0 Windows |
CropAngle | 0 |
CropBottom | 0.994845 |
CropLeft | 0.09589 |
CropRight | 0.806507 |
CropTop | 0 |
CustomRendered | Normal |
DateTimeDigitized | 2011:01:10 13:36:04.50+01:00 |
DateTimeOriginal (1) | 2011:01:10 12:36:04Z |
DateTimeOriginal | 2011:01:10 12:36:04 |
Defringe | 0 |
DigitalZoomRatio | 1 |
ExifImageHeight | 2960 |
ExifImageWidth | 2767 |
Exposure | -0.20 |
ExposureCompensation | 0 |
ExposureMode | Manual |
ExposureProgram | Manual |
ExposureTime | 1/160 |
FillLight | 9 |
Flash | No Flash |
FlashFired | False |
FlashFunction | False |
FlashMode | Unknown |
FlashRedEyeMode | False |
FlashReturn | No return detection |
FNumber | 11.0 |
FocalLength | 240.0 mm |
FocalLength35efl | 240.0 mm (35 mm equivalent: 360.0 mm) |
FocalLengthIn35mmFormat | 360 mm |
Format | image/jpeg |
FOV | 5.7 deg |
GainControl | None |
GreenHue | 0 |
GreenSaturation | 0 |
HasCrop | True |
HasSettings | True |
HighlightRecovery | 0 |
HueAdjustmentAqua | 0 |
HueAdjustmentBlue | 0 |
HueAdjustmentGreen | 0 |
HueAdjustmentMagenta | 0 |
HueAdjustmentOrange | 0 |
HueAdjustmentPurple | 0 |
HueAdjustmentRed | 0 |
HueAdjustmentYellow | 0 |
HyperfocalDistance | 261.42 m |
ICCProfileName | sRGB IEC61966-2.1 |
ImageHeight | 2960 |
ImageNumber | 6649 |
ImageSize | 2767x2960 |
ImageWidth | 2767 |
ISO | 200 |
Lens | 55.0-300.0 mm f/4.5-5.6 |
LensInfo | 55-300mm f/4.5-5.6 |
LightSource | Unknown |
LightValue | 13.2 |
LuminanceAdjustmentAqua | 0 |
LuminanceAdjustmentBlue | 0 |
LuminanceAdjustmentGreen | 0 |
LuminanceAdjustmentMagenta | 0 |
LuminanceAdjustmentOrange | 0 |
LuminanceAdjustmentPurple | 0 |
LuminanceAdjustmentRed | 0 |
LuminanceAdjustmentYellow | 0 |
LuminanceSmoothing | 0 |
Make | NIKON CORPORATION |
MaxApertureValue | 5.5 |
Megapixels | 8.2 |
MeteringMode | Multi-segment |
Model | NIKON D5000 |
ModifyDate (1) | 2011:01:10 14:46:40+01:00 |
ModifyDate | 2011:01:10 14:46:40 |
Orientation | Horizontal (normal) |
ParametricDarks | 0 |
ParametricHighlights | 0 |
ParametricHighlightSplit | 75 |
ParametricLights | 0 |
ParametricMidtoneSplit | 50 |
ParametricShadows | 0 |
ParametricShadowSplit | 25 |
PostCropVignetteAmount | 0 |
ProfileDescription | sRGB IEC61966-2.1 |
Rating | 0 |
RawFileName | DSC_0227.NEF |
RedHue | 0 |
RedSaturation | 0 |
Saturation (2) | 0 |
Saturation | Normal |
SaturationAdjustmentAqua | 0 |
SaturationAdjustmentBlue | 0 |
SaturationAdjustmentGreen | 0 |
SaturationAdjustmentMagenta | 0 |
SaturationAdjustmentOrange | 0 |
SaturationAdjustmentPurple | 0 |
SaturationAdjustmentRed | 0 |
SaturationAdjustmentYellow | 0 |
ScaleFactor35efl | 1.5 |
SceneCaptureType | Standard |
SceneType | Directly photographed |
SensingMethod | One-chip color area |
SerialNumber | 6425855 |
Shadows | 4 |
ShadowTint | 0 |
SharpenDetail | 23 |
SharpenEdgeMasking | 4 |
SharpenRadius | +1.5 |
Sharpness (2) | 91 |
Sharpness | Normal |
ShutterSpeed | 1/160 |
ShutterSpeedValue | 1/160 |
SidecarForExtension | NEF |
Software | Adobe Photoshop Elements 7.0 Windows |
SplitToningBalance | 0 |
SplitToningHighlightHue | 0 |
SplitToningHighlightSaturation | 0 |
SplitToningShadowHue | 0 |
SplitToningShadowSaturation | 0 |
SubjectDistanceRange | Unknown |
Tint | -8 |
ToneCurve | 0, 0, 32, 22, 64, 56, 128, 128, 192, 196, 255, 255 |
ToneCurveName | Medium Contrast |
URL_List | |
Version | 5.5 |
Vibrance | 0 |
VignetteAmount | 0 |
WhiteBalance (2) | As Shot |
WhiteBalance | Auto |