Felt | Verdi |
AlreadyApplied | True |
Aperture | 6.3 |
ApertureValue | 6.3 |
ApproximateFocusDistance | 3.39 |
Artist | Eric Fagerheim |
BitsPerSample | 8 |
BlueHue | 0 |
BlueSaturation | 0 |
Brightness | +29 |
By-line | Eric Fagerheim |
CameraProfile | Embedded |
ChromaticAberrationB | 0 |
ChromaticAberrationR | 0 |
CircleOfConfusion | 0.031 mm |
Clarity | 0 |
ColorComponents | 3 |
ColorNoiseReduction | 0 |
Contrast | 0 |
ConvertToGrayscale | False |
Copyright | Din fotograf i Trondheim - Fotofashion |
CopyrightNotice | Din fotograf i Trondheim - Fotofashion |
CreateDate (1) | 2011:07:03 18:50:37.09 |
CreateDate | 2011:07:03 18:50:37 |
Creator | Eric Fagerheim |
CreatorTool | Adobe Photoshop Lightroom 3.4.1 |
CreatorWorkEmail | mail@fotofashion.no |
CreatorWorkURL | http://www.fotofashion.no |
CropAngle | 0.651053 |
CropBottom | 0.907735 |
CropConstrainToWarp | 0 |
CropHeight | 800 |
CropLeft | 0.013091 |
CropRight | 0.986909 |
CropTop | 0.132038 |
CropUnit | pixels |
CropWidth | 685 |
CustomRendered | Normal |
DateCreated (1) | 2011:07:03 |
DateCreated | 2011:07:03 18:50:37.009 |
DateTimeOriginal | 2011:07:03 18:50:37 |
Defringe | 0 |
DOF | 2.18 m (2.62 - 4.80 m) |
Exposure | -0.51 |
ExposureCompensation | 0 |
ExposureMode | Manual |
ExposureProgram | Manual |
ExposureTime | 1/60 |
FillLight | 6 |
Firmware | 2.0.9 |
Flash | Off, Did not fire |
FlashCompensation | 0 |
FNumber | 6.3 |
FocalLength | 47.0 mm |
FocalLength35efl | 47.0 mm (35 mm equivalent: 45.9 mm) |
Format | application/vnd.adobe.photoshop |
FOV | 42.9 deg |
GradientBasedCorrActive | true |
GradientBasedCorrAmount | 1.000000 |
GradientBasedCorrBrightness | 0.000000 |
GradientBasedCorrClarity | 0.000000 |
GradientBasedCorrContrast | 0.000000 |
GradientBasedCorrExposure (1) | -0.220000 |
GradientBasedCorrExposure | -0.049000 |
GradientBasedCorrHue | 0.000000 |
GradientBasedCorrMaskFullX (1) | 0.814742 |
GradientBasedCorrMaskFullX | 0.035854 |
GradientBasedCorrMaskFullY (1) | 0.642817 |
GradientBasedCorrMaskFullY | 0.464294 |
GradientBasedCorrMaskValue | 1.000000 |
GradientBasedCorrMaskWhat | Mask/Gradient |
GradientBasedCorrMaskZeroX (1) | 0.504970 |
GradientBasedCorrMaskZeroX | 0.292504 |
GradientBasedCorrMaskZeroY (1) | 0.291992 |
GradientBasedCorrMaskZeroY | 0.400764 |
GradientBasedCorrSaturation | 0.000000 |
GradientBasedCorrSharpness | 0.000000 |
GradientBasedCorrWhat | Correction |
GrainAmount | 0 |
GreenHue | 0 |
GreenSaturation | 0 |
HasCrop | True |
HasSettings | True |
Headline | Din fotograf i Trondheim - Fotofashion |
HighlightRecovery | 0 |
HueAdjustmentAqua | 0 |
HueAdjustmentBlue | 0 |
HueAdjustmentGreen | 0 |
HueAdjustmentMagenta | 0 |
HueAdjustmentOrange | 0 |
HueAdjustmentPurple | 0 |
HueAdjustmentRed | 0 |
HueAdjustmentYellow | 0 |
HyperfocalDistance | 11.39 m |
ImageHeight | 800 |
ImageNumber | 0 |
ImageSize | 685x800 |
ImageWidth | 685 |
IncrementalTemperature | -15 |
IncrementalTint | 0 |
ISO | 200 |
Keywords | bilde, fashion, foto, fotofashion, fotograf, fotograf trondheim, fotografi, location, shoot, trondheim |
Lens | EF24-105mm f/4L IS USM |
LensID (1) | 237 |
LensID | Canon EF 24-105mm f/4L IS USM |
LensInfo | 24-105mm f/? |
LensManualDistortionAmount | 0 |
LensModel | EF24-105mm f/4L IS USM |
LensProfileEnable | 0 |
LensProfileSetup | LensDefaults |
LightValue | 10.2 |
LuminanceAdjustmentAqua | 0 |
LuminanceAdjustmentBlue | 0 |
LuminanceAdjustmentGreen | 0 |
LuminanceAdjustmentMagenta | 0 |
LuminanceAdjustmentOrange | 0 |
LuminanceAdjustmentPurple | 0 |
LuminanceAdjustmentRed | -16 |
LuminanceAdjustmentYellow | 0 |
LuminanceSmoothing | 0 |
Make | Canon |
MaxApertureValue | 4.0 |
Megapixels | 0.548 |
MeteringMode | Center-weighted average |
Model | Canon EOS 5D Mark II |
ModifyDate (1) | 2011:07:03 22:18:53+02:00 |
ModifyDate | 2011:07:03 22:18:53 |
ObjectName | Din fotograf i Trondheim - Fotofashion |
ParametricDarks | -9 |
ParametricHighlights | 0 |
ParametricHighlightSplit | 75 |
ParametricLights | 0 |
ParametricMidtoneSplit | 50 |
ParametricShadows | -9 |
ParametricShadowSplit | 25 |
PerspectiveHorizontal | 0 |
PerspectiveRotate | 0.0 |
PerspectiveScale | 100 |
PerspectiveVertical | 0 |
PostCropVignetteAmount | 0 |
ProcessVersion | 5.7 |
ProfileDescription | sRGB IEC61966-2.1 |
Rating | 1 |
RedHue | 0 |
RedSaturation | 0 |
Rights | Din fotograf i Trondheim - Fotofashion |
Saturation | -66 |
SaturationAdjustmentAqua | 0 |
SaturationAdjustmentBlue | -7 |
SaturationAdjustmentGreen | 0 |
SaturationAdjustmentMagenta | 0 |
SaturationAdjustmentOrange | -16 |
SaturationAdjustmentPurple | 0 |
SaturationAdjustmentRed | -14 |
SaturationAdjustmentYellow | -16 |
ScaleFactor35efl | 1.0 |
SceneCaptureType | Standard |
SerialNumber | 1330823407 |
Shadows | 0 |
ShadowTint | 0 |
SharpenDetail | 25 |
SharpenEdgeMasking | 0 |
SharpenRadius | +1.0 |
Sharpness | 0 |
ShutterSpeed | 1/60 |
ShutterSpeedValue | 1/60 |
Software | Adobe Photoshop Lightroom 3.4.1 |
SplitToningBalance | 0 |
SplitToningHighlightHue | 27 |
SplitToningHighlightSaturation | 0 |
SplitToningShadowHue | 224 |
SplitToningShadowSaturation | 21 |
Subject | bilde, fashion, foto, fotofashion, fotograf, fotograf trondheim, fotografi, location, shoot, trondheim |
SubjectDistance | 3.39 m |
Title | Din fotograf i Trondheim - Fotofashion |
ToneCurve | 0, 0, 255, 255 |
ToneCurveName | Linear |
URL | http://www.fotofashion.no |
Version | 6.4.1 |
Vibrance | 0 |
VignetteAmount | -47 |
VignetteMidpoint | 50 |
WebStatement | http://www.fotofashion.no |
WhiteBalance (1) | Custom |
WhiteBalance | Auto |