Felt | Verdi |
AlreadyApplied | True |
Aperture | 2.8 |
ApertureValue | 2.8 |
Artist | Photographer: Leif Ingvald Skaug |
BitsPerSample | 8 |
BlueHue | 0 |
BlueSaturation | 0 |
Brightness | +24 |
By-line | Photographer: Leif Ingvald Skaug |
CameraProfile | Adobe Standard |
ChromaticAberrationB | 0 |
ChromaticAberrationR | 0 |
CircleOfConfusion | 0.031 mm |
Clarity | +73 |
ColorComponents | 3 |
ColorNoiseReduction | 25 |
ColorTemperature | 5450 |
Contrast | +74 |
ConvertToGrayscale | False |
Copyright | Copyright: Leif Ingvald Skaug |
CopyrightNotice | Copyright: Leif Ingvald Skaug |
CreateDate (1) | 2011:07:24 16:21:28.03+02:00 |
CreateDate | 2011:07:24 16:21:28 |
Creator | Photographer: Leif Ingvald Skaug |
CustomRendered | Normal |
DateTimeDigitized | 2011:07:24 16:21:28.03+02:00 |
DateTimeOriginal (1) | 2011:07:24 16:21:28.03+02:00 |
DateTimeOriginal | 2011:07:24 16:21:28 |
Defringe | 0 |
ExifImageHeight | 3744 |
ExifImageWidth | 5616 |
Exposure | -0.85 |
ExposureCompensation | 0 |
ExposureMode | Auto |
ExposureProgram | Program AE |
ExposureTime | 1/25 |
FillLight | 0 |
Firmware | 1.1.0 |
Flash | Off, Did not fire |
FlashCompensation | 0 |
FlashFired | False |
FlashFunction | False |
FlashMode | Off |
FlashRedEyeMode | False |
FlashReturn | No return detection |
FNumber | 2.8 |
FocalLength | 46.0 mm |
FocalLength35efl | 46.0 mm (35 mm equivalent: 44.9 mm) |
FOV | 43.7 deg |
GreenHue | 0 |
GreenSaturation | 0 |
HasCrop | False |
HasSettings | True |
HighlightRecovery | 0 |
HueAdjustmentAqua | 0 |
HueAdjustmentBlue | 0 |
HueAdjustmentGreen | 0 |
HueAdjustmentMagenta | 0 |
HueAdjustmentOrange | 0 |
HueAdjustmentPurple | 0 |
HueAdjustmentRed | 0 |
HueAdjustmentYellow | 0 |
HyperfocalDistance | 24.55 m |
ImageHeight | 3744 |
ImageNumber | 0 |
ImageSize | 5616x3744 |
ImageWidth | 5616 |
ISO | 200 |
Lens | EF24-70mm f/2.8L USM |
LensInfo | 24-70mm f/? |
LightValue | 6.6 |
LuminanceAdjustmentAqua | 0 |
LuminanceAdjustmentBlue | 0 |
LuminanceAdjustmentGreen | +2 |
LuminanceAdjustmentMagenta | 0 |
LuminanceAdjustmentOrange | 0 |
LuminanceAdjustmentPurple | 0 |
LuminanceAdjustmentRed | 0 |
LuminanceAdjustmentYellow | 0 |
LuminanceSmoothing | 0 |
Make | Canon |
MaxApertureValue | 2.8 |
Megapixels | 21.0 |
MeteringMode | Multi-segment |
Model | Canon EOS 5D Mark II |
ModifyDate (1) | 2011:07:24 23:22:08+02:00 |
ModifyDate | 2011:07:24 23:22:08 |
OwnerName | Leif Ingvald Skaug |
ParametricDarks | 0 |
ParametricHighlights | 0 |
ParametricHighlightSplit | 75 |
ParametricLights | 0 |
ParametricMidtoneSplit | 50 |
ParametricShadows | 0 |
ParametricShadowSplit | 25 |
PostCropVignetteAmount | 0 |
ProfileDescription | Adobe RGB (1998) |
RawFileName | _MG_9414.CR2 |
RedHue | 0 |
RedSaturation | 0 |
Rights | Copyright: Leif Ingvald Skaug |
Saturation | -78 |
SaturationAdjustmentAqua | 0 |
SaturationAdjustmentBlue | 0 |
SaturationAdjustmentGreen | +25 |
SaturationAdjustmentMagenta | 0 |
SaturationAdjustmentOrange | 0 |
SaturationAdjustmentPurple | 0 |
SaturationAdjustmentRed | 0 |
SaturationAdjustmentYellow | 0 |
ScaleFactor35efl | 1.0 |
SceneCaptureType | Standard |
SerialNumber | 530316835 |
Shadows | 26 |
ShadowTint | 0 |
SharpenDetail | 43 |
SharpenEdgeMasking | 0 |
SharpenRadius | +1.7 |
Sharpness | 91 |
ShutterSpeed | 1/25 |
ShutterSpeedValue | 1/25 |
SplitToningBalance | 0 |
SplitToningHighlightHue | 0 |
SplitToningHighlightSaturation | 0 |
SplitToningShadowHue | 0 |
SplitToningShadowSaturation | 0 |
Tint | -88 |
ToneCurve | 0, 0, 32, 22, 64, 56, 128, 128, 192, 196, 255, 255 |
ToneCurveName | Medium Contrast |
Version | 5.5 |
Vibrance | +52 |
VignetteAmount | -25 |
VignetteMidpoint | 0 |
WhiteBalance (2) | Custom |
WhiteBalance | Auto |