Felt | Verdi |
2011-09-18T15:31:33+02:00 File uke37.jpg saved
AlreadyApplied | True |
Aperture | 2.8 |
ApertureValue | 2.8 |
Artist | Photographer: Andreas Diederich |
As: Camera Raw
BitsPerSample | 8 |
Blacks: 5
Blue Hue: 0
Blue Saturation: 0
BlueHue | 0 |
BlueSaturation | 0 |
Brightness | +45 |
Brightness: 45
By-line | Photographer: Andreas Diederich |
Camera Profile: “Adobe Standard”
CameraProfile | Adobe Standard |
Chromatic Aberration B: 0
Chromatic Aberration R: 0
ChromaticAberrationB | 0 |
ChromaticAberrationR | 0 |
CircleOfConfusion | 0.031 mm |
Clarity | 0 |
Clarity: 0
Color Noise Reduction: 25
ColorComponents | 3 |
ColorMode | RGB |
ColorNoiseReduction | 25 |
ColorSpace | Uncalibrated |
ColorTemperature | 5350 |
Contrast | +46 |
Contrast: 46
ConvertToGrayscale | False |
Copyright | Copyright: Andreas Diederich |
CopyrightNotice | Copyright: Andreas Diederich |
CreateDate (1) | 2011:07:18 15:41:29.98+02:00 |
CreateDate | 2011:07:18 15:41:29 |
Creator | Photographer: Andreas Diederich |
Crop Angle: 0
Crop Bottom: 0,895
Crop Height: 3
Crop Left: 0
Crop Right: 0,895
Crop Top: 0
Crop Unit: Ratio
Crop Width: 2
CropAngle | 0 |
CropBottom | 0.89517 |
CropHeight | 3 |
CropLeft | 0 |
CropRight | 0.89517 |
CropTop | 0 |
CropUnit | Unknown (3) |
CropWidth | 2 |
CustomRendered | Normal |
DateTimeDigitized | 2011:07:18 15:41:29.98+02:00 |
DateTimeOriginal (1) | 2011:07:18 15:41:29.98+02:00 |
DateTimeOriginal | 2011:07:18 15:41:29 |
Defringe | 0 |
Defringe: 0
Depth: 8 Bits/channel
DOF | 0.39 m (4.87 - 5.26 m) |
ExifImageHeight | 620 |
ExifImageWidth | 930 |
Exposure | 0.00 |
Exposure: 0
ExposureCompensation | 0 |
ExposureMode | Auto |
ExposureProgram | Aperture-priority AE |
ExposureTime | 1/1600 |
Fill Light: 10
FillLight | 10 |
Firmware | 2.0.4 |
Flash | Off, Did not fire |
FlashCompensation | 0 |
FlashFired | False |
FlashFunction | False |
FlashMode | Off |
FlashRedEyeMode | False |
FlashReturn | No return detection |
FNumber | 2.8 |
FocalLength | 105.0 mm |
FocalLength35efl | 105.0 mm (35 mm equivalent: 102.5 mm) |
Format | image/jpeg |
FOV | 19.9 deg |
GrainAmount | 0 |
Green Hue: 0
Green Saturation: 0
GreenHue | 0 |
GreenSaturation | 0 |
HasCrop | True |
HasSettings | True |
HighlightRecovery | 35 |
Hue Adjust Aqua: 0
Hue Adjust Blue: 0
Hue Adjust Green: 0
Hue Adjust Magenta: 0
Hue Adjust Orange: 0
Hue Adjust Purple: 0
Hue Adjust Red: 0
Hue Adjust Yellow: 0
HueAdjustmentAqua | 0 |
HueAdjustmentBlue | 0 |
HueAdjustmentGreen | 0 |
HueAdjustmentMagenta | 0 |
HueAdjustmentOrange | 0 |
HueAdjustmentPurple | 0 |
HueAdjustmentRed | 0 |
HueAdjustmentYellow | 0 |
HyperfocalDistance | 127.89 m |
ICCProfileName | Adobe RGB (1998) |
Image Size
Image Size Width: 2100 pixels
Image Size Width: 930 pixels
ImageHeight | 620 |
ImageNumber | 0 |
ImageSize | 930x620 |
ImageWidth | 930 |
Interpolation: bicubic
ISO | 100 |
Lens | EF70-200mm f/2.8L IS II USM |
LensID (1) | 251 |
LensID | Canon EF 70-200mm f/2.8L IS II USM or Canon EF 70-200mm f/2.8L IS III USM |
LensInfo | 70-200mm f/? |
LightValue | 13.6 |
Local Adjustments: “”
Luminance Adjust Aqua: 0
Luminance Adjust Blue: 0
Luminance Adjust Green: 0
Luminance Adjust Magenta: 0
Luminance Adjust Orange: 0
Luminance Adjust Purple: 0
Luminance Adjust Red: 0
Luminance Adjust Yellow: 0
Luminance Smoothing: 0
LuminanceAdjustmentAqua | 0 |
LuminanceAdjustmentBlue | 0 |
LuminanceAdjustmentGreen | 0 |
LuminanceAdjustmentMagenta | 0 |
LuminanceAdjustmentOrange | 0 |
LuminanceAdjustmentPurple | 0 |
LuminanceAdjustmentRed | 0 |
LuminanceAdjustmentYellow | 0 |
LuminanceSmoothing | 0 |
Make | Canon |
Master Opacity Change
MaxApertureValue | 2.8 |
Megapixels | 0.577 |
Merge Visible
MeteringMode | Multi-segment |
Model | Canon EOS 5D Mark II |
Model: “Canon EOS 5D Mark II”
ModifyDate (1) | 2011:09:18 15:31:33+02:00 |
ModifyDate | 2011:09:18 15:31:33 |
Opacity: 0%
Opacity: 53%
Opacity: 62%
Open Macintosh HD:Users:adied:Pictures:2011:07-18_Frejetur:_MG_0260.CR2
Orientation | Horizontal (normal) |
Output Sharpen For: None
OwnerName | Andreas Diederich |
Parametric Darks: 0
Parametric Highlight Split: 75
Parametric Highlights: 0
Parametric Lights: 0
Parametric Midtone Split: 50
Parametric Shadow Split: 25
Parametric Shadows: 0
ParametricDarks | 0 |
ParametricHighlights | 0 |
ParametricHighlightSplit | 75 |
ParametricLights | 0 |
ParametricMidtoneSplit | 50 |
ParametricShadows | 0 |
ParametricShadowSplit | 25 |
Play action “A Better Web Sharpen” of set “TRA2 - The Revenge”
Play action “Lux (hard)” of set “TRA2 - The Revenge”
Play action “Pool Party” of set “TRA2 - The Revenge”
Post Crop Vignetting Amount: 0
PostCropVignetteAmount | 0 |
ProcessVersion | 5.0 |
ProfileDescription | Adobe RGB (1998) |
Rating | 0 |
RawFileName | _MG_0260.CR2 |
Recovery: 35
Red Eye: “”
Red Hue: 0
Red Saturation: 0
RedHue | 0 |
RedSaturation | 0 |
Resolution: 240
Rights | Copyright: Andreas Diederich |
Saturation Adjust Aqua: 0
Saturation Adjust Blue: 0
Saturation Adjust Green: 0
Saturation Adjust Magenta: 0
Saturation Adjust Orange: 0
Saturation Adjust Purple: 0
Saturation Adjust Red: 0
Saturation Adjust Yellow: 0
Saturation | 0 |
Saturation: 0
SaturationAdjustmentAqua | 0 |
SaturationAdjustmentBlue | 0 |
SaturationAdjustmentGreen | 0 |
SaturationAdjustmentMagenta | 0 |
SaturationAdjustmentOrange | 0 |
SaturationAdjustmentPurple | 0 |
SaturationAdjustmentRed | 0 |
SaturationAdjustmentYellow | 0 |
Scale: 1
ScaleFactor35efl | 1.0 |
SceneCaptureType | Standard |
SerialNumber | 1330808299 |
Set current layer To: layer
Settings: Custom
Shadow Tint: 0
Shadows | 5 |
ShadowTint | 0 |
Sharpen Amount: 25
Sharpen Detail: 25
Sharpen Masking: 0
Sharpen Radius: 1
SharpenDetail | 25 |
SharpenEdgeMasking | 0 |
SharpenRadius | +1.0 |
Sharpness | 25 |
ShutterSpeed | 1/1600 |
ShutterSpeedValue | 1/1600 |
SidecarForExtension | CR2 |
Software | Adobe Photoshop CS4 Macintosh |
Space: Adobe RGB (1998)
Split Tone Balance: 0
Split Tone Highlight Hue: 0
Split Tone Highlight Saturation: 0
Split Tone Shadow Hue: 0
Split Tone Shadow Saturation: 0
SplitToningBalance | 0 |
SplitToningHighlightHue | 0 |
SplitToningHighlightSaturation | 0 |
SplitToningShadowHue | 0 |
SplitToningShadowSaturation | 0 |
SubjectDistance | 5.06 m |
Tint | 0 |
Tone Curve: 0, 0, 32, 22, 64, 56, 128, 128, 192, 196, 255, 255
ToneCurve | 0, 0, 32, 22, 64, 56, 128, 128, 192, 196, 255, 255 |
ToneCurveName | Medium Contrast |
URL_List | |
Version | 5.7 |
Vibrance | +11 |
Vibrance: 11
VignetteAmount | -85 |
VignetteMidpoint | 5 |
Vignetting Amount: -85
Vignetting Midpoint: 5
White Balance: As Shot
WhiteBalance (2) | As Shot |
WhiteBalance | Auto |
With Constrain Proportions
With Scale Styles
Without Convert to Grayscale